Workbook
Name c_a: ANOVA!$A$1:$Q$160
Name c_m: LSM!$A$1:$T$370
Name VL_2020: 'Corn Traits & Entries'!$A$3:$H$33

Sheet Corn REC Location Info
A1: Table 1. Location information from University of Tennessee Institute of Agriculture (UTIA) AgResearch and Education Centers where corn hybrid tests were conducted in Tennessee in 2026.
A3: Early Season Corn Hybrids
A4: Location | B4: AgResearch and Education Center | C4: Irrigation | D4: Planting Date | E4: Harvest Date | F4: Plant Population | G4: Soil Type
A5: Column2 | B5: Column1 | C5: Column3 | D5: Column4 | E5: Column5 | F5: Column6 | G5: Column7
A6: Knoxville | B6: East Tennessee | C6: Irrigated | D6: 46129 | E6: 46280 | F6: 35563 | G6: Shady-Whitwell Complex
A7: Springfield | B7: Highland Rim | C7: Irrigated | D7: 46121 | E7: 46266 | F7: 31733 | G7: Sango Silt Loam
A8: Springfield | B8: Highland Rim | C8: Non-Irrigated | D8: 46121 | E8: 46266 | F8: 33860 | G8: Sango Silt Loam
A9: Spring Hill | B9: Middle Tennessee | C9: Non-Irrigated | D9: 46134 | E9: 46294 | F9: 29941 | G9: Maury Silt Loam
A10: Greeneville | B10: Northeast Tennessee | C10: Non-Irrigated | D10: 46135 | E10: 46283 | F10: 33627 | G10: Holston Loam
A11: Milan | B11: Milan | C11: Irrigated | D11: 46127 | E11: 46275 | F11: 34012 | G11: Loring
A12: Milan | B12: Milan | C12: Non-Irrigated | D12: 46126 | E12: 46276 | F12: 32746 | G12: Grenada
A13: Jackson | B13: West Tennessee | C13: Irrigated | D13: 46121 | E13: 46265 | F13: 33901 | G13: Almo
A14: Memphis | B14: Agricenter International | C14: Irrigated | G14: Falaya Silt Loam
A16: Medium Season Corn Hybrids
A17: Location | B17: AgResearch and Education Center | C17: Irrigation | D17: Planting Date | E17: Harvest Date | F17: Plant Population | G17: Soil Type
A19: Knoxville | B19: East Tennessee | C19: Irrigated | D19: 46129 | E19: 46280 | F19: 34782 | G19: Shady-Whitwell Complex
A20: Springfield | B20: Highland Rim | C20: Irrigated | D20: 46121 | E20: 46268 | F20: 33239 | G20: Sango Silt Loam
A21: Springfield | B21: Highland Rim | C21: Non-Irrigated | D21: 46121 | E21: 46266 | F21: 31146 | G21: Sango Silt Loam
A22: Spring Hill | B22: Middle Tennessee | C22: Non-Irrigated | D22: 46134 | E22: 46294 | F22: 32294 | G22: Maury Silt Loam
A23: Greeneville | B23: Northeast Tennessee | C23: Non-Irrigated | D23: 46135 | E23: 46286 | F23: 32400 | G23: Holston Loam
A24: Milan | B24: Milan | C24: Irrigated | D24: 46127 | E24: 46275 | F24: 33998 | G24: Loring
A25: Milan | B25: Milan | C25: Non-Irrigated | D25: 46126 | E25: 46276 | F25: 33815 | G25: Grenada
A26: Jackson | B26: West Tennessee | C26: Irrigated | D26: 46121 | E26: 46266 | F26: 34453 | G26: Almo
A27: Memphis | B27: Agricenter International | C27: Irrigated | G27: Falaya Silt Loam
A29: Full Season Corn Hybrids
A30: Location | B30: AgResearch and Education Center | C30: Irrigation | D30: Planting Date | E30: Harvest Date | F30: Plant Population | G30: Soil Type
A31: Knoxville | B31: East Tennessee | C31: Irrigated | D31: 46129 | E31: 46280 | F31: 34918 | G31: Shady-Whitwell Complex
A32: Springfield | B32: Highland Rim | C32: Irrigated | D32: 46121 | E32: 46273 | F32: 31680 | G32: Sango Silt Loam
A33: Springfield | B33: Highland Rim | C33: Non-Irrigated | D33: 46121 | E33: 46273 | F33: 31398 | G33: Sango Silt Loam
A34: Spring Hill | B34: Middle Tennessee | C34: Non-Irrigated | D34: 46134 | E34: 46294 | F34: 31903 | G34: Maury Silt Loam
A35: Greeneville | B35: Northeast Tennessee | C35: Non-Irrigated | D35: 46135 | E35: 46286 | F35: 32643 | G35: Holston Loam
A36: Milan | B36: Milan | C36: Irrigated | D36: 46127 | E36: 46275 | F36: 33871 | G36: Loring
A37: Milan | B37: Milan | C37: Non-Irrigated | D37: 46126 | E37: 46276 | F37: 33874 | G37: Grenada
A38: Jackson | B38: West Tennessee | C38: Irrigated | D38: 46121 | E38: 46266 | F38: 35253 | G38: Almo
A39: Memphis | B39: Agricenter International | C39: Irrigated | G39: Falaya Silt Loam

Sheet Corn Traits & Entries
B1: Table 16. Characteristics, as described by the seed company, of corn hybrids evaluated in yield tests in Tennessee during 2026.
A2: Entry | B2: Hybrid | C2: Herb. Pkg.§ | D2: Insect Pkg.§ | E2: Refuge | F2: Maturity | G2: Test | H2: Seed Treatment
A3: C26001 | B3: Dekalb DKC 112-12RIB | C3: RR | D3: TRE | E3: Y | F3: 112 | G3: Early Corn | H3: P500
A4: C26004 | B4: Dyna-Gro D50PN07RA | C4: RR, LL, ENL, FOP | D4: FOP | E4: Y | F4: 110 | G4: Early Corn | H4: Insecticide and fungicide
A5: C25018 | B5: Dyna-Gro D52TC66RIB | C5: RR | D5: TRE | E5: Y | F5: 112 | G5: Early Corn | H5: Insecticide and fungicide
A6: C25011 | B6: Great Heart HT-7210TRE | C6: TRE | D6: TRE | E6: Y | F6: 112 | G6: Early Corn | H6: PV500
A7: C25012 | B7: Great Heart HT-7335TRE | C7: TRE | D7: TRE | E7: Y | F7: 113 | G7: Early Corn | H7: PV500
A8: C26015 | B8: Innvictis A0904TRIB | C8: RR | D8: TRE | E8: Y | F8: 109 | G8: Early Corn | H8: Poncho 250
A9: C25014 | B9: Innvictis A1254T | C9: RR | D9: TRE | E9: N | F9: 112 | G9: Early Corn | H9: Poncho 250
A10: C24010 | B10: Innvictis A1312VT2P | C10: RR | D10: VT2P | E10: N | F10: 113 | G10: Early Corn | H10: Poncho 250
A11: C26018 | B11: Pioneer P10705PWE | C11: RR, LL, ENL, FOP | D11: VT2P, HX1 | E11: N | F11: 110 | G11: Early Corn | H11: Lumivia® 250 + Lumisure™ 250 + Lumialza™
A12: C26021 | B12: Revere 110-T50 | C12: RR | D12: TRE | F12: 110 | G12: Early Corn | H12: Radius 500
A13: C26022 | B13: Revere 113-T73 | C13: RR | D13: TRE | F13: 113 | G13: Early Corn | H13: Radius 500
A14: C25002 | B14: Dekalb DKC 114-99 | C14: RR | D14: VT4P | E14: N | F14: 114 | G14: Med Corn | H14: P1250
A15: C26002 | B15: Dekalb DKC 115-55 | C15: RR | D15: TRE | E15: N | F15: 115 | G15: Med Corn | H15: P1250
A16: C26005 | B16: Dyna-Gro D54TC77 | C16: RR | E16: N | F16: 114 | G16: Med Corn | H16: Insecticide and fungicide
A17: C26006 | B17: Dyna-Gro D55VC86RIB | C17: RR | E17: Y | F17: 115 | G17: Med Corn | H17: Insecticide and fungicide
A18: C26013 | B18: Gateway 4914TRE | C18: RR | D18: TRE | E18: N | F18: 114 | G18: Med Corn | H18: PV500
A19: C25015 | B19: Innvictis A1414T | C19: RR | D19: TRE | E19: N | F19: 114 | G19: Med Corn | H19: Poncho 250
A20: C26019 | B20: Pioneer P15395PWE | C20: RR, LL, ENL, FOP | D20: VT2P, HX1 | E20: N | F20: 115 | G20: Med Corn | H20: Lumivia® 250 + Lumisure™ 250 + Lumialza™
A21: C26020 | B21: Pioneer P16647PWE | C21: RR, LL, ENL, FOP | D21: VT2P, HX1 | E21: N | F21: 116 | G21: Med Corn | H21: Lumivia® 250 + Lumisure™ 250 + Lumialza™
A22: C26023 | B22: Revere 116-P44 | C22: RR | D22: VT2P | F22: 116 | G22: Med Corn | H22: Radius 500
A23: C25003 | B23: Dekalb DKC 119-30 | C23: RR | D23: VT4P | E23: N | F23: 119 | G23: Full Corn | H23: P1250
A24: C26003 | B24: Dekalb DKC68-35 | C24: RR | D24: GENVT2P | E24: N | F24: 118 | G24: Full Corn | H24: P1250
A25: C25024 | B25: Dyna-Gro D60TC45RIB | C25: RR | D25: TRE | E25: Y | F25: 120 | G25: Full Corn | H25: Insecticide and fungicide
A26: C26012 | B26: Gateway 3919TRE | C26: RR | D26: TRE | E26: N | F26: 119 | G26: Full Corn | H26: PV500
A27: C26014 | B27: Great Heart HT-7720TRE | C27: TRE | D27: TRE | E27: Y | F27: 117 | G27: Full Corn | H27: PV500
A28: C26016 | B28: Innvictis A1776VT2P | C28: RR | D28: VT2P | E28: N | F28: 117 | G28: Full Corn | H28: Poncho 250
A29: C24011 | B29: Innvictis A1792T | C29: RR | D29: TRE | E29: N | F29: 117 | G29: Full Corn | H29: Poncho 250
A30: C24012 | B30: Innvictis A1993T | C30: RR | D30: TRE | E30: N | F30: 119 | G30: Full Corn | H30: Poncho 250
A31: C26017 | B31: Integra 6915 VT2P | C31: RR | D31: VT2P | E31: N | F31: 119 | G31: Full Corn | H31: PV500+Stepup
A32: C25022 | B32: Pioneer P18216PWE | C32: RR, LL, ENL, FOP | D32: VT2P, HX1 | E32: N | F32: 118 | G32: Full Corn | H32: Lumivia® 250 + Lumisure™ 250 + Lumialza™
A33: C26024 | B33: Revere 1839 | C33: RR | D33: TRE | F33: 118 | G33: Full Corn | H33: Radius 500

Sheet Corn Trait Abbr
A1: Table 18. Abbreviations used to identify biotech traits of corn grain hybrids evaluated in Tennessee during 2026.
A2: Abbreviation | B2: Name | C2: Characteristic
A3: Column1 | B3: Column2 | C3: Column3
A4: AVBL | B4: Agrisure 3000GT | C4: Protection from corn earworm, European corn borer, sugarcane borer, southwestern corn borer, corn rootworm. Glyphosate and glufosinate tolerance.
A5: BT | B5: Bacillus Thuringiensis | C5: Varies
A6: CB | B6: Corn Borer | C6: Protection from corn borer
A7: ENL | B7: Enlist | C7: Tolerance to 2,4-D, glyphosate, glufosinate, and FOPs
A8: FOP | B8: FOP | C8: FOP herbicide tolerance
A9: HX1 | B9: DowAgrosciences Pioneer Hi-Bred Herculex I | C9: Protection from western bean cutworm, corn borer, black cutworm and fall armyworm resistance. Glyphosate and glufosinate tolerance.
A10: LL | B10: LibertyLink | C10: Glufosinate tolerance
A11: PWE | B11: PowerCorn Enlist | C11: Protection from European corn borer, fall armywork, and Southwestern corn borer. Tolerance to 2,4-D, glyphosate, glufosinate, and FOPs
A12: RR, RR2, GT | B12: Roundup Ready, Roundup Ready 2 | C12: Glyphosate tolerance
A13: TRE | B13: Trecepta | C13: Protection from black cutworm, corn earworm, European corn borer, fall armyworm, stalk borer, sugarcane borer, southwestern corn borer, true armyworm, western bean cutworm. Glyphosate tolerance.
... A16: YGCB | B16: Monsanto YieldGard Corn Borer | C16: Protection from European and Southwestern Corn Borers, Sugarcane Borer and Southern Cornstalk Borer.

Sheet Corn Company Contacts
A1: Table 17. Contact information for corn hybrid seed companies evaluated in yield tests in Tennessee during 2026.
A2: Brand / Company | B2: Contact | C2: Phone | D2: Email | E2: Web site
A3: Dekalb (Bayer Crop Science) | B3: James Griffin | C3: 731-413-9825 | D3: james.griffin1@bayer.com | E3: www.cropscience.bayer.us/brands/dekalb
A4: Dyna-Gro Seed (Nutrien Ag Solutions) | B4: Brock Sargeant | C4: 270-881-3003 | D4: brock.sargeant@nutrien.com | E4: www.dynagroseed.com
A5: Gateway Seed | B5: Scott Patton | C5: 870-995-1226 | D5: scottie@gatewayseed.com | E5: gatewayseed.com
A6: Great Heart Seed | B6: David Lucas | C6: 217-737-6745 | D6: dave.lucas772@gmail.com | E6: www.greatheartseed.com
A7: Innvictis Seed Solutions | B7: Chris Main | C7: 986-256-2211 | D7: chris.main@simplot.com | E7: www.innvictis.com
A8: Integra | B8: Nich Chammoun | C8: 229-854-0524 | D8: nchammoun@cniag.com | E8: www.integraseed.com
A9: Pioneer (Vylor) | B9: Kyle Holmberg | C9: 317-671-1719 | D9: kyle.holmberg@vylor.com | E9: www.pioneer.com
A10: Revere Seed | B10: Reed Trusty | C10: 662-299-3205 | D10: reed,trusty@revereseed.com | E10: www.revereseed.com

Sheet Early Corn Avg
A1: Table 4. Mean yield and agronomic traits of 11 early-season (<114 DAP) corn hybrids evaluated in small plot replicated trials at eight AgResearch and Education Center locations in Tennessee during 2026.
A2: Hybrid† | B2: Herbicide Pkg‡ | C2: Insect Pkg.‡ | E2: Avg. Yield§ (bu/ac) | G2: Moisture at Harvest (%) | I2: Test Weight (lbs/bu) | K2: Plant Height (in.) | M2: Ear Height (in.) | O2: Lodging¶ (%) | P2: Protein‖ (%) | R2: Oil‖ (%) | T2: Starch‖ (%)
E3: YLD_1 | G3: MST_1 | I3: TW_1 | K3: PHGT_1 | M3: EHGT_1 | O3: Lodg_1 | P3: Prot_1 | R3: Oil_1 | T3: Star_1
E4: A | G4: A | I4: A | K4: A | M4: A | O4: A | P4: A | R4: A | T4: A
E5: Early | G5: Early | I5: Early | K5: Early | M5: Early | O5: Early | P5: Early | R5: Early | T5: Early
A6: =VLOOKUP(D6,VL_2020,2,FALSE) -> Dekalb DKC 112-12RIB | B6: =VLOOKUP(D6,VL_2020,3,FALSE) -> RR | C6: =VLOOKUP(D6,VL_2020,4,FALSE) -> TRE | D6: C26001 | E6: {=_xlfn.XLOOKUP(1,(LSM!$A$2:$A$370=E$4)*(LSM!$T$2:$T$370=E$5)*(LSM!$B$2:$B$370=$D6),LSM!$C$2:$C$370,"")} -> 241.25 | F6: {=_xlfn.XLOOKUP(1,(LSM!$A$2:$A$370=E$4)*(LSM!$T$2:$T$370=E$5)*(LSM!$B$2:$B$370=$D6),LSM!$D$2:$D$370,"")} -> A | G6: {=_xlfn.XLOOKUP(1,(LSM!$A$2:$A$370=G$4)*(LSM!$T$2:$T$370=G$5)*(LSM!$B$2:$B$370=$D6),LSM!$E$2:$E$370,"")} -> 15.8842 | H6: {=_xlfn.XLOOKUP(1,(LSM!$A$2:$A$370=G$4)*(LSM!$T$2:$T$370=G$5)*(LSM!$B$2:$B$370=$D6),LSM!$F$2:$F$370,"")} -> B-D | I6: {=_xlfn.XLOOKUP(1,(LSM!$A$2:$A$370=I$4)*(LSM!$T$2:$T$370=I$5)*(LSM!$B$2:$B$370=$D6),LSM!$L$2:$L$370,"")} -> 58.9722 | J6: {=_xlfn.XLOOKUP(1,(LSM!$A$2:$A$370=I$4)*(LSM!$T$2:$T$370=I$5)*(LSM!$B$2:$B$370=$D6),LSM!$M$2:$M$370,"")} -> AB | K6: {=_xlfn.XLOOKUP(1,(LSM!$A$2:$A$370=K$4)*(LSM!$T$2:$T$370=K$5)*(LSM!$B$2:$B$370=$D6),LSM!$G$2:$G$370,"")} -> 100.63 | L6: {=_xlfn.XLOOKUP(1,(LSM!$A$2:$A$370=K$4)*(LSM!$T$2:$T$370=K$5)*(LSM!$B$2:$B$370=$D6),LSM!$H$2:$H$370,"")} -> C-E | M6: {=_xlfn.XLOOKUP(1,(LSM!$A$2:$A$370=M$4)*(LSM!$T$2:$T$370=M$5)*(LSM!$B$2:$B$370=$D6),LSM!$I$2:$I$370,"")} -> 40.7778 | N6: {=_xlfn.XLOOKUP(1,(LSM!$A$2:$A$370=M$4)*(LSM!$T$2:$T$370=M$5)*(LSM!$B$2:$B$370=$D6),LSM!$J$2:$J$370,"")} -> C-F | O6: {=_xlfn.XLOOKUP(1,(LSM!$A$2:$A$370=O$4)*(LSM!$T$2:$T$370=O$5)*(LSM!$B$2:$B$370=$D6),LSM!$K$2:$K$370,"")} -> 0.51286488 | P6: {=_xlfn.XLOOKUP(1,(LSM!$A$2:$A$370=P$4)*(LSM!$T$2:$T$370=P$5)*(LSM!$B$2:$B$370=$D6),LSM!$N$2:$N$370,"")} -> 10.9901 | Q6: {=_xlfn.XLOOKUP(1,(LSM!$A$2:$A$370=P$4)*(LSM!$T$2:$T$370=P$5)*(LSM!$B$2:$B$370=$D6),LSM!$O$2:$O$370,"")} -> A | R6: {=_xlfn.XLOOKUP(1,(LSM!$A$2:$A$370=R$4)*(LSM!$T$2:$T$370=R$5)*(LSM!$B$2:$B$370=$D6),LSM!$P$2:$P$370,"")} -> 4.1523 | S6: {=_xlfn.XLOOKUP(1,(LSM!$A$2:$A$370=R$4)*(LSM!$T$2:$T$370=R$5)*(LSM!$B$2:$B$370=$D6),LSM!$Q$2:$Q$370,"")} -> A | T6: {=_xlfn.XLOOKUP(1,(LSM!$A$2:$A$370=T$4)*(LSM!$T$2:$T$370=T$5)*(LSM!$B$2:$B$370=$D6),LSM!$R$2:$R$370,"")} -> 84.9079 | U6: {=_xlfn.XLOOKUP(1,(LSM!$A$2:$A$370=T$4)*(LSM!$T$2:$T$370=T$5)*(LSM!$B$2:$B$370=$D6),LSM!$S$2:$S$370,"")} -> D-F
A7: =VLOOKUP(D7,VL_2020,2,FALSE) -> Great Heart HT-7335TRE | B7: =VLOOKUP(D7,VL_2020,3,FALSE) -> TRE | C7: =VLOOKUP(D7,VL_2020,4,FALSE) -> TRE | D7: C25012 | E7: {=_xlfn.XLOOKUP(1,(LSM!$A$2:$A$370=E$4)*(LSM!$T$2:$T$370=E$5)*(LSM!$B$2:$B$370=$D7),LSM!$C$2:$C$370,"")} -> 240.81 | F7: {=_xlfn.XLOOKUP(1,(LSM!$A$2:$A$370=E$4)*(LSM!$T$2:$T$370=E$5)*(LSM!$B$2:$B$370=$D7),LSM!$D$2:$D$370,"")} -> A | G7: {=_xlfn.XLOOKUP(1,(LSM!$A$2:$A$370=G$4)*(LSM!$T$2:$T$370=G$5)*(LSM!$B$2:$B$370=$D7),LSM!$E$2:$E$370,"")} -> 16.1733 | H7: {=_xlfn.XLOOKUP(1,(LSM!$A$2:$A$370=G$4)*(LSM!$T$2:$T$370=G$5)*(LSM!$B$2:$B$370=$D7),LSM!$F$2:$F$370,"")} -> B | I7: {=_xlfn.XLOOKUP(1,(LSM!$A$2:$A$370=I$4)*(LSM!$T$2:$T$370=I$5)*(LSM!$B$2:$B$370=$D7),LSM!$L$2:$L$370,"")} -> 59.75 | J7: {=_xlfn.XLOOKUP(1,(LSM!$A$2:$A$370=I$4)*(LSM!$T$2:$T$370=I$5)*(LSM!$B$2:$B$370=$D7),LSM!$M$2:$M$370,"")} -> A | K7: {=_xlfn.XLOOKUP(1,(LSM!$A$2:$A$370=K$4)*(LSM!$T$2:$T$370=K$5)*(LSM!$B$2:$B$370=$D7),LSM!$G$2:$G$370,"")} -> 104.78 | L7: {=_xlfn.XLOOKUP(1,(LSM!$A$2:$A$370=K$4)*(LSM!$T$2:$T$370=K$5)*(LSM!$B$2:$B$370=$D7),LSM!$H$2:$H$370,"")} -> AB | M7: {=_xlfn.XLOOKUP(1,(LSM!$A$2:$A$370=M$4)*(LSM!$T$2:$T$370=M$5)*(LSM!$B$2:$B$370=$D7),LSM!$I$2:$I$370,"")} -> 43.2778 | N7: {=_xlfn.XLOOKUP(1,(LSM!$A$2:$A$370=M$4)*(LSM!$T$2:$T$370=M$5)*(LSM!$B$2:$B$370=$D7),LSM!$J$2:$J$370,"")} -> BC | O7: {=_xlfn.XLOOKUP(1,(LSM!$A$2:$A$370=O$4)*(LSM!$T$2:$T$370=O$5)*(LSM!$B$2:$B$370=$D7),LSM!$K$2:$K$370,"")} -> 0.19676527 | P7: {=_xlfn.XLOOKUP(1,(LSM!$A$2:$A$370=P$4)*(LSM!$T$2:$T$370=P$5)*(LSM!$B$2:$B$370=$D7),LSM!$N$2:$N$370,"")} -> 10.927 | Q7: {=_xlfn.XLOOKUP(1,(LSM!$A$2:$A$370=P$4)*(LSM!$T$2:$T$370=P$5)*(LSM!$B$2:$B$370=$D7),LSM!$O$2:$O$370,"")} -> A | R7: {=_xlfn.XLOOKUP(1,(LSM!$A$2:$A$370=R$4)*(LSM!$T$2:$T$370=R$5)*(LSM!$B$2:$B$370=$D7),LSM!$P$2:$P$370,"")} -> 4.3101 | S7: {=_xlfn.XLOOKUP(1,(LSM!$A$2:$A$370=R$4)*(LSM!$T$2:$T$370=R$5)*(LSM!$B$2:$B$370=$D7),LSM!$Q$2:$Q$370,"")} -> A | T7: {=_xlfn.XLOOKUP(1,(LSM!$A$2:$A$370=T$4)*(LSM!$T$2:$T$370=T$5)*(LSM!$B$2:$B$370=$D7),LSM!$R$2:$R$370,"")} -> 86.1185 | U7: {=_xlfn.XLOOKUP(1,(LSM!$A$2:$A$370=T$4)*(LSM!$T$2:$T$370=T$5)*(LSM!$B$2:$B$370=$D7),LSM!$S$2:$S$370,"")} -> BC
A8: =VLOOKUP(D8,VL_2020,2,FALSE) -> Revere 113-T73 | B8: =VLOOKUP(D8,VL_2020,3,FALSE) -> RR | C8: =VLOOKUP(D8,VL_2020,4,FALSE) -> TRE | D8: C26022 | E8: {=_xlfn.XLOOKUP(1,(LSM!$A$2:$A$370=E$4)*(LSM!$T$2:$T$370=E$5)*(LSM!$B$2:$B$370=$D8),LSM!$C$2:$C$370,"")} -> 239.39 | F8: {=_xlfn.XLOOKUP(1,(LSM!$A$2:$A$370=E$4)*(LSM!$T$2:$T$370=E$5)*(LSM!$B$2:$B$370=$D8),LSM!$D$2:$D$370,"")} -> A | G8: {=_xlfn.XLOOKUP(1,(LSM!$A$2:$A$370=G$4)*(LSM!$T$2:$T$370=G$5)*(LSM!$B$2:$B$370=$D8),LSM!$E$2:$E$370,"")} -> 15.8492 | H8: {=_xlfn.XLOOKUP(1,(LSM!$A$2:$A$370=G$4)*(LSM!$T$2:$T$370=G$5)*(LSM!$B$2:$B$370=$D8),LSM!$F$2:$F$370,"")} -> B-D | I8: {=_xlfn.XLOOKUP(1,(LSM!$A$2:$A$370=I$4)*(LSM!$T$2:$T$370=I$5)*(LSM!$B$2:$B$370=$D8),LSM!$L$2:$L$370,"")} -> 58.0444 | J8: {=_xlfn.XLOOKUP(1,(LSM!$A$2:$A$370=I$4)*(LSM!$T$2:$T$370=I$5)*(LSM!$B$2:$B$370=$D8),LSM!$M$2:$M$370,"")} -> BC | K8: {=_xlfn.XLOOKUP(1,(LSM!$A$2:$A$370=K$4)*(LSM!$T$2:$T$370=K$5)*(LSM!$B$2:$B$370=$D8),LSM!$G$2:$G$370,"")} -> 104.65 | L8: {=_xlfn.XLOOKUP(1,(LSM!$A$2:$A$370=K$4)*(LSM!$T$2:$T$370=K$5)*(LSM!$B$2:$B$370=$D8),LSM!$H$2:$H$370,"")} -> AB | M8: {=_xlfn.XLOOKUP(1,(LSM!$A$2:$A$370=M$4)*(LSM!$T$2:$T$370=M$5)*(LSM!$B$2:$B$370=$D8),LSM!$I$2:$I$370,"")} -> 42.4074 | N8: {=_xlfn.XLOOKUP(1,(LSM!$A$2:$A$370=M$4)*(LSM!$T$2:$T$370=M$5)*(LSM!$B$2:$B$370=$D8),LSM!$J$2:$J$370,"")} -> B-D | O8: {=_xlfn.XLOOKUP(1,(LSM!$A$2:$A$370=O$4)*(LSM!$T$2:$T$370=O$5)*(LSM!$B$2:$B$370=$D8),LSM!$K$2:$K$370,"")} -> 0.74146751 | P8: {=_xlfn.XLOOKUP(1,(LSM!$A$2:$A$370=P$4)*(LSM!$T$2:$T$370=P$5)*(LSM!$B$2:$B$370=$D8),LSM!$N$2:$N$370,"")} -> 11.6604 | Q8: {=_xlfn.XLOOKUP(1,(LSM!$A$2:$A$370=P$4)*(LSM!$T$2:$T$370=P$5)*(LSM!$B$2:$B$370=$D8),LSM!$O$2:$O$370,"")} -> A | R8: {=_xlfn.XLOOKUP(1,(LSM!$A$2:$A$370=R$4)*(LSM!$T$2:$T$370=R$5)*(LSM!$B$2:$B$370=$D8),LSM!$P$2:$P$370,"")} -> 4.3692 | S8: {=_xlfn.XLOOKUP(1,(LSM!$A$2:$A$370=R$4)*(LSM!$T$2:$T$370=R$5)*(LSM!$B$2:$B$370=$D8),LSM!$Q$2:$Q$370,"")} -> A | T8: {=_xlfn.XLOOKUP(1,(LSM!$A$2:$A$370=T$4)*(LSM!$T$2:$T$370=T$5)*(LSM!$B$2:$B$370=$D8),LSM!$R$2:$R$370,"")} -> 84.7777 | U8: {=_xlfn.XLOOKUP(1,(LSM!$A$2:$A$370=T$4)*(LSM!$T$2:$T$370=T$5)*(LSM!$B$2:$B$370=$D8),LSM!$S$2:$S$370,"")} -> EF
A9: =VLOOKUP(D9,VL_2020,2,FALSE) -> Dyna-Gro D52TC66RIB | B9: =VLOOKUP(D9,VL_2020,3,FALSE) -> RR | C9: =VLOOKUP(D9,VL_2020,4,FALSE) -> TRE | D9: C25018 | E9: {=_xlfn.XLOOKUP(1,(LSM!$A$2:$A$370=E$4)*(LSM!$T$2:$T$370=E$5)*(LSM!$B$2:$B$370=$D9),LSM!$C$2:$C$370,"")} -> 238.38 | F9: {=_xlfn.XLOOKUP(1,(LSM!$A$2:$A$370=E$4)*(LSM!$T$2:$T$370=E$5)*(LSM!$B$2:$B$370=$D9),LSM!$D$2:$D$370,"")} -> A | G9: {=_xlfn.XLOOKUP(1,(LSM!$A$2:$A$370=G$4)*(LSM!$T$2:$T$370=G$5)*(LSM!$B$2:$B$370=$D9),LSM!$E$2:$E$370,"")} -> 15.2154 | H9: {=_xlfn.XLOOKUP(1,(LSM!$A$2:$A$370=G$4)*(LSM!$T$2:$T$370=G$5)*(LSM!$B$2:$B$370=$D9),LSM!$F$2:$F$370,"")} -> B-E | I9: {=_xlfn.XLOOKUP(1,(LSM!$A$2:$A$370=I$4)*(LSM!$T$2:$T$370=I$5)*(LSM!$B$2:$B$370=$D9),LSM!$L$2:$L$370,"")} -> 59.4111 | J9: {=_xlfn.XLOOKUP(1,(LSM!$A$2:$A$370=I$4)*(LSM!$T$2:$T$370=I$5)*(LSM!$B$2:$B$370=$D9),LSM!$M$2:$M$370,"")} -> A | K9: {=_xlfn.XLOOKUP(1,(LSM!$A$2:$A$370=K$4)*(LSM!$T$2:$T$370=K$5)*(LSM!$B$2:$B$370=$D9),LSM!$G$2:$G$370,"")} -> 100.98 | L9: {=_xlfn.XLOOKUP(1,(LSM!$A$2:$A$370=K$4)*(LSM!$T$2:$T$370=K$5)*(LSM!$B$2:$B$370=$D9),LSM!$H$2:$H$370,"")} -> B-E | M9: {=_xlfn.XLOOKUP(1,(LSM!$A$2:$A$370=M$4)*(LSM!$T$2:$T$370=M$5)*(LSM!$B$2:$B$370=$D9),LSM!$I$2:$I$370,"")} -> 39.7593 | N9: {=_xlfn.XLOOKUP(1,(LSM!$A$2:$A$370=M$4)*(LSM!$T$2:$T$370=M$5)*(LSM!$B$2:$B$370=$D9),LSM!$J$2:$J$370,"")} -> EF | O9: {=_xlfn.XLOOKUP(1,(LSM!$A$2:$A$370=O$4)*(LSM!$T$2:$T$370=O$5)*(LSM!$B$2:$B$370=$D9),LSM!$K$2:$K$370,"")} -> 0.33145294 | P9: {=_xlfn.XLOOKUP(1,(LSM!$A$2:$A$370=P$4)*(LSM!$T$2:$T$370=P$5)*(LSM!$B$2:$B$370=$D9),LSM!$N$2:$N$370,"")} -> 11.1123 | Q9: {=_xlfn.XLOOKUP(1,(LSM!$A$2:$A$370=P$4)*(LSM!$T$2:$T$370=P$5)*(LSM!$B$2:$B$370=$D9),LSM!$O$2:$O$370,"")} -> A | R9: {=_xlfn.XLOOKUP(1,(LSM!$A$2:$A$370=R$4)*(LSM!$T$2:$T$370=R$5)*(LSM!$B$2:$B$370=$D9),LSM!$P$2:$P$370,"")} -> 4.1839 | S9: {=_xlfn.XLOOKUP(1,(LSM!$A$2:$A$370=R$4)*(LSM!$T$2:$T$370=R$5)*(LSM!$B$2:$B$370=$D9),LSM!$Q$2:$Q$370,"")} -> A | T9: {=_xlfn.XLOOKUP(1,(LSM!$A$2:$A$370=T$4)*(LSM!$T$2:$T$370=T$5)*(LSM!$B$2:$B$370=$D9),LSM!$R$2:$R$370,"")} -> 86.1263 | U9: {=_xlfn.XLOOKUP(1,(LSM!$A$2:$A$370=T$4)*(LSM!$T$2:$T$370=T$5)*(LSM!$B$2:$B$370=$D9),LSM!$S$2:$S$370,"")} -> BC
A10: =VLOOKUP(D10,VL_2020,2,FALSE) -> Innvictis A1254T | B10: =VLOOKUP(D10,VL_2020,3,FALSE) -> RR | C10: =VLOOKUP(D10,VL_2020,4,FALSE) -> TRE | D10: C25014 | E10: {=_xlfn.XLOOKUP(1,(LSM!$A$2:$A$370=E$4)*(LSM!$T$2:$T$370=E$5)*(LSM!$B$2:$B$370=$D10),LSM!$C$2:$C$370,"")} -> 236.92 | F10: {=_xlfn.XLOOKUP(1,(LSM!$A$2:$A$370=E$4)*(LSM!$T$2:$T$370=E$5)*(LSM!$B$2:$B$370=$D10),LSM!$D$2:$D$370,"")} -> A | G10: {=_xlfn.XLOOKUP(1,(LSM!$A$2:$A$370=G$4)*(LSM!$T$2:$T$370=G$5)*(LSM!$B$2:$B$370=$D10),LSM!$E$2:$E$370,"")} -> 15.1758 | H10: {=_xlfn.XLOOKUP(1,(LSM!$A$2:$A$370=G$4)*(LSM!$T$2:$T$370=G$5)*(LSM!$B$2:$B$370=$D10),LSM!$F$2:$F$370,"")} -> C-E | I10: {=_xlfn.XLOOKUP(1,(LSM!$A$2:$A$370=I$4)*(LSM!$T$2:$T$370=I$5)*(LSM!$B$2:$B$370=$D10),LSM!$L$2:$L$370,"")} -> 57.9778 | J10: {=_xlfn.XLOOKUP(1,(LSM!$A$2:$A$370=I$4)*(LSM!$T$2:$T$370=I$5)*(LSM!$B$2:$B$370=$D10),LSM!$M$2:$M$370,"")} -> BC | K10: {=_xlfn.XLOOKUP(1,(LSM!$A$2:$A$370=K$4)*(LSM!$T$2:$T$370=K$5)*(LSM!$B$2:$B$370=$D10),LSM!$G$2:$G$370,"")} -> 103.87 | L10: {=_xlfn.XLOOKUP(1,(LSM!$A$2:$A$370=K$4)*(LSM!$T$2:$T$370=K$5)*(LSM!$B$2:$B$370=$D10),LSM!$H$2:$H$370,"")} -> A-C | M10: {=_xlfn.XLOOKUP(1,(LSM!$A$2:$A$370=M$4)*(LSM!$T$2:$T$370=M$5)*(LSM!$B$2:$B$370=$D10),LSM!$I$2:$I$370,"")} -> 41.9815 | N10: {=_xlfn.XLOOKUP(1,(LSM!$A$2:$A$370=M$4)*(LSM!$T$2:$T$370=M$5)*(LSM!$B$2:$B$370=$D10),LSM!$J$2:$J$370,"")} -> B-E | O10: {=_xlfn.XLOOKUP(1,(LSM!$A$2:$A$370=O$4)*(LSM!$T$2:$T$370=O$5)*(LSM!$B$2:$B$370=$D10),LSM!$K$2:$K$370,"")} -> 0.23094948 | P10: {=_xlfn.XLOOKUP(1,(LSM!$A$2:$A$370=P$4)*(LSM!$T$2:$T$370=P$5)*(LSM!$B$2:$B$370=$D10),LSM!$N$2:$N$370,"")} -> 10.8797 | Q10: {=_xlfn.XLOOKUP(1,(LSM!$A$2:$A$370=P$4)*(LSM!$T$2:$T$370=P$5)*(LSM!$B$2:$B$370=$D10),LSM!$O$2:$O$370,"")} -> A | R10: {=_xlfn.XLOOKUP(1,(LSM!$A$2:$A$370=R$4)*(LSM!$T$2:$T$370=R$5)*(LSM!$B$2:$B$370=$D10),LSM!$P$2:$P$370,"")} -> 4.2194 | S10: {=_xlfn.XLOOKUP(1,(LSM!$A$2:$A$370=R$4)*(LSM!$T$2:$T$370=R$5)*(LSM!$B$2:$B$370=$D10),LSM!$Q$2:$Q$370,"")} -> A | T10: {=_xlfn.XLOOKUP(1,(LSM!$A$2:$A$370=T$4)*(LSM!$T$2:$T$370=T$5)*(LSM!$B$2:$B$370=$D10),LSM!$R$2:$R$370,"")} -> 85.8109 | U10: {=_xlfn.XLOOKUP(1,(LSM!$A$2:$A$370=T$4)*(LSM!$T$2:$T$370=T$5)*(LSM!$B$2:$B$370=$D10),LSM!$S$2:$S$370,"")} -> B-D
A11: =VLOOKUP(D11,VL_2020,2,FALSE) -> Pioneer P10705PWE | B11: =VLOOKUP(D11,VL_2020,3,FALSE) -> RR, LL, ENL, FOP | C11: =VLOOKUP(D11,VL_2020,4,FALSE) -> VT2P, HX1 | D11: C26018 | E11: {=_xlfn.XLOOKUP(1,(LSM!$A$2:$A$370=E$4)*(LSM!$T$2:$T$370=E$5)*(LSM!$B$2:$B$370=$D11),LSM!$C$2:$C$370,"")} -> 233.49 | F11: {=_xlfn.XLOOKUP(1,(LSM!$A$2:$A$370=E$4)*(LSM!$T$2:$T$370=E$5)*(LSM!$B$2:$B$370=$D11),LSM!$D$2:$D$370,"")} -> A | G11: {=_xlfn.XLOOKUP(1,(LSM!$A$2:$A$370=G$4)*(LSM!$T$2:$T$370=G$5)*(LSM!$B$2:$B$370=$D11),LSM!$E$2:$E$370,"")} -> 14.8179 | H11: {=_xlfn.XLOOKUP(1,(LSM!$A$2:$A$370=G$4)*(LSM!$T$2:$T$370=G$5)*(LSM!$B$2:$B$370=$D11),LSM!$F$2:$F$370,"")} -> E | I11: {=_xlfn.XLOOKUP(1,(LSM!$A$2:$A$370=I$4)*(LSM!$T$2:$T$370=I$5)*(LSM!$B$2:$B$370=$D11),LSM!$L$2:$L$370,"")} -> 57.7222 | J11: {=_xlfn.XLOOKUP(1,(LSM!$A$2:$A$370=I$4)*(LSM!$T$2:$T$370=I$5)*(LSM!$B$2:$B$370=$D11),LSM!$M$2:$M$370,"")} -> BC | K11: {=_xlfn.XLOOKUP(1,(LSM!$A$2:$A$370=K$4)*(LSM!$T$2:$T$370=K$5)*(LSM!$B$2:$B$370=$D11),LSM!$G$2:$G$370,"")} -> 98.7778 | L11: {=_xlfn.XLOOKUP(1,(LSM!$A$2:$A$370=K$4)*(LSM!$T$2:$T$370=K$5)*(LSM!$B$2:$B$370=$D11),LSM!$H$2:$H$370,"")} -> DE | M11: {=_xlfn.XLOOKUP(1,(LSM!$A$2:$A$370=M$4)*(LSM!$T$2:$T$370=M$5)*(LSM!$B$2:$B$370=$D11),LSM!$I$2:$I$370,"")} -> 39.037 | N11: {=_xlfn.XLOOKUP(1,(LSM!$A$2:$A$370=M$4)*(LSM!$T$2:$T$370=M$5)*(LSM!$B$2:$B$370=$D11),LSM!$J$2:$J$370,"")} -> F | O11: {=_xlfn.XLOOKUP(1,(LSM!$A$2:$A$370=O$4)*(LSM!$T$2:$T$370=O$5)*(LSM!$B$2:$B$370=$D11),LSM!$K$2:$K$370,"")} -> 0.080902391 | P11: {=_xlfn.XLOOKUP(1,(LSM!$A$2:$A$370=P$4)*(LSM!$T$2:$T$370=P$5)*(LSM!$B$2:$B$370=$D11),LSM!$N$2:$N$370,"")} -> 10.7574 | Q11: {=_xlfn.XLOOKUP(1,(LSM!$A$2:$A$370=P$4)*(LSM!$T$2:$T$370=P$5)*(LSM!$B$2:$B$370=$D11),LSM!$O$2:$O$370,"")} -> A | R11: {=_xlfn.XLOOKUP(1,(LSM!$A$2:$A$370=R$4)*(LSM!$T$2:$T$370=R$5)*(LSM!$B$2:$B$370=$D11),LSM!$P$2:$P$370,"")} -> 4.1918 | S11: {=_xlfn.XLOOKUP(1,(LSM!$A$2:$A$370=R$4)*(LSM!$T$2:$T$370=R$5)*(LSM!$B$2:$B$370=$D11),LSM!$Q$2:$Q$370,"")} -> A | T11: {=_xlfn.XLOOKUP(1,(LSM!$A$2:$A$370=T$4)*(LSM!$T$2:$T$370=T$5)*(LSM!$B$2:$B$370=$D11),LSM!$R$2:$R$370,"")} -> 86.1618 | U11: {=_xlfn.XLOOKUP(1,(LSM!$A$2:$A$370=T$4)*(LSM!$T$2:$T$370=T$5)*(LSM!$B$2:$B$370=$D11),LSM!$S$2:$S$370,"")} -> B
A12: =VLOOKUP(D12,VL_2020,2,FALSE) -> Great Heart HT-7210TRE | B12: =VLOOKUP(D12,VL_2020,3,FALSE) -> TRE | C12: =VLOOKUP(D12,VL_2020,4,FALSE) -> TRE | D12: C25011 | E12: {=_xlfn.XLOOKUP(1,(LSM!$A$2:$A$370=E$4)*(LSM!$T$2:$T$370=E$5)*(LSM!$B$2:$B$370=$D12),LSM!$C$2:$C$370,"")} -> 233.47 | F12: {=_xlfn.XLOOKUP(1,(LSM!$A$2:$A$370=E$4)*(LSM!$T$2:$T$370=E$5)*(LSM!$B$2:$B$370=$D12),LSM!$D$2:$D$370,"")} -> A | G12: {=_xlfn.XLOOKUP(1,(LSM!$A$2:$A$370=G$4)*(LSM!$T$2:$T$370=G$5)*(LSM!$B$2:$B$370=$D12),LSM!$E$2:$E$370,"")} -> 17.5283 | H12: {=_xlfn.XLOOKUP(1,(LSM!$A$2:$A$370=G$4)*(LSM!$T$2:$T$370=G$5)*(LSM!$B$2:$B$370=$D12),LSM!$F$2:$F$370,"")} -> A | I12: {=_xlfn.XLOOKUP(1,(LSM!$A$2:$A$370=I$4)*(LSM!$T$2:$T$370=I$5)*(LSM!$B$2:$B$370=$D12),LSM!$L$2:$L$370,"")} -> 56.95 | J12: {=_xlfn.XLOOKUP(1,(LSM!$A$2:$A$370=I$4)*(LSM!$T$2:$T$370=I$5)*(LSM!$B$2:$B$370=$D12),LSM!$M$2:$M$370,"")} -> C | K12: {=_xlfn.XLOOKUP(1,(LSM!$A$2:$A$370=K$4)*(LSM!$T$2:$T$370=K$5)*(LSM!$B$2:$B$370=$D12),LSM!$G$2:$G$370,"")} -> 107.04 | L12: {=_xlfn.XLOOKUP(1,(LSM!$A$2:$A$370=K$4)*(LSM!$T$2:$T$370=K$5)*(LSM!$B$2:$B$370=$D12),LSM!$H$2:$H$370,"")} -> A | M12: {=_xlfn.XLOOKUP(1,(LSM!$A$2:$A$370=M$4)*(LSM!$T$2:$T$370=M$5)*(LSM!$B$2:$B$370=$D12),LSM!$I$2:$I$370,"")} -> 49.037 | N12: {=_xlfn.XLOOKUP(1,(LSM!$A$2:$A$370=M$4)*(LSM!$T$2:$T$370=M$5)*(LSM!$B$2:$B$370=$D12),LSM!$J$2:$J$370,"")} -> A | O12: {=_xlfn.XLOOKUP(1,(LSM!$A$2:$A$370=O$4)*(LSM!$T$2:$T$370=O$5)*(LSM!$B$2:$B$370=$D12),LSM!$K$2:$K$370,"")} -> 0.22352188 | P12: {=_xlfn.XLOOKUP(1,(LSM!$A$2:$A$370=P$4)*(LSM!$T$2:$T$370=P$5)*(LSM!$B$2:$B$370=$D12),LSM!$N$2:$N$370,"")} -> 11.0098 | Q12: {=_xlfn.XLOOKUP(1,(LSM!$A$2:$A$370=P$4)*(LSM!$T$2:$T$370=P$5)*(LSM!$B$2:$B$370=$D12),LSM!$O$2:$O$370,"")} -> A | R12: {=_xlfn.XLOOKUP(1,(LSM!$A$2:$A$370=R$4)*(LSM!$T$2:$T$370=R$5)*(LSM!$B$2:$B$370=$D12),LSM!$P$2:$P$370,"")} -> 4.3219 | S12: {=_xlfn.XLOOKUP(1,(LSM!$A$2:$A$370=R$4)*(LSM!$T$2:$T$370=R$5)*(LSM!$B$2:$B$370=$D12),LSM!$Q$2:$Q$370,"")} -> A | T12: {=_xlfn.XLOOKUP(1,(LSM!$A$2:$A$370=T$4)*(LSM!$T$2:$T$370=T$5)*(LSM!$B$2:$B$370=$D12),LSM!$R$2:$R$370,"")} -> 84.1862 | U12: {=_xlfn.XLOOKUP(1,(LSM!$A$2:$A$370=T$4)*(LSM!$T$2:$T$370=T$5)*(LSM!$B$2:$B$370=$D12),LSM!$S$2:$S$370,"")} -> F
A13: =VLOOKUP(D13,VL_2020,2,FALSE) -> Innvictis A1312VT2P | B13: =VLOOKUP(D13,VL_2020,3,FALSE) -> RR | C13: =VLOOKUP(D13,VL_2020,4,FALSE) -> VT2P | D13: C24010 | E13: {=_xlfn.XLOOKUP(1,(LSM!$A$2:$A$370=E$4)*(LSM!$T$2:$T$370=E$5)*(LSM!$B$2:$B$370=$D13),LSM!$C$2:$C$370,"")} -> 233.32 | F13: {=_xlfn.XLOOKUP(1,(LSM!$A$2:$A$370=E$4)*(LSM!$T$2:$T$370=E$5)*(LSM!$B$2:$B$370=$D13),LSM!$D$2:$D$370,"")} -> A | G13: {=_xlfn.XLOOKUP(1,(LSM!$A$2:$A$370=G$4)*(LSM!$T$2:$T$370=G$5)*(LSM!$B$2:$B$370=$D13),LSM!$E$2:$E$370,"")} -> 16.065 | H13: {=_xlfn.XLOOKUP(1,(LSM!$A$2:$A$370=G$4)*(LSM!$T$2:$T$370=G$5)*(LSM!$B$2:$B$370=$D13),LSM!$F$2:$F$370,"")} -> BC | I13: {=_xlfn.XLOOKUP(1,(LSM!$A$2:$A$370=I$4)*(LSM!$T$2:$T$370=I$5)*(LSM!$B$2:$B$370=$D13),LSM!$L$2:$L$370,"")} -> 57.4333 | J13: {=_xlfn.XLOOKUP(1,(LSM!$A$2:$A$370=I$4)*(LSM!$T$2:$T$370=I$5)*(LSM!$B$2:$B$370=$D13),LSM!$M$2:$M$370,"")} -> C | K13: {=_xlfn.XLOOKUP(1,(LSM!$A$2:$A$370=K$4)*(LSM!$T$2:$T$370=K$5)*(LSM!$B$2:$B$370=$D13),LSM!$G$2:$G$370,"")} -> 100.76 | L13: {=_xlfn.XLOOKUP(1,(LSM!$A$2:$A$370=K$4)*(LSM!$T$2:$T$370=K$5)*(LSM!$B$2:$B$370=$D13),LSM!$H$2:$H$370,"")} -> C-E | M13: {=_xlfn.XLOOKUP(1,(LSM!$A$2:$A$370=M$4)*(LSM!$T$2:$T$370=M$5)*(LSM!$B$2:$B$370=$D13),LSM!$I$2:$I$370,"")} -> 43.4259 | N13: {=_xlfn.XLOOKUP(1,(LSM!$A$2:$A$370=M$4)*(LSM!$T$2:$T$370=M$5)*(LSM!$B$2:$B$370=$D13),LSM!$J$2:$J$370,"")} -> B | O13: {=_xlfn.XLOOKUP(1,(LSM!$A$2:$A$370=O$4)*(LSM!$T$2:$T$370=O$5)*(LSM!$B$2:$B$370=$D13),LSM!$K$2:$K$370,"")} -> 0.38140927 | P13: {=_xlfn.XLOOKUP(1,(LSM!$A$2:$A$370=P$4)*(LSM!$T$2:$T$370=P$5)*(LSM!$B$2:$B$370=$D13),LSM!$N$2:$N$370,"")} -> 11.5697 | Q13: {=_xlfn.XLOOKUP(1,(LSM!$A$2:$A$370=P$4)*(LSM!$T$2:$T$370=P$5)*(LSM!$B$2:$B$370=$D13),LSM!$O$2:$O$370,"")} -> A | R13: {=_xlfn.XLOOKUP(1,(LSM!$A$2:$A$370=R$4)*(LSM!$T$2:$T$370=R$5)*(LSM!$B$2:$B$370=$D13),LSM!$P$2:$P$370,"")} -> 4.4796 | S13: {=_xlfn.XLOOKUP(1,(LSM!$A$2:$A$370=R$4)*(LSM!$T$2:$T$370=R$5)*(LSM!$B$2:$B$370=$D13),LSM!$Q$2:$Q$370,"")} -> A | T13: {=_xlfn.XLOOKUP(1,(LSM!$A$2:$A$370=T$4)*(LSM!$T$2:$T$370=T$5)*(LSM!$B$2:$B$370=$D13),LSM!$R$2:$R$370,"")} -> 85.3456 | U13: {=_xlfn.XLOOKUP(1,(LSM!$A$2:$A$370=T$4)*(LSM!$T$2:$T$370=T$5)*(LSM!$B$2:$B$370=$D13),LSM!$S$2:$S$370,"")} -> B-E
A14: =VLOOKUP(D14,VL_2020,2,FALSE) -> Revere 110-T50 | B14: =VLOOKUP(D14,VL_2020,3,FALSE) -> RR | C14: =VLOOKUP(D14,VL_2020,4,FALSE) -> TRE | D14: C26021 | E14: {=_xlfn.XLOOKUP(1,(LSM!$A$2:$A$370=E$4)*(LSM!$T$2:$T$370=E$5)*(LSM!$B$2:$B$370=$D14),LSM!$C$2:$C$370,"")} -> 233.05 | F14: {=_xlfn.XLOOKUP(1,(LSM!$A$2:$A$370=E$4)*(LSM!$T$2:$T$370=E$5)*(LSM!$B$2:$B$370=$D14),LSM!$D$2:$D$370,"")} -> A | G14: {=_xlfn.XLOOKUP(1,(LSM!$A$2:$A$370=G$4)*(LSM!$T$2:$T$370=G$5)*(LSM!$B$2:$B$370=$D14),LSM!$E$2:$E$370,"")} -> 15.0586 | H14: {=_xlfn.XLOOKUP(1,(LSM!$A$2:$A$370=G$4)*(LSM!$T$2:$T$370=G$5)*(LSM!$B$2:$B$370=$D14),LSM!$F$2:$F$370,"")} -> DE | I14: {=_xlfn.XLOOKUP(1,(LSM!$A$2:$A$370=I$4)*(LSM!$T$2:$T$370=I$5)*(LSM!$B$2:$B$370=$D14),LSM!$L$2:$L$370,"")} -> 59.669 | J14: {=_xlfn.XLOOKUP(1,(LSM!$A$2:$A$370=I$4)*(LSM!$T$2:$T$370=I$5)*(LSM!$B$2:$B$370=$D14),LSM!$M$2:$M$370,"")} -> A | K14: {=_xlfn.XLOOKUP(1,(LSM!$A$2:$A$370=K$4)*(LSM!$T$2:$T$370=K$5)*(LSM!$B$2:$B$370=$D14),LSM!$G$2:$G$370,"")} -> 101.8 | L14: {=_xlfn.XLOOKUP(1,(LSM!$A$2:$A$370=K$4)*(LSM!$T$2:$T$370=K$5)*(LSM!$B$2:$B$370=$D14),LSM!$H$2:$H$370,"")} -> B-E | M14: {=_xlfn.XLOOKUP(1,(LSM!$A$2:$A$370=M$4)*(LSM!$T$2:$T$370=M$5)*(LSM!$B$2:$B$370=$D14),LSM!$I$2:$I$370,"")} -> 42.6924 | N14: {=_xlfn.XLOOKUP(1,(LSM!$A$2:$A$370=M$4)*(LSM!$T$2:$T$370=M$5)*(LSM!$B$2:$B$370=$D14),LSM!$J$2:$J$370,"")} -> B-D | O14: {=_xlfn.XLOOKUP(1,(LSM!$A$2:$A$370=O$4)*(LSM!$T$2:$T$370=O$5)*(LSM!$B$2:$B$370=$D14),LSM!$K$2:$K$370,"")} -> 0.49797629 | P14: {=_xlfn.XLOOKUP(1,(LSM!$A$2:$A$370=P$4)*(LSM!$T$2:$T$370=P$5)*(LSM!$B$2:$B$370=$D14),LSM!$N$2:$N$370,"")} -> 10.9743 | Q14: {=_xlfn.XLOOKUP(1,(LSM!$A$2:$A$370=P$4)*(LSM!$T$2:$T$370=P$5)*(LSM!$B$2:$B$370=$D14),LSM!$O$2:$O$370,"")} -> A | R14: {=_xlfn.XLOOKUP(1,(LSM!$A$2:$A$370=R$4)*(LSM!$T$2:$T$370=R$5)*(LSM!$B$2:$B$370=$D14),LSM!$P$2:$P$370,"")} -> 4.2982 | S14: {=_xlfn.XLOOKUP(1,(LSM!$A$2:$A$370=R$4)*(LSM!$T$2:$T$370=R$5)*(LSM!$B$2:$B$370=$D14),LSM!$Q$2:$Q$370,"")} -> A | T14: {=_xlfn.XLOOKUP(1,(LSM!$A$2:$A$370=T$4)*(LSM!$T$2:$T$370=T$5)*(LSM!$B$2:$B$370=$D14),LSM!$R$2:$R$370,"")} -> 85.5467 | U14: {=_xlfn.XLOOKUP(1,(LSM!$A$2:$A$370=T$4)*(LSM!$T$2:$T$370=T$5)*(LSM!$B$2:$B$370=$D14),LSM!$S$2:$S$370,"")} -> B-E
A15: =VLOOKUP(D15,VL_2020,2,FALSE) -> Innvictis A0904TRIB | B15: =VLOOKUP(D15,VL_2020,3,FALSE) -> RR | C15: =VLOOKUP(D15,VL_2020,4,FALSE) -> TRE | D15: C26015 | E15: {=_xlfn.XLOOKUP(1,(LSM!$A$2:$A$370=E$4)*(LSM!$T$2:$T$370=E$5)*(LSM!$B$2:$B$370=$D15),LSM!$C$2:$C$370,"")} -> 232.56 | F15: {=_xlfn.XLOOKUP(1,(LSM!$A$2:$A$370=E$4)*(LSM!$T$2:$T$370=E$5)*(LSM!$B$2:$B$370=$D15),LSM!$D$2:$D$370,"")} -> A | G15: {=_xlfn.XLOOKUP(1,(LSM!$A$2:$A$370=G$4)*(LSM!$T$2:$T$370=G$5)*(LSM!$B$2:$B$370=$D15),LSM!$E$2:$E$370,"")} -> 14.8196 | H15: {=_xlfn.XLOOKUP(1,(LSM!$A$2:$A$370=G$4)*(LSM!$T$2:$T$370=G$5)*(LSM!$B$2:$B$370=$D15),LSM!$F$2:$F$370,"")} -> E | I15: {=_xlfn.XLOOKUP(1,(LSM!$A$2:$A$370=I$4)*(LSM!$T$2:$T$370=I$5)*(LSM!$B$2:$B$370=$D15),LSM!$L$2:$L$370,"")} -> 57.8611 | J15: {=_xlfn.XLOOKUP(1,(LSM!$A$2:$A$370=I$4)*(LSM!$T$2:$T$370=I$5)*(LSM!$B$2:$B$370=$D15),LSM!$M$2:$M$370,"")} -> BC | K15: {=_xlfn.XLOOKUP(1,(LSM!$A$2:$A$370=K$4)*(LSM!$T$2:$T$370=K$5)*(LSM!$B$2:$B$370=$D15),LSM!$G$2:$G$370,"")} -> 98.1852 | L15: {=_xlfn.XLOOKUP(1,(LSM!$A$2:$A$370=K$4)*(LSM!$T$2:$T$370=K$5)*(LSM!$B$2:$B$370=$D15),LSM!$H$2:$H$370,"")} -> E | M15: {=_xlfn.XLOOKUP(1,(LSM!$A$2:$A$370=M$4)*(LSM!$T$2:$T$370=M$5)*(LSM!$B$2:$B$370=$D15),LSM!$I$2:$I$370,"")} -> 40.3704 | N15: {=_xlfn.XLOOKUP(1,(LSM!$A$2:$A$370=M$4)*(LSM!$T$2:$T$370=M$5)*(LSM!$B$2:$B$370=$D15),LSM!$J$2:$J$370,"")} -> D-F | O15: {=_xlfn.XLOOKUP(1,(LSM!$A$2:$A$370=O$4)*(LSM!$T$2:$T$370=O$5)*(LSM!$B$2:$B$370=$D15),LSM!$K$2:$K$370,"")} -> 0.15688653 | P15: {=_xlfn.XLOOKUP(1,(LSM!$A$2:$A$370=P$4)*(LSM!$T$2:$T$370=P$5)*(LSM!$B$2:$B$370=$D15),LSM!$N$2:$N$370,"")} -> 11.1517 | Q15: {=_xlfn.XLOOKUP(1,(LSM!$A$2:$A$370=P$4)*(LSM!$T$2:$T$370=P$5)*(LSM!$B$2:$B$370=$D15),LSM!$O$2:$O$370,"")} -> A | R15: {=_xlfn.XLOOKUP(1,(LSM!$A$2:$A$370=R$4)*(LSM!$T$2:$T$370=R$5)*(LSM!$B$2:$B$370=$D15),LSM!$P$2:$P$370,"")} -> 4.4678 | S15: {=_xlfn.XLOOKUP(1,(LSM!$A$2:$A$370=R$4)*(LSM!$T$2:$T$370=R$5)*(LSM!$B$2:$B$370=$D15),LSM!$Q$2:$Q$370,"")} -> A | T15: {=_xlfn.XLOOKUP(1,(LSM!$A$2:$A$370=T$4)*(LSM!$T$2:$T$370=T$5)*(LSM!$B$2:$B$370=$D15),LSM!$R$2:$R$370,"")} -> 85.2352 | U15: {=_xlfn.XLOOKUP(1,(LSM!$A$2:$A$370=T$4)*(LSM!$T$2:$T$370=T$5)*(LSM!$B$2:$B$370=$D15),LSM!$S$2:$S$370,"")} -> C-E
A16: =VLOOKUP(D16,VL_2020,2,FALSE) -> Dyna-Gro D50PN07RA | B16: =VLOOKUP(D16,VL_2020,3,FALSE) -> RR, LL, ENL, FOP | C16: =VLOOKUP(D16,VL_2020,4,FALSE) -> FOP | D16: C26004 | E16: {=_xlfn.XLOOKUP(1,(LSM!$A$2:$A$370=E$4)*(LSM!$T$2:$T$370=E$5)*(LSM!$B$2:$B$370=$D16),LSM!$C$2:$C$370,"")} -> 217.97 | F16: {=_xlfn.XLOOKUP(1,(LSM!$A$2:$A$370=E$4)*(LSM!$T$2:$T$370=E$5)*(LSM!$B$2:$B$370=$D16),LSM!$D$2:$D$370,"")} -> A | G16: {=_xlfn.XLOOKUP(1,(LSM!$A$2:$A$370=G$4)*(LSM!$T$2:$T$370=G$5)*(LSM!$B$2:$B$370=$D16),LSM!$E$2:$E$370,"")} -> 14.3337 | H16: {=_xlfn.XLOOKUP(1,(LSM!$A$2:$A$370=G$4)*(LSM!$T$2:$T$370=G$5)*(LSM!$B$2:$B$370=$D16),LSM!$F$2:$F$370,"")} -> E | I16: {=_xlfn.XLOOKUP(1,(LSM!$A$2:$A$370=I$4)*(LSM!$T$2:$T$370=I$5)*(LSM!$B$2:$B$370=$D16),LSM!$L$2:$L$370,"")} -> 60.0611 | J16: {=_xlfn.XLOOKUP(1,(LSM!$A$2:$A$370=I$4)*(LSM!$T$2:$T$370=I$5)*(LSM!$B$2:$B$370=$D16),LSM!$M$2:$M$370,"")} -> A | K16: {=_xlfn.XLOOKUP(1,(LSM!$A$2:$A$370=K$4)*(LSM!$T$2:$T$370=K$5)*(LSM!$B$2:$B$370=$D16),LSM!$G$2:$G$370,"")} -> 102.61 | L16: {=_xlfn.XLOOKUP(1,(LSM!$A$2:$A$370=K$4)*(LSM!$T$2:$T$370=K$5)*(LSM!$B$2:$B$370=$D16),LSM!$H$2:$H$370,"")} -> B-D | M16: {=_xlfn.XLOOKUP(1,(LSM!$A$2:$A$370=M$4)*(LSM!$T$2:$T$370=M$5)*(LSM!$B$2:$B$370=$D16),LSM!$I$2:$I$370,"")} -> 39.7963 | N16: {=_xlfn.XLOOKUP(1,(LSM!$A$2:$A$370=M$4)*(LSM!$T$2:$T$370=M$5)*(LSM!$B$2:$B$370=$D16),LSM!$J$2:$J$370,"")} -> EF | O16: {=_xlfn.XLOOKUP(1,(LSM!$A$2:$A$370=O$4)*(LSM!$T$2:$T$370=O$5)*(LSM!$B$2:$B$370=$D16),LSM!$K$2:$K$370,"")} -> 0.30126512 | P16: {=_xlfn.XLOOKUP(1,(LSM!$A$2:$A$370=P$4)*(LSM!$T$2:$T$370=P$5)*(LSM!$B$2:$B$370=$D16),LSM!$N$2:$N$370,"")} -> 11.2977 | Q16: {=_xlfn.XLOOKUP(1,(LSM!$A$2:$A$370=P$4)*(LSM!$T$2:$T$370=P$5)*(LSM!$B$2:$B$370=$D16),LSM!$O$2:$O$370,"")} -> A | R16: {=_xlfn.XLOOKUP(1,(LSM!$A$2:$A$370=R$4)*(LSM!$T$2:$T$370=R$5)*(LSM!$B$2:$B$370=$D16),LSM!$P$2:$P$370,"")} -> 4.2825 | S16: {=_xlfn.XLOOKUP(1,(LSM!$A$2:$A$370=R$4)*(LSM!$T$2:$T$370=R$5)*(LSM!$B$2:$B$370=$D16),LSM!$Q$2:$Q$370,"")} -> A | T16: {=_xlfn.XLOOKUP(1,(LSM!$A$2:$A$370=T$4)*(LSM!$T$2:$T$370=T$5)*(LSM!$B$2:$B$370=$D16),LSM!$R$2:$R$370,"")} -> 87.2108 | U16: {=_xlfn.XLOOKUP(1,(LSM!$A$2:$A$370=T$4)*(LSM!$T$2:$T$370=T$5)*(LSM!$B$2:$B$370=$D16),LSM!$S$2:$S$370,"")} -> A
A17: Trial Average | E17: {=_xlfn.XLOOKUP(1,(ANOVA!$L$2:$L$160=E$4)*(ANOVA!$Q$2:$Q$401=E$5)*(ANOVA!$M$2:$M$401=E$3),ANOVA!$A$2:$A$401,"")} -> 234.6 | G17: {=_xlfn.XLOOKUP(1,(ANOVA!$L$2:$L$160=G$4)*(ANOVA!$Q$2:$Q$401=G$5)*(ANOVA!$M$2:$M$401=G$3),ANOVA!$A$2:$A$401,"")} -> 15.5383 | I17: {=_xlfn.XLOOKUP(1,(ANOVA!$L$2:$L$160=I$4)*(ANOVA!$Q$2:$Q$401=I$5)*(ANOVA!$M$2:$M$401=I$3),ANOVA!$A$2:$A$401,"")} -> 58.532 | K17: {=_xlfn.XLOOKUP(1,(ANOVA!$L$2:$L$160=K$4)*(ANOVA!$Q$2:$Q$401=K$5)*(ANOVA!$M$2:$M$401=K$3),ANOVA!$A$2:$A$401,"")} -> 102.19 | M17: {=_xlfn.XLOOKUP(1,(ANOVA!$L$2:$L$160=M$4)*(ANOVA!$Q$2:$Q$401=M$5)*(ANOVA!$M$2:$M$401=M$3),ANOVA!$A$2:$A$401,"")} -> 42.0512 | O17: {=_xlfn.XLOOKUP(1,(ANOVA!$L$2:$L$160=O$4)*(ANOVA!$Q$2:$Q$401=O$5)*(ANOVA!$M$2:$M$401=O$3),ANOVA!$A$2:$A$401,"")} -> 0.3323 | P17: {=_xlfn.XLOOKUP(1,(ANOVA!$L$2:$L$160=P$4)*(ANOVA!$Q$2:$Q$401=P$5)*(ANOVA!$M$2:$M$401=P$3),ANOVA!$A$2:$A$401,"")} -> 11.1209 | R17: {=_xlfn.XLOOKUP(1,(ANOVA!$L$2:$L$160=R$4)*(ANOVA!$Q$2:$Q$401=R$5)*(ANOVA!$M$2:$M$401=R$3),ANOVA!$A$2:$A$401,"")} -> 4.2979 | T17: {=_xlfn.XLOOKUP(1,(ANOVA!$L$2:$L$160=T$4)*(ANOVA!$Q$2:$Q$401=T$5)*(ANOVA!$M$2:$M$401=T$3),ANOVA!$A$2:$A$401,"")} -> 85.5843
A18: Trial Standard Error | E18: {=_xlfn.XLOOKUP(1,(ANOVA!$L$2:$L$160=E$4)*(ANOVA!$Q$2:$Q$401=E$5)*(ANOVA!$M$2:$M$401=E$3),ANOVA!$B$2:$B$401,"")} -> 12.9466 | G18: {=_xlfn.XLOOKUP(1,(ANOVA!$L$2:$L$160=G$4)*(ANOVA!$Q$2:$Q$401=G$5)*(ANOVA!$M$2:$M$401=G$3),ANOVA!$B$2:$B$401,"")} -> 1.1563 | I18: {=_xlfn.XLOOKUP(1,(ANOVA!$L$2:$L$160=I$4)*(ANOVA!$Q$2:$Q$401=I$5)*(ANOVA!$M$2:$M$401=I$3),ANOVA!$B$2:$B$401,"")} -> 0.6328 | K18: {=_xlfn.XLOOKUP(1,(ANOVA!$L$2:$L$160=K$4)*(ANOVA!$Q$2:$Q$401=K$5)*(ANOVA!$M$2:$M$401=K$3),ANOVA!$B$2:$B$401,"")} -> 4.1057 | M18: {=_xlfn.XLOOKUP(1,(ANOVA!$L$2:$L$160=M$4)*(ANOVA!$Q$2:$Q$401=M$5)*(ANOVA!$M$2:$M$401=M$3),ANOVA!$B$2:$B$401,"")} -> 1.3183 | O18: {=_xlfn.XLOOKUP(1,(ANOVA!$L$2:$L$160=O$4)*(ANOVA!$Q$2:$Q$401=O$5)*(ANOVA!$M$2:$M$401=O$3),ANOVA!$B$2:$B$401,"")} -> 0.1848 | P18: {=_xlfn.XLOOKUP(1,(ANOVA!$L$2:$L$160=P$4)*(ANOVA!$Q$2:$Q$401=P$5)*(ANOVA!$M$2:$M$401=P$3),ANOVA!$B$2:$B$401,"")} -> 0.2073 | R18: {=_xlfn.XLOOKUP(1,(ANOVA!$L$2:$L$160=R$4)*(ANOVA!$Q$2:$Q$401=R$5)*(ANOVA!$M$2:$M$401=R$3),ANOVA!$B$2:$B$401,"")} -> 0.09831 | T18: {=_xlfn.XLOOKUP(1,(ANOVA!$L$2:$L$160=T$4)*(ANOVA!$Q$2:$Q$401=T$5)*(ANOVA!$M$2:$M$401=T$3),ANOVA!$B$2:$B$401,"")} -> 0.3122
A19: Trial L.S.D..05 | E19: {=_xlfn.XLOOKUP(1,(ANOVA!$L$2:$L$160=E$4)*(ANOVA!$Q$2:$Q$401=E$5)*(ANOVA!$M$2:$M$401=E$3),ANOVA!$C$2:$C$401,"")} -> N.S. | G19: {=_xlfn.XLOOKUP(1,(ANOVA!$L$2:$L$160=G$4)*(ANOVA!$Q$2:$Q$401=G$5)*(ANOVA!$M$2:$M$401=G$3),ANOVA!$C$2:$C$401,"")} -> 0.98 | I19: {=_xlfn.XLOOKUP(1,(ANOVA!$L$2:$L$160=I$4)*(ANOVA!$Q$2:$Q$401=I$5)*(ANOVA!$M$2:$M$401=I$3),ANOVA!$C$2:$C$401,"")} -> 1.31 | K19: {=_xlfn.XLOOKUP(1,(ANOVA!$L$2:$L$160=K$4)*(ANOVA!$Q$2:$Q$401=K$5)*(ANOVA!$M$2:$M$401=K$3),ANOVA!$C$2:$C$401,"")} -> 3.85 | M19: {=_xlfn.XLOOKUP(1,(ANOVA!$L$2:$L$160=M$4)*(ANOVA!$Q$2:$Q$401=M$5)*(ANOVA!$M$2:$M$401=M$3),ANOVA!$C$2:$C$401,"")} -> 2.61 | O19: {=_xlfn.XLOOKUP(1,(ANOVA!$L$2:$L$160=O$4)*(ANOVA!$Q$2:$Q$401=O$5)*(ANOVA!$M$2:$M$401=O$3),ANOVA!$C$2:$C$401,"")} -> 0 | P19: {=_xlfn.XLOOKUP(1,(ANOVA!$L$2:$L$160=P$4)*(ANOVA!$Q$2:$Q$401=P$5)*(ANOVA!$M$2:$M$401=P$3),ANOVA!$C$2:$C$401,"")} -> N.S. | R19: {=_xlfn.XLOOKUP(1,(ANOVA!$L$2:$L$160=R$4)*(ANOVA!$Q$2:$Q$401=R$5)*(ANOVA!$M$2:$M$401=R$3),ANOVA!$C$2:$C$401,"")} -> N.S. | T19: {=_xlfn.XLOOKUP(1,(ANOVA!$L$2:$L$160=T$4)*(ANOVA!$Q$2:$Q$401=T$5)*(ANOVA!$M$2:$M$401=T$3),ANOVA!$C$2:$C$401,"")} -> 0.92
A20: Trial C.V. | E20: {=_xlfn.XLOOKUP(1,(ANOVA!$L$2:$L$160=E$4)*(ANOVA!$Q$2:$Q$401=E$5)*(ANOVA!$M$2:$M$401=E$3),ANOVA!$D$2:$D$401,"")} -> 9.0280301 | G20: {=_xlfn.XLOOKUP(1,(ANOVA!$L$2:$L$160=G$4)*(ANOVA!$Q$2:$Q$401=G$5)*(ANOVA!$M$2:$M$401=G$3),ANOVA!$D$2:$D$401,"")} -> 5.07331 | I20: {=_xlfn.XLOOKUP(1,(ANOVA!$L$2:$L$160=I$4)*(ANOVA!$Q$2:$Q$401=I$5)*(ANOVA!$M$2:$M$401=I$3),ANOVA!$D$2:$D$401,"")} -> 1.3046121 | K20: {=_xlfn.XLOOKUP(1,(ANOVA!$L$2:$L$160=K$4)*(ANOVA!$Q$2:$Q$401=K$5)*(ANOVA!$M$2:$M$401=K$3),ANOVA!$D$2:$D$401,"")} -> 5.2491367 | M20: {=_xlfn.XLOOKUP(1,(ANOVA!$L$2:$L$160=M$4)*(ANOVA!$Q$2:$Q$401=M$5)*(ANOVA!$M$2:$M$401=M$3),ANOVA!$D$2:$D$401,"")} -> 9.4293275 | O20: {=_xlfn.XLOOKUP(1,(ANOVA!$L$2:$L$160=O$4)*(ANOVA!$Q$2:$Q$401=O$5)*(ANOVA!$M$2:$M$401=O$3),ANOVA!$D$2:$D$401,"")} -> 0 | P20: {=_xlfn.XLOOKUP(1,(ANOVA!$L$2:$L$160=P$4)*(ANOVA!$Q$2:$Q$401=P$5)*(ANOVA!$M$2:$M$401=P$3),ANOVA!$D$2:$D$401,"")} -> 3.2292033 | R20: {=_xlfn.XLOOKUP(1,(ANOVA!$L$2:$L$160=R$4)*(ANOVA!$Q$2:$Q$401=R$5)*(ANOVA!$M$2:$M$401=R$3),ANOVA!$D$2:$D$401,"")} -> 3.8046662 | T20: {=_xlfn.XLOOKUP(1,(ANOVA!$L$2:$L$160=T$4)*(ANOVA!$Q$2:$Q$401=T$5)*(ANOVA!$M$2:$M$401=T$3),ANOVA!$D$2:$D$401,"")} -> 0.63189486
A21: Number of locs. | E21: 8 | G21: 8 | I21: 7 | K21: 6 | M21: 6 | O21: 6 | P21: 1 | R21: 1 | T21: 1

Sheet Early Corn Yld By Loc 
A1: Table 5. Mean yields across and by location of 11 early-season (<114 DAP) corn hybrids evaluated in replicated small plot trials at eight AgResearch and Education Center locations in Tennessee during 2026.
A2: Hybrid† | B2: Herbicide Pkg‡ | C2: Insect Pkg.‡ | D2: Above Loc Avg. | F2: Avg. Yield§ (bu/acre) | H2: Knoxville Irr. (bu/acre) | J2: Greeneville Non-Irr. (bu/acre) | L2: Springfield Irr. (bu/acre) | N2: Springfield Non-Irr. (bu/acre) | P2: Spring Hill Non-Irr. (bu/acre) | R2: Milan Irr. (bu/acre) | T2: Milan Non-Irr. (bu/acre) | V2: Jackson Irr. (bu/acre) | X2: Memphis Irr. (bu/acre) | AA2: etrec | AB2: netrec | AC2: hrec ir | AD2: hrec nir | AE2: mtrec | AF2: recm ir | AG2: recm nir | AH2: wtrec | AI2: agcntr
F3: YLD_1 | H3: YLD_1 | J3: YLD_1 | L3: YLD_1 | N3: YLD_1 | P3: YLD_1 | R3: YLD_1 | T3: YLD_1 | V3: YLD_1 | X3: YLD_1
F4: A | H4: ET | J4: N | L4: HI | N4: HN | P4: MT | R4: MI | T4: MN | V4: WT | X4: AG
F5: Early | H5: Early | J5: Early | L5: Early | N5: Early | P5: Early | R5: Early | T5: Early | V5: Early | X5: Early
A6: =VLOOKUP(E6,VL_2020,2,FALSE) -> Dekalb DKC 112-12RIB | B6: =VLOOKUP(E6,VL_2020,3,FALSE) -> RR | C6: =VLOOKUP(E6,VL_2020,4,FALSE) -> TRE | D6: =AJ6 -> 0.625 | E6: C26001 | F6: {=_xlfn.XLOOKUP(1,(LSM!$A$2:$A$370=F$4)*(LSM!$T$2:$T$370=F$5)*(LSM!$B$2:$B$370=$E6),LSM!$C$2:$C$370,"")} -> 241.25 | G6: {=_xlfn.XLOOKUP(1,(LSM!$A$2:$A$370=F$4)*(LSM!$T$2:$T$370=F$5)*(LSM!$B$2:$B$370=$E6),LSM!$D$2:$D$370,"")} -> A | H6: {=_xlfn.XLOOKUP(1,(LSM!$A$2:$A$370=H$4)*(LSM!$T$2:$T$370=H$5)*(LSM!$B$2:$B$370=$E6),LSM!$C$2:$C$370,"")} -> 277.19 | I6: {=_xlfn.XLOOKUP(1,(LSM!$A$2:$A$370=H$4)*(LSM!$T$2:$T$370=H$5)*(LSM!$B$2:$B$370=$E6),LSM!$D$2:$D$370,"")} -> A | J6: {=_xlfn.XLOOKUP(1,(LSM!$A$2:$A$370=J$4)*(LSM!$T$2:$T$370=J$5)*(LSM!$B$2:$B$370=$E6),LSM!$C$2:$C$370,"")} -> 246.19 | K6: {=_xlfn.XLOOKUP(1,(LSM!$A$2:$A$370=J$4)*(LSM!$T$2:$T$370=J$5)*(LSM!$B$2:$B$370=$E6),LSM!$D$2:$D$370,"")} -> A | L6: {=_xlfn.XLOOKUP(1,(LSM!$A$2:$A$370=L$4)*(LSM!$T$2:$T$370=L$5)*(LSM!$B$2:$B$370=$E6),LSM!$C$2:$C$370,"")} -> 276.33 | M6: {=_xlfn.XLOOKUP(1,(LSM!$A$2:$A$370=L$4)*(LSM!$T$2:$T$370=L$5)*(LSM!$B$2:$B$370=$E6),LSM!$D$2:$D$370,"")} -> A | N6: {=_xlfn.XLOOKUP(1,(LSM!$A$2:$A$370=N$4)*(LSM!$T$2:$T$370=N$5)*(LSM!$B$2:$B$370=$E6),LSM!$C$2:$C$370,"")} -> 195.14 | O6: {=_xlfn.XLOOKUP(1,(LSM!$A$2:$A$370=N$4)*(LSM!$T$2:$T$370=N$5)*(LSM!$B$2:$B$370=$E6),LSM!$D$2:$D$370,"")} -> AB | P6: {=_xlfn.XLOOKUP(1,(LSM!$A$2:$A$370=P$4)*(LSM!$T$2:$T$370=P$5)*(LSM!$B$2:$B$370=$E6),LSM!$C$2:$C$370,"")} -> 206.06 | Q6: {=_xlfn.XLOOKUP(1,(LSM!$A$2:$A$370=P$4)*(LSM!$T$2:$T$370=P$5)*(LSM!$B$2:$B$370=$E6),LSM!$D$2:$D$370,"")} -> A | R6: {=_xlfn.XLOOKUP(1,(LSM!$A$2:$A$370=R$4)*(LSM!$T$2:$T$370=R$5)*(LSM!$B$2:$B$370=$E6),LSM!$C$2:$C$370,"")} -> 249.8 | S6: {=_xlfn.XLOOKUP(1,(LSM!$A$2:$A$370=R$4)*(LSM!$T$2:$T$370=R$5)*(LSM!$B$2:$B$370=$E6),LSM!$D$2:$D$370,"")} -> A | T6: {=_xlfn.XLOOKUP(1,(LSM!$A$2:$A$370=T$4)*(LSM!$T$2:$T$370=T$5)*(LSM!$B$2:$B$370=$E6),LSM!$C$2:$C$370,"")} -> 254.16 | U6: {=_xlfn.XLOOKUP(1,(LSM!$A$2:$A$370=T$4)*(LSM!$T$2:$T$370=T$5)*(LSM!$B$2:$B$370=$E6),LSM!$D$2:$D$370,"")} -> A | V6: {=_xlfn.XLOOKUP(1,(LSM!$A$2:$A$370=V$4)*(LSM!$T$2:$T$370=V$5)*(LSM!$B$2:$B$370=$E6),LSM!$C$2:$C$370,"")} -> 224.27 | W6: {=_xlfn.XLOOKUP(1,(LSM!$A$2:$A$370=V$4)*(LSM!$T$2:$T$370=V$5)*(LSM!$B$2:$B$370=$E6),LSM!$D$2:$D$370,"")} -> A | X6: {=_xlfn.XLOOKUP(1,(LSM!$A$2:$A$370=X$4)*(LSM!$T$2:$T$370=X$5)*(LSM!$B$2:$B$370=$E6),LSM!$C$2:$C$370,"")} | Y6: {=_xlfn.XLOOKUP(1,(LSM!$A$2:$A$370=X$4)*(LSM!$T$2:$T$370=X$5)*(LSM!$B$2:$B$370=$E6),LSM!$D$2:$D$370,"")} | AA6: =IF(H6>H$17,1,0) -> 1 | AB6: =IF(J6>J$17,1,0) -> 0 | AC6: =IF(L6>L$17,1,0) -> 1 | AD6: =IF(N6>N$17,1,0) -> 1 | AE6: =IF(P6>P$17,1,0) -> 1 | AF6: =IF(R6>R$17,1,0) -> 0 | AG6: =IF(T6>T$17,1,0) -> 0 | AH6: =IF(V6>V$17,1,0) -> 1 | AJ6: =SUM(AA6:AI6)/COUNT(AA6:AI6) -> 0.625
A7: =VLOOKUP(E7,VL_2020,2,FALSE) -> Great Heart HT-7335TRE | B7: =VLOOKUP(E7,VL_2020,3,FALSE) -> TRE | C7: =VLOOKUP(E7,VL_2020,4,FALSE) -> TRE | D7: =AJ7 -> 0.625 | E7: C25012 | F7: {=_xlfn.XLOOKUP(1,(LSM!$A$2:$A$370=F$4)*(LSM!$T$2:$T$370=F$5)*(LSM!$B$2:$B$370=$E7),LSM!$C$2:$C$370,"")} -> 240.81 | G7: {=_xlfn.XLOOKUP(1,(LSM!$A$2:$A$370=F$4)*(LSM!$T$2:$T$370=F$5)*(LSM!$B$2:$B$370=$E7),LSM!$D$2:$D$370,"")} -> A | H7: {=_xlfn.XLOOKUP(1,(LSM!$A$2:$A$370=H$4)*(LSM!$T$2:$T$370=H$5)*(LSM!$B$2:$B$370=$E7),LSM!$C$2:$C$370,"")} -> 285.19 | I7: {=_xlfn.XLOOKUP(1,(LSM!$A$2:$A$370=H$4)*(LSM!$T$2:$T$370=H$5)*(LSM!$B$2:$B$370=$E7),LSM!$D$2:$D$370,"")} -> A | J7: {=_xlfn.XLOOKUP(1,(LSM!$A$2:$A$370=J$4)*(LSM!$T$2:$T$370=J$5)*(LSM!$B$2:$B$370=$E7),LSM!$C$2:$C$370,"")} -> 231.22 | K7: {=_xlfn.XLOOKUP(1,(LSM!$A$2:$A$370=J$4)*(LSM!$T$2:$T$370=J$5)*(LSM!$B$2:$B$370=$E7),LSM!$D$2:$D$370,"")} -> A | L7: {=_xlfn.XLOOKUP(1,(LSM!$A$2:$A$370=L$4)*(LSM!$T$2:$T$370=L$5)*(LSM!$B$2:$B$370=$E7),LSM!$C$2:$C$370,"")} -> 252.83 | M7: {=_xlfn.XLOOKUP(1,(LSM!$A$2:$A$370=L$4)*(LSM!$T$2:$T$370=L$5)*(LSM!$B$2:$B$370=$E7),LSM!$D$2:$D$370,"")} -> A | N7: {=_xlfn.XLOOKUP(1,(LSM!$A$2:$A$370=N$4)*(LSM!$T$2:$T$370=N$5)*(LSM!$B$2:$B$370=$E7),LSM!$C$2:$C$370,"")} -> 199.63 | O7: {=_xlfn.XLOOKUP(1,(LSM!$A$2:$A$370=N$4)*(LSM!$T$2:$T$370=N$5)*(LSM!$B$2:$B$370=$E7),LSM!$D$2:$D$370,"")} -> A | P7: {=_xlfn.XLOOKUP(1,(LSM!$A$2:$A$370=P$4)*(LSM!$T$2:$T$370=P$5)*(LSM!$B$2:$B$370=$E7),LSM!$C$2:$C$370,"")} -> 178.46 | Q7: {=_xlfn.XLOOKUP(1,(LSM!$A$2:$A$370=P$4)*(LSM!$T$2:$T$370=P$5)*(LSM!$B$2:$B$370=$E7),LSM!$D$2:$D$370,"")} -> A | R7: {=_xlfn.XLOOKUP(1,(LSM!$A$2:$A$370=R$4)*(LSM!$T$2:$T$370=R$5)*(LSM!$B$2:$B$370=$E7),LSM!$C$2:$C$370,"")} -> 263.52 | S7: {=_xlfn.XLOOKUP(1,(LSM!$A$2:$A$370=R$4)*(LSM!$T$2:$T$370=R$5)*(LSM!$B$2:$B$370=$E7),LSM!$D$2:$D$370,"")} -> A | T7: {=_xlfn.XLOOKUP(1,(LSM!$A$2:$A$370=T$4)*(LSM!$T$2:$T$370=T$5)*(LSM!$B$2:$B$370=$E7),LSM!$C$2:$C$370,"")} -> 268.33 | U7: {=_xlfn.XLOOKUP(1,(LSM!$A$2:$A$370=T$4)*(LSM!$T$2:$T$370=T$5)*(LSM!$B$2:$B$370=$E7),LSM!$D$2:$D$370,"")} -> A | V7: {=_xlfn.XLOOKUP(1,(LSM!$A$2:$A$370=V$4)*(LSM!$T$2:$T$370=V$5)*(LSM!$B$2:$B$370=$E7),LSM!$C$2:$C$370,"")} -> 247.34 | W7: {=_xlfn.XLOOKUP(1,(LSM!$A$2:$A$370=V$4)*(LSM!$T$2:$T$370=V$5)*(LSM!$B$2:$B$370=$E7),LSM!$D$2:$D$370,"")} -> A | X7: {=_xlfn.XLOOKUP(1,(LSM!$A$2:$A$370=X$4)*(LSM!$T$2:$T$370=X$5)*(LSM!$B$2:$B$370=$E7),LSM!$C$2:$C$370,"")} | Y7: {=_xlfn.XLOOKUP(1,(LSM!$A$2:$A$370=X$4)*(LSM!$T$2:$T$370=X$5)*(LSM!$B$2:$B$370=$E7),LSM!$D$2:$D$370,"")} | AA7: =IF(H7>H$17,1,0) -> 1 | AB7: =IF(J7>J$17,1,0) -> 0 | AC7: =IF(L7>L$17,1,0) -> 0 | AD7: =IF(N7>N$17,1,0) -> 1 | AE7: =IF(P7>P$17,1,0) -> 0 | AF7: =IF(R7>R$17,1,0) -> 1 | AG7: =IF(T7>T$17,1,0) -> 1 | AH7: =IF(V7>V$17,1,0) -> 1 | AJ7: =SUM(AA7:AI7)/COUNT(AA7:AI7) -> 0.625
A8: =VLOOKUP(E8,VL_2020,2,FALSE) -> Revere 113-T73 | B8: =VLOOKUP(E8,VL_2020,3,FALSE) -> RR | C8: =VLOOKUP(E8,VL_2020,4,FALSE) -> TRE | D8: =AJ8 -> 0.75 | E8: C26022 | F8: {=_xlfn.XLOOKUP(1,(LSM!$A$2:$A$370=F$4)*(LSM!$T$2:$T$370=F$5)*(LSM!$B$2:$B$370=$E8),LSM!$C$2:$C$370,"")} -> 239.39 | G8: {=_xlfn.XLOOKUP(1,(LSM!$A$2:$A$370=F$4)*(LSM!$T$2:$T$370=F$5)*(LSM!$B$2:$B$370=$E8),LSM!$D$2:$D$370,"")} -> A | H8: {=_xlfn.XLOOKUP(1,(LSM!$A$2:$A$370=H$4)*(LSM!$T$2:$T$370=H$5)*(LSM!$B$2:$B$370=$E8),LSM!$C$2:$C$370,"")} -> 262.92 | I8: {=_xlfn.XLOOKUP(1,(LSM!$A$2:$A$370=H$4)*(LSM!$T$2:$T$370=H$5)*(LSM!$B$2:$B$370=$E8),LSM!$D$2:$D$370,"")} -> A | J8: {=_xlfn.XLOOKUP(1,(LSM!$A$2:$A$370=J$4)*(LSM!$T$2:$T$370=J$5)*(LSM!$B$2:$B$370=$E8),LSM!$C$2:$C$370,"")} -> 262.87 | K8: {=_xlfn.XLOOKUP(1,(LSM!$A$2:$A$370=J$4)*(LSM!$T$2:$T$370=J$5)*(LSM!$B$2:$B$370=$E8),LSM!$D$2:$D$370,"")} -> A | L8: {=_xlfn.XLOOKUP(1,(LSM!$A$2:$A$370=L$4)*(LSM!$T$2:$T$370=L$5)*(LSM!$B$2:$B$370=$E8),LSM!$C$2:$C$370,"")} -> 273.63 | M8: {=_xlfn.XLOOKUP(1,(LSM!$A$2:$A$370=L$4)*(LSM!$T$2:$T$370=L$5)*(LSM!$B$2:$B$370=$E8),LSM!$D$2:$D$370,"")} -> A | N8: {=_xlfn.XLOOKUP(1,(LSM!$A$2:$A$370=N$4)*(LSM!$T$2:$T$370=N$5)*(LSM!$B$2:$B$370=$E8),LSM!$C$2:$C$370,"")} -> 168.53 | O8: {=_xlfn.XLOOKUP(1,(LSM!$A$2:$A$370=N$4)*(LSM!$T$2:$T$370=N$5)*(LSM!$B$2:$B$370=$E8),LSM!$D$2:$D$370,"")} -> A-D | P8: {=_xlfn.XLOOKUP(1,(LSM!$A$2:$A$370=P$4)*(LSM!$T$2:$T$370=P$5)*(LSM!$B$2:$B$370=$E8),LSM!$C$2:$C$370,"")} -> 196.5 | Q8: {=_xlfn.XLOOKUP(1,(LSM!$A$2:$A$370=P$4)*(LSM!$T$2:$T$370=P$5)*(LSM!$B$2:$B$370=$E8),LSM!$D$2:$D$370,"")} -> A | R8: {=_xlfn.XLOOKUP(1,(LSM!$A$2:$A$370=R$4)*(LSM!$T$2:$T$370=R$5)*(LSM!$B$2:$B$370=$E8),LSM!$C$2:$C$370,"")} -> 271.68 | S8: {=_xlfn.XLOOKUP(1,(LSM!$A$2:$A$370=R$4)*(LSM!$T$2:$T$370=R$5)*(LSM!$B$2:$B$370=$E8),LSM!$D$2:$D$370,"")} -> A | T8: {=_xlfn.XLOOKUP(1,(LSM!$A$2:$A$370=T$4)*(LSM!$T$2:$T$370=T$5)*(LSM!$B$2:$B$370=$E8),LSM!$C$2:$C$370,"")} -> 257.12 | U8: {=_xlfn.XLOOKUP(1,(LSM!$A$2:$A$370=T$4)*(LSM!$T$2:$T$370=T$5)*(LSM!$B$2:$B$370=$E8),LSM!$D$2:$D$370,"")} -> A | V8: {=_xlfn.XLOOKUP(1,(LSM!$A$2:$A$370=V$4)*(LSM!$T$2:$T$370=V$5)*(LSM!$B$2:$B$370=$E8),LSM!$C$2:$C$370,"")} -> 225.13 | W8: {=_xlfn.XLOOKUP(1,(LSM!$A$2:$A$370=V$4)*(LSM!$T$2:$T$370=V$5)*(LSM!$B$2:$B$370=$E8),LSM!$D$2:$D$370,"")} -> A | X8: {=_xlfn.XLOOKUP(1,(LSM!$A$2:$A$370=X$4)*(LSM!$T$2:$T$370=X$5)*(LSM!$B$2:$B$370=$E8),LSM!$C$2:$C$370,"")} | Y8: {=_xlfn.XLOOKUP(1,(LSM!$A$2:$A$370=X$4)*(LSM!$T$2:$T$370=X$5)*(LSM!$B$2:$B$370=$E8),LSM!$D$2:$D$370,"")} | AA8: =IF(H8>H$17,1,0) -> 1 | AB8: =IF(J8>J$17,1,0) -> 1 | AC8: =IF(L8>L$17,1,0) -> 1 | AD8: =IF(N8>N$17,1,0) -> 0 | AE8: =IF(P8>P$17,1,0) -> 1 | AF8: =IF(R8>R$17,1,0) -> 1 | AG8: =IF(T8>T$17,1,0) -> 0 | AH8: =IF(V8>V$17,1,0) -> 1 | AJ8: =SUM(AA8:AI8)/COUNT(AA8:AI8) -> 0.75
A9: =VLOOKUP(E9,VL_2020,2,FALSE) -> Dyna-Gro D52TC66RIB | B9: =VLOOKUP(E9,VL_2020,3,FALSE) -> RR | C9: =VLOOKUP(E9,VL_2020,4,FALSE) -> TRE | D9: =AJ9 -> 0.625 | E9: C25018 | F9: {=_xlfn.XLOOKUP(1,(LSM!$A$2:$A$370=F$4)*(LSM!$T$2:$T$370=F$5)*(LSM!$B$2:$B$370=$E9),LSM!$C$2:$C$370,"")} -> 238.38 | G9: {=_xlfn.XLOOKUP(1,(LSM!$A$2:$A$370=F$4)*(LSM!$T$2:$T$370=F$5)*(LSM!$B$2:$B$370=$E9),LSM!$D$2:$D$370,"")} -> A | H9: {=_xlfn.XLOOKUP(1,(LSM!$A$2:$A$370=H$4)*(LSM!$T$2:$T$370=H$5)*(LSM!$B$2:$B$370=$E9),LSM!$C$2:$C$370,"")} -> 266.59 | I9: {=_xlfn.XLOOKUP(1,(LSM!$A$2:$A$370=H$4)*(LSM!$T$2:$T$370=H$5)*(LSM!$B$2:$B$370=$E9),LSM!$D$2:$D$370,"")} -> A | J9: {=_xlfn.XLOOKUP(1,(LSM!$A$2:$A$370=J$4)*(LSM!$T$2:$T$370=J$5)*(LSM!$B$2:$B$370=$E9),LSM!$C$2:$C$370,"")} -> 251.24 | K9: {=_xlfn.XLOOKUP(1,(LSM!$A$2:$A$370=J$4)*(LSM!$T$2:$T$370=J$5)*(LSM!$B$2:$B$370=$E9),LSM!$D$2:$D$370,"")} -> A | L9: {=_xlfn.XLOOKUP(1,(LSM!$A$2:$A$370=L$4)*(LSM!$T$2:$T$370=L$5)*(LSM!$B$2:$B$370=$E9),LSM!$C$2:$C$370,"")} -> 226.55 | M9: {=_xlfn.XLOOKUP(1,(LSM!$A$2:$A$370=L$4)*(LSM!$T$2:$T$370=L$5)*(LSM!$B$2:$B$370=$E9),LSM!$D$2:$D$370,"")} -> A | N9: {=_xlfn.XLOOKUP(1,(LSM!$A$2:$A$370=N$4)*(LSM!$T$2:$T$370=N$5)*(LSM!$B$2:$B$370=$E9),LSM!$C$2:$C$370,"")} -> 195.32 | O9: {=_xlfn.XLOOKUP(1,(LSM!$A$2:$A$370=N$4)*(LSM!$T$2:$T$370=N$5)*(LSM!$B$2:$B$370=$E9),LSM!$D$2:$D$370,"")} -> AB | P9: {=_xlfn.XLOOKUP(1,(LSM!$A$2:$A$370=P$4)*(LSM!$T$2:$T$370=P$5)*(LSM!$B$2:$B$370=$E9),LSM!$C$2:$C$370,"")} -> 199.09 | Q9: {=_xlfn.XLOOKUP(1,(LSM!$A$2:$A$370=P$4)*(LSM!$T$2:$T$370=P$5)*(LSM!$B$2:$B$370=$E9),LSM!$D$2:$D$370,"")} -> A | R9: {=_xlfn.XLOOKUP(1,(LSM!$A$2:$A$370=R$4)*(LSM!$T$2:$T$370=R$5)*(LSM!$B$2:$B$370=$E9),LSM!$C$2:$C$370,"")} -> 265.48 | S9: {=_xlfn.XLOOKUP(1,(LSM!$A$2:$A$370=R$4)*(LSM!$T$2:$T$370=R$5)*(LSM!$B$2:$B$370=$E9),LSM!$D$2:$D$370,"")} -> A | T9: {=_xlfn.XLOOKUP(1,(LSM!$A$2:$A$370=T$4)*(LSM!$T$2:$T$370=T$5)*(LSM!$B$2:$B$370=$E9),LSM!$C$2:$C$370,"")} -> 253.32 | U9: {=_xlfn.XLOOKUP(1,(LSM!$A$2:$A$370=T$4)*(LSM!$T$2:$T$370=T$5)*(LSM!$B$2:$B$370=$E9),LSM!$D$2:$D$370,"")} -> A | V9: {=_xlfn.XLOOKUP(1,(LSM!$A$2:$A$370=V$4)*(LSM!$T$2:$T$370=V$5)*(LSM!$B$2:$B$370=$E9),LSM!$C$2:$C$370,"")} -> 255.26 | W9: {=_xlfn.XLOOKUP(1,(LSM!$A$2:$A$370=V$4)*(LSM!$T$2:$T$370=V$5)*(LSM!$B$2:$B$370=$E9),LSM!$D$2:$D$370,"")} -> A | X9: {=_xlfn.XLOOKUP(1,(LSM!$A$2:$A$370=X$4)*(LSM!$T$2:$T$370=X$5)*(LSM!$B$2:$B$370=$E9),LSM!$C$2:$C$370,"")} | Y9: {=_xlfn.XLOOKUP(1,(LSM!$A$2:$A$370=X$4)*(LSM!$T$2:$T$370=X$5)*(LSM!$B$2:$B$370=$E9),LSM!$D$2:$D$370,"")} | AA9: =IF(H9>H$17,1,0) -> 1 | AB9: =IF(J9>J$17,1,0) -> 0 | AC9: =IF(L9>L$17,1,0) -> 0 | AD9: =IF(N9>N$17,1,0) -> 1 | AE9: =IF(P9>P$17,1,0) -> 1 | AF9: =IF(R9>R$17,1,0) -> 1 | AG9: =IF(T9>T$17,1,0) -> 0 | AH9: =IF(V9>V$17,1,0) -> 1 | AJ9: =SUM(AA9:AI9)/COUNT(AA9:AI9) -> 0.625
A10: =VLOOKUP(E10,VL_2020,2,FALSE) -> Innvictis A1254T | B10: =VLOOKUP(E10,VL_2020,3,FALSE) -> RR | C10: =VLOOKUP(E10,VL_2020,4,FALSE) -> TRE | D10: =AJ10 -> 0.75 | E10: C25014 | F10: {=_xlfn.XLOOKUP(1,(LSM!$A$2:$A$370=F$4)*(LSM!$T$2:$T$370=F$5)*(LSM!$B$2:$B$370=$E10),LSM!$C$2:$C$370,"")} -> 236.92 | G10: {=_xlfn.XLOOKUP(1,(LSM!$A$2:$A$370=F$4)*(LSM!$T$2:$T$370=F$5)*(LSM!$B$2:$B$370=$E10),LSM!$D$2:$D$370,"")} -> A | H10: {=_xlfn.XLOOKUP(1,(LSM!$A$2:$A$370=H$4)*(LSM!$T$2:$T$370=H$5)*(LSM!$B$2:$B$370=$E10),LSM!$C$2:$C$370,"")} -> 261.33 | I10: {=_xlfn.XLOOKUP(1,(LSM!$A$2:$A$370=H$4)*(LSM!$T$2:$T$370=H$5)*(LSM!$B$2:$B$370=$E10),LSM!$D$2:$D$370,"")} -> A | J10: {=_xlfn.XLOOKUP(1,(LSM!$A$2:$A$370=J$4)*(LSM!$T$2:$T$370=J$5)*(LSM!$B$2:$B$370=$E10),LSM!$C$2:$C$370,"")} -> 270 | K10: {=_xlfn.XLOOKUP(1,(LSM!$A$2:$A$370=J$4)*(LSM!$T$2:$T$370=J$5)*(LSM!$B$2:$B$370=$E10),LSM!$D$2:$D$370,"")} -> A | L10: {=_xlfn.XLOOKUP(1,(LSM!$A$2:$A$370=L$4)*(LSM!$T$2:$T$370=L$5)*(LSM!$B$2:$B$370=$E10),LSM!$C$2:$C$370,"")} -> 270.25 | M10: {=_xlfn.XLOOKUP(1,(LSM!$A$2:$A$370=L$4)*(LSM!$T$2:$T$370=L$5)*(LSM!$B$2:$B$370=$E10),LSM!$D$2:$D$370,"")} -> A | N10: {=_xlfn.XLOOKUP(1,(LSM!$A$2:$A$370=N$4)*(LSM!$T$2:$T$370=N$5)*(LSM!$B$2:$B$370=$E10),LSM!$C$2:$C$370,"")} -> 163.05 | O10: {=_xlfn.XLOOKUP(1,(LSM!$A$2:$A$370=N$4)*(LSM!$T$2:$T$370=N$5)*(LSM!$B$2:$B$370=$E10),LSM!$D$2:$D$370,"")} -> B-D | P10: {=_xlfn.XLOOKUP(1,(LSM!$A$2:$A$370=P$4)*(LSM!$T$2:$T$370=P$5)*(LSM!$B$2:$B$370=$E10),LSM!$C$2:$C$370,"")} -> 178.91 | Q10: {=_xlfn.XLOOKUP(1,(LSM!$A$2:$A$370=P$4)*(LSM!$T$2:$T$370=P$5)*(LSM!$B$2:$B$370=$E10),LSM!$D$2:$D$370,"")} -> A | R10: {=_xlfn.XLOOKUP(1,(LSM!$A$2:$A$370=R$4)*(LSM!$T$2:$T$370=R$5)*(LSM!$B$2:$B$370=$E10),LSM!$C$2:$C$370,"")} -> 261.84 | S10: {=_xlfn.XLOOKUP(1,(LSM!$A$2:$A$370=R$4)*(LSM!$T$2:$T$370=R$5)*(LSM!$B$2:$B$370=$E10),LSM!$D$2:$D$370,"")} -> A | T10: {=_xlfn.XLOOKUP(1,(LSM!$A$2:$A$370=T$4)*(LSM!$T$2:$T$370=T$5)*(LSM!$B$2:$B$370=$E10),LSM!$C$2:$C$370,"")} -> 263.93 | U10: {=_xlfn.XLOOKUP(1,(LSM!$A$2:$A$370=T$4)*(LSM!$T$2:$T$370=T$5)*(LSM!$B$2:$B$370=$E10),LSM!$D$2:$D$370,"")} -> A | V10: {=_xlfn.XLOOKUP(1,(LSM!$A$2:$A$370=V$4)*(LSM!$T$2:$T$370=V$5)*(LSM!$B$2:$B$370=$E10),LSM!$C$2:$C$370,"")} -> 227.05 | W10: {=_xlfn.XLOOKUP(1,(LSM!$A$2:$A$370=V$4)*(LSM!$T$2:$T$370=V$5)*(LSM!$B$2:$B$370=$E10),LSM!$D$2:$D$370,"")} -> A | X10: {=_xlfn.XLOOKUP(1,(LSM!$A$2:$A$370=X$4)*(LSM!$T$2:$T$370=X$5)*(LSM!$B$2:$B$370=$E10),LSM!$C$2:$C$370,"")} | Y10: {=_xlfn.XLOOKUP(1,(LSM!$A$2:$A$370=X$4)*(LSM!$T$2:$T$370=X$5)*(LSM!$B$2:$B$370=$E10),LSM!$D$2:$D$370,"")} | AA10: =IF(H10>H$17,1,0) -> 1 | AB10: =IF(J10>J$17,1,0) -> 1 | AC10: =IF(L10>L$17,1,0) -> 1 | AD10: =IF(N10>N$17,1,0) -> 0 | AE10: =IF(P10>P$17,1,0) -> 0 | AF10: =IF(R10>R$17,1,0) -> 1 | AG10: =IF(T10>T$17,1,0) -> 1 | AH10: =IF(V10>V$17,1,0) -> 1 | AJ10: =SUM(AA10:AI10)/COUNT(AA10:AI10) -> 0.75
A11: =VLOOKUP(E11,VL_2020,2,FALSE) -> Pioneer P10705PWE | B11: =VLOOKUP(E11,VL_2020,3,FALSE) -> RR, LL, ENL, FOP | C11: =VLOOKUP(E11,VL_2020,4,FALSE) -> VT2P, HX1 | D11: =AJ11 -> 0.5 | E11: C26018 | F11: {=_xlfn.XLOOKUP(1,(LSM!$A$2:$A$370=F$4)*(LSM!$T$2:$T$370=F$5)*(LSM!$B$2:$B$370=$E11),LSM!$C$2:$C$370,"")} -> 233.49 | G11: {=_xlfn.XLOOKUP(1,(LSM!$A$2:$A$370=F$4)*(LSM!$T$2:$T$370=F$5)*(LSM!$B$2:$B$370=$E11),LSM!$D$2:$D$370,"")} -> A | H11: {=_xlfn.XLOOKUP(1,(LSM!$A$2:$A$370=H$4)*(LSM!$T$2:$T$370=H$5)*(LSM!$B$2:$B$370=$E11),LSM!$C$2:$C$370,"")} -> 266.15 | I11: {=_xlfn.XLOOKUP(1,(LSM!$A$2:$A$370=H$4)*(LSM!$T$2:$T$370=H$5)*(LSM!$B$2:$B$370=$E11),LSM!$D$2:$D$370,"")} -> A | J11: {=_xlfn.XLOOKUP(1,(LSM!$A$2:$A$370=J$4)*(LSM!$T$2:$T$370=J$5)*(LSM!$B$2:$B$370=$E11),LSM!$C$2:$C$370,"")} -> 256.93 | K11: {=_xlfn.XLOOKUP(1,(LSM!$A$2:$A$370=J$4)*(LSM!$T$2:$T$370=J$5)*(LSM!$B$2:$B$370=$E11),LSM!$D$2:$D$370,"")} -> A | L11: {=_xlfn.XLOOKUP(1,(LSM!$A$2:$A$370=L$4)*(LSM!$T$2:$T$370=L$5)*(LSM!$B$2:$B$370=$E11),LSM!$C$2:$C$370,"")} -> 223.81 | M11: {=_xlfn.XLOOKUP(1,(LSM!$A$2:$A$370=L$4)*(LSM!$T$2:$T$370=L$5)*(LSM!$B$2:$B$370=$E11),LSM!$D$2:$D$370,"")} -> A | N11: {=_xlfn.XLOOKUP(1,(LSM!$A$2:$A$370=N$4)*(LSM!$T$2:$T$370=N$5)*(LSM!$B$2:$B$370=$E11),LSM!$C$2:$C$370,"")} -> 172.4 | O11: {=_xlfn.XLOOKUP(1,(LSM!$A$2:$A$370=N$4)*(LSM!$T$2:$T$370=N$5)*(LSM!$B$2:$B$370=$E11),LSM!$D$2:$D$370,"")} -> A-D | P11: {=_xlfn.XLOOKUP(1,(LSM!$A$2:$A$370=P$4)*(LSM!$T$2:$T$370=P$5)*(LSM!$B$2:$B$370=$E11),LSM!$C$2:$C$370,"")} -> 212.36 | Q11: {=_xlfn.XLOOKUP(1,(LSM!$A$2:$A$370=P$4)*(LSM!$T$2:$T$370=P$5)*(LSM!$B$2:$B$370=$E11),LSM!$D$2:$D$370,"")} -> A | R11: {=_xlfn.XLOOKUP(1,(LSM!$A$2:$A$370=R$4)*(LSM!$T$2:$T$370=R$5)*(LSM!$B$2:$B$370=$E11),LSM!$C$2:$C$370,"")} -> 260.84 | S11: {=_xlfn.XLOOKUP(1,(LSM!$A$2:$A$370=R$4)*(LSM!$T$2:$T$370=R$5)*(LSM!$B$2:$B$370=$E11),LSM!$D$2:$D$370,"")} -> A | T11: {=_xlfn.XLOOKUP(1,(LSM!$A$2:$A$370=T$4)*(LSM!$T$2:$T$370=T$5)*(LSM!$B$2:$B$370=$E11),LSM!$C$2:$C$370,"")} -> 257.64 | U11: {=_xlfn.XLOOKUP(1,(LSM!$A$2:$A$370=T$4)*(LSM!$T$2:$T$370=T$5)*(LSM!$B$2:$B$370=$E11),LSM!$D$2:$D$370,"")} -> A | V11: {=_xlfn.XLOOKUP(1,(LSM!$A$2:$A$370=V$4)*(LSM!$T$2:$T$370=V$5)*(LSM!$B$2:$B$370=$E11),LSM!$C$2:$C$370,"")} -> 218.39 | W11: {=_xlfn.XLOOKUP(1,(LSM!$A$2:$A$370=V$4)*(LSM!$T$2:$T$370=V$5)*(LSM!$B$2:$B$370=$E11),LSM!$D$2:$D$370,"")} -> A | X11: {=_xlfn.XLOOKUP(1,(LSM!$A$2:$A$370=X$4)*(LSM!$T$2:$T$370=X$5)*(LSM!$B$2:$B$370=$E11),LSM!$C$2:$C$370,"")} | Y11: {=_xlfn.XLOOKUP(1,(LSM!$A$2:$A$370=X$4)*(LSM!$T$2:$T$370=X$5)*(LSM!$B$2:$B$370=$E11),LSM!$D$2:$D$370,"")} | AA11: =IF(H11>H$17,1,0) -> 1 | AB11: =IF(J11>J$17,1,0) -> 1 | AC11: =IF(L11>L$17,1,0) -> 0 | AD11: =IF(N11>N$17,1,0) -> 0 | AE11: =IF(P11>P$17,1,0) -> 1 | AF11: =IF(R11>R$17,1,0) -> 1 | AG11: =IF(T11>T$17,1,0) -> 0 | AH11: =IF(V11>V$17,1,0) -> 0 | AJ11: =SUM(AA11:AI11)/COUNT(AA11:AI11) -> 0.5
