Workbook
Name c_a: ANOVA!$A$1:$Q$160
Name c_m: LSM!$A$1:$T$370
Name VL_2020: 'Corn Traits & Entries'!$A$3:$H$33

Sheet Corn REC Location Info
A1: Table 1. Location information from University of Tennessee Institute of Agriculture (UTIA) AgResearch and Education Centers where corn hybrid tests were conducted in Tennessee in 2026.
A3: Early Season Corn Hybrids
A4: Location | B4: AgResearch and Education Center | C4: Irrigation | D4: Planting Date | E4: Harvest Date | F4: Plant Population | G4: Soil Type
A5: Column2 | B5: Column1 | C5: Column3 | D5: Column4 | E5: Column5 | F5: Column6 | G5: Column7
A6: Knoxville | B6: East Tennessee | C6: Irrigated | D6: 46129 | E6: 46280 | F6: 35563 | G6: Shady-Whitwell Complex
A7: Springfield | B7: Highland Rim | C7: Irrigated | D7: 46121 | E7: 46266 | F7: 31733 | G7: Sango Silt Loam
A8: Springfield | B8: Highland Rim | C8: Non-Irrigated | D8: 46121 | E8: 46266 | F8: 33860 | G8: Sango Silt Loam
A9: Spring Hill | B9: Middle Tennessee | C9: Non-Irrigated | D9: 46134 | E9: 46294 | F9: 29941 | G9: Maury Silt Loam
A10: Greeneville | B10: Northeast Tennessee | C10: Non-Irrigated | D10: 46135 | E10: 46283 | F10: 33627 | G10: Holston Loam
A11: Milan | B11: Milan | C11: Irrigated | D11: 46127 | E11: 46275 | F11: 34012 | G11: Loring
A12: Milan | B12: Milan | C12: Non-Irrigated | D12: 46126 | E12: 46276 | F12: 32746 | G12: Grenada
A13: Jackson | B13: West Tennessee | C13: Irrigated | D13: 46121 | E13: 46265 | F13: 33901 | G13: Almo
A14: Memphis | B14: Agricenter International | C14: Irrigated | G14: Falaya Silt Loam
A16: Medium Season Corn Hybrids
A17: Location | B17: AgResearch and Education Center | C17: Irrigation | D17: Planting Date | E17: Harvest Date | F17: Plant Population | G17: Soil Type
A19: Knoxville | B19: East Tennessee | C19: Irrigated | D19: 46129 | E19: 46280 | F19: 34782 | G19: Shady-Whitwell Complex
A20: Springfield | B20: Highland Rim | C20: Irrigated | D20: 46121 | E20: 46268 | F20: 33239 | G20: Sango Silt Loam
A21: Springfield | B21: Highland Rim | C21: Non-Irrigated | D21: 46121 | E21: 46266 | F21: 31146 | G21: Sango Silt Loam
A22: Spring Hill | B22: Middle Tennessee | C22: Non-Irrigated | D22: 46134 | E22: 46294 | F22: 32294 | G22: Maury Silt Loam
A23: Greeneville | B23: Northeast Tennessee | C23: Non-Irrigated | D23: 46135 | E23: 46286 | F23: 32400 | G23: Holston Loam
A24: Milan | B24: Milan | C24: Irrigated | D24: 46127 | E24: 46275 | F24: 33998 | G24: Loring
A25: Milan | B25: Milan | C25: Non-Irrigated | D25: 46126 | E25: 46276 | F25: 33815 | G25: Grenada
A26: Jackson | B26: West Tennessee | C26: Irrigated | D26: 46121 | E26: 46266 | F26: 34453 | G26: Almo
A27: Memphis | B27: Agricenter International | C27: Irrigated | G27: Falaya Silt Loam
A29: Full Season Corn Hybrids
A30: Location | B30: AgResearch and Education Center | C30: Irrigation | D30: Planting Date | E30: Harvest Date | F30: Plant Population | G30: Soil Type
A31: Knoxville | B31: East Tennessee | C31: Irrigated | D31: 46129 | E31: 46280 | F31: 34918 | G31: Shady-Whitwell Complex
A32: Springfield | B32: Highland Rim | C32: Irrigated | D32: 46121 | E32: 46273 | F32: 31680 | G32: Sango Silt Loam
A33: Springfield | B33: Highland Rim | C33: Non-Irrigated | D33: 46121 | E33: 46273 | F33: 31398 | G33: Sango Silt Loam
A34: Spring Hill | B34: Middle Tennessee | C34: Non-Irrigated | D34: 46134 | E34: 46294 | F34: 31903 | G34: Maury Silt Loam
A35: Greeneville | B35: Northeast Tennessee | C35: Non-Irrigated | D35: 46135 | E35: 46286 | F35: 32643 | G35: Holston Loam
A36: Milan | B36: Milan | C36: Irrigated | D36: 46127 | E36: 46275 | F36: 33871 | G36: Loring
A37: Milan | B37: Milan | C37: Non-Irrigated | D37: 46126 | E37: 46276 | F37: 33874 | G37: Grenada
A38: Jackson | B38: West Tennessee | C38: Irrigated | D38: 46121 | E38: 46266 | F38: 35253 | G38: Almo
A39: Memphis | B39: Agricenter International | C39: Irrigated | G39: Falaya Silt Loam

Sheet Corn Traits & Entries
B1: Table 16. Characteristics, as described by the seed company, of corn hybrids evaluated in yield tests in Tennessee during 2026.
A2: Entry | B2: Hybrid | C2: Herb. Pkg.§ | D2: Insect Pkg.§ | E2: Refuge | F2: Maturity | G2: Test | H2: Seed Treatment
A3: C26001 | B3: Dekalb DKC 112-12RIB | C3: RR | D3: TRE | E3: Y | F3: 112 | G3: Early Corn | H3: P500
A4: C26004 | B4: Dyna-Gro D50PN07RA | C4: RR, LL, ENL, FOP | D4: FOP | E4: Y | F4: 110 | G4: Early Corn | H4: Insecticide and fungicide
A5: C25018 | B5: Dyna-Gro D52TC66RIB | C5: RR | D5: TRE | E5: Y | F5: 112 | G5: Early Corn | H5: Insecticide and fungicide
A6: C25011 | B6: Great Heart HT-7210TRE | C6: TRE | D6: TRE | E6: Y | F6: 112 | G6: Early Corn | H6: PV500
A7: C25012 | B7: Great Heart HT-7335TRE | C7: TRE | D7: TRE | E7: Y | F7: 113 | G7: Early Corn | H7: PV500
A8: C26015 | B8: Innvictis A0904TRIB | C8: RR | D8: TRE | E8: Y | F8: 109 | G8: Early Corn | H8: Poncho 250
A9: C25014 | B9: Innvictis A1254T | C9: RR | D9: TRE | E9: N | F9: 112 | G9: Early Corn | H9: Poncho 250
A10: C24010 | B10: Innvictis A1312VT2P | C10: RR | D10: VT2P | E10: N | F10: 113 | G10: Early Corn | H10: Poncho 250
A11: C26018 | B11: Pioneer P10705PWE | C11: RR, LL, ENL, FOP | D11: VT2P, HX1 | E11: N | F11: 110 | G11: Early Corn | H11: Lumivia® 250 + Lumisure™ 250 + Lumialza™
A12: C26021 | B12: Revere 110-T50 | C12: RR | D12: TRE | F12: 110 | G12: Early Corn | H12: Radius 500
A13: C26022 | B13: Revere 113-T73 | C13: RR | D13: TRE | F13: 113 | G13: Early Corn | H13: Radius 500
A14: C25002 | B14: Dekalb DKC 114-99 | C14: RR | D14: VT4P | E14: N | F14: 114 | G14: Med Corn | H14: P1250
A15: C26002 | B15: Dekalb DKC 115-55 | C15: RR | D15: TRE | E15: N | F15: 115 | G15: Med Corn | H15: P1250
A16: C26005 | B16: Dyna-Gro D54TC77 | C16: RR | E16: N | F16: 114 | G16: Med Corn | H16: Insecticide and fungicide
A17: C26006 | B17: Dyna-Gro D55VC86RIB | C17: RR | E17: Y | F17: 115 | G17: Med Corn | H17: Insecticide and fungicide
A18: C26013 | B18: Gateway 4914TRE | C18: RR | D18: TRE | E18: N | F18: 114 | G18: Med Corn | H18: PV500
A19: C25015 | B19: Innvictis A1414T | C19: RR | D19: TRE | E19: N | F19: 114 | G19: Med Corn | H19: Poncho 250
A20: C26019 | B20: Pioneer P15395PWE | C20: RR, LL, ENL, FOP | D20: VT2P, HX1 | E20: N | F20: 115 | G20: Med Corn | H20: Lumivia® 250 + Lumisure™ 250 + Lumialza™
A21: C26020 | B21: Pioneer P16647PWE | C21: RR, LL, ENL, FOP | D21: VT2P, HX1 | E21: N | F21: 116 | G21: Med Corn | H21: Lumivia® 250 + Lumisure™ 250 + Lumialza™
A22: C26023 | B22: Revere 116-P44 | C22: RR | D22: VT2P | F22: 116 | G22: Med Corn | H22: Radius 500
A23: C25003 | B23: Dekalb DKC 119-30 | C23: RR | D23: VT4P | E23: N | F23: 119 | G23: Full Corn | H23: P1250
A24: C26003 | B24: Dekalb DKC68-35 | C24: RR | D24: GENVT2P | E24: N | F24: 118 | G24: Full Corn | H24: P1250
A25: C25024 | B25: Dyna-Gro D60TC45RIB | C25: RR | D25: TRE | E25: Y | F25: 120 | G25: Full Corn | H25: Insecticide and fungicide
A26: C26012 | B26: Gateway 3919TRE | C26: RR | D26: TRE | E26: N | F26: 119 | G26: Full Corn | H26: PV500
A27: C26014 | B27: Great Heart HT-7720TRE | C27: TRE | D27: TRE | E27: Y | F27: 117 | G27: Full Corn | H27: PV500
A28: C26016 | B28: Innvictis A1776VT2P | C28: RR | D28: VT2P | E28: N | F28: 117 | G28: Full Corn | H28: Poncho 250
A29: C24011 | B29: Innvictis A1792T | C29: RR | D29: TRE | E29: N | F29: 117 | G29: Full Corn | H29: Poncho 250
A30: C24012 | B30: Innvictis A1993T | C30: RR | D30: TRE | E30: N | F30: 119 | G30: Full Corn | H30: Poncho 250
A31: C26017 | B31: Integra 6915 VT2P | C31: RR | D31: VT2P | E31: N | F31: 119 | G31: Full Corn | H31: PV500+Stepup
A32: C25022 | B32: Pioneer P18216PWE | C32: RR, LL, ENL, FOP | D32: VT2P, HX1 | E32: N | F32: 118 | G32: Full Corn | H32: Lumivia® 250 + Lumisure™ 250 + Lumialza™
A33: C26024 | B33: Revere 1839 | C33: RR | D33: TRE | F33: 118 | G33: Full Corn | H33: Radius 500

Sheet Corn Trait Abbr
A1: Table 18. Abbreviations used to identify biotech traits of corn grain hybrids evaluated in Tennessee during 2026.
A2: Abbreviation | B2: Name | C2: Characteristic
A3: Column1 | B3: Column2 | C3: Column3
A4: AVBL | B4: Agrisure 3000GT | C4: Protection from corn earworm, European corn borer, sugarcane borer, southwestern corn borer, corn rootworm. Glyphosate and glufosinate tolerance.
A5: BT | B5: Bacillus Thuringiensis | C5: Varies
A6: CB | B6: Corn Borer | C6: Protection from corn borer
A7: ENL | B7: Enlist | C7: Tolerance to 2,4-D, glyphosate, glufosinate, and FOPs
A8: FOP | B8: FOP | C8: FOP herbicide tolerance
A9: HX1 | B9: DowAgrosciences Pioneer Hi-Bred Herculex I | C9: Protection from western bean cutworm, corn borer, black cutworm and fall armyworm resistance. Glyphosate and glufosinate tolerance.
A10: LL | B10: LibertyLink | C10: Glufosinate tolerance
A11: PWE | B11: PowerCorn Enlist | C11: Protection from European corn borer, fall armywork, and Southwestern corn borer. Tolerance to 2,4-D, glyphosate, glufosinate, and FOPs
A12: RR, RR2, GT | B12: Roundup Ready, Roundup Ready 2 | C12: Glyphosate tolerance
A13: TRE | B13: Trecepta | C13: Protection from black cutworm, corn earworm, European corn borer, fall armyworm, stalk borer, sugarcane borer, southwestern corn borer, true armyworm, western bean cutworm. Glyphosate tolerance.
... A16: YGCB | B16: Monsanto YieldGard Corn Borer | C16: Protection from European and Southwestern Corn Borers, Sugarcane Borer and Southern Cornstalk Borer.

Sheet Corn Company Contacts
A1: Table 17. Contact information for corn hybrid seed companies evaluated in yield tests in Tennessee during 2026.
A2: Brand / Company | B2: Contact | C2: Phone | D2: Email | E2: Web site
A3: Dekalb (Bayer Crop Science) | B3: James Griffin | C3: 731-413-9825 | D3: james.griffin1@bayer.com | E3: www.cropscience.bayer.us/brands/dekalb
A4: Dyna-Gro Seed (Nutrien Ag Solutions) | B4: Brock Sargeant | C4: 270-881-3003 | D4: brock.sargeant@nutrien.com | E4: www.dynagroseed.com
A5: Gateway Seed | B5: Scott Patton | C5: 870-995-1226 | D5: scottie@gatewayseed.com | E5: gatewayseed.com
A6: Great Heart Seed | B6: David Lucas | C6: 217-737-6745 | D6: dave.lucas772@gmail.com | E6: www.greatheartseed.com
A7: Innvictis Seed Solutions | B7: Chris Main | C7: 986-256-2211 | D7: chris.main@simplot.com | E7: www.innvictis.com
A8: Integra | B8: Nich Chammoun | C8: 229-854-0524 | D8: nchammoun@cniag.com | E8: www.integraseed.com
A9: Pioneer (Vylor) | B9: Kyle Holmberg | C9: 317-671-1719 | D9: kyle.holmberg@vylor.com | E9: www.pioneer.com
A10: Revere Seed | B10: Reed Trusty | C10: 662-299-3205 | D10: reed,trusty@revereseed.com | E10: www.revereseed.com

Sheet Early Corn Avg
A1: Table 4. Mean yield and agronomic traits of 11 early-season (<114 DAP) corn hybrids evaluated in small plot replicated trials at eight AgResearch and Education Center locations in Tennessee during 2026.
A2: Hybrid† | B2: Herbicide Pkg‡ | C2: Insect Pkg.‡ | E2: Avg. Yield§ (bu/ac) | G2: Moisture at Harvest (%) | I2: Test Weight (lbs/bu) | K2: Plant Height (in.) | M2: Ear Height (in.) | O2: Lodging¶ (%) | P2: Protein‖ (%) | R2: Oil‖ (%) | T2: Starch‖ (%)
E3: YLD_1 | G3: MST_1 | I3: TW_1 | K3: PHGT_1 | M3: EHGT_1 | O3: Lodg_1 | P3: Prot_1 | R3: Oil_1 | T3: Star_1
E4: A | G4: A | I4: A | K4: A | M4: A | O4: A | P4: A | R4: A | T4: A
E5: Early | G5: Early | I5: Early | K5: Early | M5: Early | O5: Early | P5: Early | R5: Early | T5: Early
A6: =VLOOKUP(D6,VL_2020,2,FALSE) -> Dekalb DKC 112-12RIB | B6: =VLOOKUP(D6,VL_2020,3,FALSE) -> RR | C6: =VLOOKUP(D6,VL_2020,4,FALSE) -> TRE | D6: C26001 | E6: {=_xlfn.XLOOKUP(1,(LSM!$A$2:$A$370=E$4)*(LSM!$T$2:$T$370=E$5)*(LSM!$B$2:$B$370=$D6),LSM!$C$2:$C$370,"")} -> 241.25 | F6: {=_xlfn.XLOOKUP(1,(LSM!$A$2:$A$370=E$4)*(LSM!$T$2:$T$370=E$5)*(LSM!$B$2:$B$370=$D6),LSM!$D$2:$D$370,"")} -> A | G6: {=_xlfn.XLOOKUP(1,(LSM!$A$2:$A$370=G$4)*(LSM!$T$2:$T$370=G$5)*(LSM!$B$2:$B$370=$D6),LSM!$E$2:$E$370,"")} -> 15.8842 | H6: {=_xlfn.XLOOKUP(1,(LSM!$A$2:$A$370=G$4)*(LSM!$T$2:$T$370=G$5)*(LSM!$B$2:$B$370=$D6),LSM!$F$2:$F$370,"")} -> B-D | I6: {=_xlfn.XLOOKUP(1,(LSM!$A$2:$A$370=I$4)*(LSM!$T$2:$T$370=I$5)*(LSM!$B$2:$B$370=$D6),LSM!$L$2:$L$370,"")} -> 58.9722 | J6: {=_xlfn.XLOOKUP(1,(LSM!$A$2:$A$370=I$4)*(LSM!$T$2:$T$370=I$5)*(LSM!$B$2:$B$370=$D6),LSM!$M$2:$M$370,"")} -> AB | K6: {=_xlfn.XLOOKUP(1,(LSM!$A$2:$A$370=K$4)*(LSM!$T$2:$T$370=K$5)*(LSM!$B$2:$B$370=$D6),LSM!$G$2:$G$370,"")} -> 100.63 | L6: {=_xlfn.XLOOKUP(1,(LSM!$A$2:$A$370=K$4)*(LSM!$T$2:$T$370=K$5)*(LSM!$B$2:$B$370=$D6),LSM!$H$2:$H$370,"")} -> C-E | M6: {=_xlfn.XLOOKUP(1,(LSM!$A$2:$A$370=M$4)*(LSM!$T$2:$T$370=M$5)*(LSM!$B$2:$B$370=$D6),LSM!$I$2:$I$370,"")} -> 40.7778 | N6: {=_xlfn.XLOOKUP(1,(LSM!$A$2:$A$370=M$4)*(LSM!$T$2:$T$370=M$5)*(LSM!$B$2:$B$370=$D6),LSM!$J$2:$J$370,"")} -> C-F | O6: {=_xlfn.XLOOKUP(1,(LSM!$A$2:$A$370=O$4)*(LSM!$T$2:$T$370=O$5)*(LSM!$B$2:$B$370=$D6),LSM!$K$2:$K$370,"")} -> 0.51286488 | P6: {=_xlfn.XLOOKUP(1,(LSM!$A$2:$A$370=P$4)*(LSM!$T$2:$T$370=P$5)*(LSM!$B$2:$B$370=$D6),LSM!$N$2:$N$370,"")} -> 10.9901 | Q6: {=_xlfn.XLOOKUP(1,(LSM!$A$2:$A$370=P$4)*(LSM!$T$2:$T$370=P$5)*(LSM!$B$2:$B$370=$D6),LSM!$O$2:$O$370,"")} -> A | R6: {=_xlfn.XLOOKUP(1,(LSM!$A$2:$A$370=R$4)*(LSM!$T$2:$T$370=R$5)*(LSM!$B$2:$B$370=$D6),LSM!$P$2:$P$370,"")} -> 4.1523 | S6: {=_xlfn.XLOOKUP(1,(LSM!$A$2:$A$370=R$4)*(LSM!$T$2:$T$370=R$5)*(LSM!$B$2:$B$370=$D6),LSM!$Q$2:$Q$370,"")} -> A | T6: {=_xlfn.XLOOKUP(1,(LSM!$A$2:$A$370=T$4)*(LSM!$T$2:$T$370=T$5)*(LSM!$B$2:$B$370=$D6),LSM!$R$2:$R$370,"")} -> 84.9079 | U6: {=_xlfn.XLOOKUP(1,(LSM!$A$2:$A$370=T$4)*(LSM!$T$2:$T$370=T$5)*(LSM!$B$2:$B$370=$D6),LSM!$S$2:$S$370,"")} -> D-F
A7: =VLOOKUP(D7,VL_2020,2,FALSE) -> Great Heart HT-7335TRE | B7: =VLOOKUP(D7,VL_2020,3,FALSE) -> TRE | C7: =VLOOKUP(D7,VL_2020,4,FALSE) -> TRE | D7: C25012 | E7: {=_xlfn.XLOOKUP(1,(LSM!$A$2:$A$370=E$4)*(LSM!$T$2:$T$370=E$5)*(LSM!$B$2:$B$370=$D7),LSM!$C$2:$C$370,"")} -> 240.81 | F7: {=_xlfn.XLOOKUP(1,(LSM!$A$2:$A$370=E$4)*(LSM!$T$2:$T$370=E$5)*(LSM!$B$2:$B$370=$D7),LSM!$D$2:$D$370,"")} -> A | G7: {=_xlfn.XLOOKUP(1,(LSM!$A$2:$A$370=G$4)*(LSM!$T$2:$T$370=G$5)*(LSM!$B$2:$B$370=$D7),LSM!$E$2:$E$370,"")} -> 16.1733 | H7: {=_xlfn.XLOOKUP(1,(LSM!$A$2:$A$370=G$4)*(LSM!$T$2:$T$370=G$5)*(LSM!$B$2:$B$370=$D7),LSM!$F$2:$F$370,"")} -> B | I7: {=_xlfn.XLOOKUP(1,(LSM!$A$2:$A$370=I$4)*(LSM!$T$2:$T$370=I$5)*(LSM!$B$2:$B$370=$D7),LSM!$L$2:$L$370,"")} -> 59.75 | J7: {=_xlfn.XLOOKUP(1,(LSM!$A$2:$A$370=I$4)*(LSM!$T$2:$T$370=I$5)*(LSM!$B$2:$B$370=$D7),LSM!$M$2:$M$370,"")} -> A | K7: {=_xlfn.XLOOKUP(1,(LSM!$A$2:$A$370=K$4)*(LSM!$T$2:$T$370=K$5)*(LSM!$B$2:$B$370=$D7),LSM!$G$2:$G$370,"")} -> 104.78 | L7: {=_xlfn.XLOOKUP(1,(LSM!$A$2:$A$370=K$4)*(LSM!$T$2:$T$370=K$5)*(LSM!$B$2:$B$370=$D7),LSM!$H$2:$H$370,"")} -> AB | M7: {=_xlfn.XLOOKUP(1,(LSM!$A$2:$A$370=M$4)*(LSM!$T$2:$T$370=M$5)*(LSM!$B$2:$B$370=$D7),LSM!$I$2:$I$370,"")} -> 43.2778 | N7: {=_xlfn.XLOOKUP(1,(LSM!$A$2:$A$370=M$4)*(LSM!$T$2:$T$370=M$5)*(LSM!$B$2:$B$370=$D7),LSM!$J$2:$J$370,"")} -> BC | O7: {=_xlfn.XLOOKUP(1,(LSM!$A$2:$A$370=O$4)*(LSM!$T$2:$T$370=O$5)*(LSM!$B$2:$B$370=$D7),LSM!$K$2:$K$370,"")} -> 0.19676527 | P7: {=_xlfn.XLOOKUP(1,(LSM!$A$2:$A$370=P$4)*(LSM!$T$2:$T$370=P$5)*(LSM!$B$2:$B$370=$D7),LSM!$N$2:$N$370,"")} -> 10.927 | Q7: {=_xlfn.XLOOKUP(1,(LSM!$A$2:$A$370=P$4)*(LSM!$T$2:$T$370=P$5)*(LSM!$B$2:$B$370=$D7),LSM!$O$2:$O$370,"")} -> A | R7: {=_xlfn.XLOOKUP(1,(LSM!$A$2:$A$370=R$4)*(LSM!$T$2:$T$370=R$5)*(LSM!$B$2:$B$370=$D7),LSM!$P$2:$P$370,"")} -> 4.3101 | S7: {=_xlfn.XLOOKUP(1,(LSM!$A$2:$A$370=R$4)*(LSM!$T$2:$T$370=R$5)*(LSM!$B$2:$B$370=$D7),LSM!$Q$2:$Q$370,"")} -> A | T7: {=_xlfn.XLOOKUP(1,(LSM!$A$2:$A$370=T$4)*(LSM!$T$2:$T$370=T$5)*(LSM!$B$2:$B$370=$D7),LSM!$R$2:$R$370,"")} -> 86.1185 | U7: {=_xlfn.XLOOKUP(1,(LSM!$A$2:$A$370=T$4)*(LSM!$T$2:$T$370=T$5)*(LSM!$B$2:$B$370=$D7),LSM!$S$2:$S$370,"")} -> BC
A8: =VLOOKUP(D8,VL_2020,2,FALSE) -> Revere 113-T73 | B8: =VLOOKUP(D8,VL_2020,3,FALSE) -> RR | C8: =VLOOKUP(D8,VL_2020,4,FALSE) -> TRE | D8: C26022 | E8: {=_xlfn.XLOOKUP(1,(LSM!$A$2:$A$370=E$4)*(LSM!$T$2:$T$370=E$5)*(LSM!$B$2:$B$370=$D8),LSM!$C$2:$C$370,"")} -> 239.39 | F8: {=_xlfn.XLOOKUP(1,(LSM!$A$2:$A$370=E$4)*(LSM!$T$2:$T$370=E$5)*(LSM!$B$2:$B$370=$D8),LSM!$D$2:$D$370,"")} -> A | G8: {=_xlfn.XLOOKUP(1,(LSM!$A$2:$A$370=G$4)*(LSM!$T$2:$T$370=G$5)*(LSM!$B$2:$B$370=$D8),LSM!$E$2:$E$370,"")} -> 15.8492 | H8: {=_xlfn.XLOOKUP(1,(LSM!$A$2:$A$370=G$4)*(LSM!$T$2:$T$370=G$5)*(LSM!$B$2:$B$370=$D8),LSM!$F$2:$F$370,"")} -> B-D | I8: {=_xlfn.XLOOKUP(1,(LSM!$A$2:$A$370=I$4)*(LSM!$T$2:$T$370=I$5)*(LSM!$B$2:$B$370=$D8),LSM!$L$2:$L$370,"")} -> 58.0444 | J8: {=_xlfn.XLOOKUP(1,(LSM!$A$2:$A$370=I$4)*(LSM!$T$2:$T$370=I$5)*(LSM!$B$2:$B$370=$D8),LSM!$M$2:$M$370,"")} -> BC | K8: {=_xlfn.XLOOKUP(1,(LSM!$A$2:$A$370=K$4)*(LSM!$T$2:$T$370=K$5)*(LSM!$B$2:$B$370=$D8),LSM!$G$2:$G$370,"")} -> 104.65 | L8: {=_xlfn.XLOOKUP(1,(LSM!$A$2:$A$370=K$4)*(LSM!$T$2:$T$370=K$5)*(LSM!$B$2:$B$370=$D8),LSM!$H$2:$H$370,"")} -> AB | M8: {=_xlfn.XLOOKUP(1,(LSM!$A$2:$A$370=M$4)*(LSM!$T$2:$T$370=M$5)*(LSM!$B$2:$B$370=$D8),LSM!$I$2:$I$370,"")} -> 42.4074 | N8: {=_xlfn.XLOOKUP(1,(LSM!$A$2:$A$370=M$4)*(LSM!$T$2:$T$370=M$5)*(LSM!$B$2:$B$370=$D8),LSM!$J$2:$J$370,"")} -> B-D | O8: {=_xlfn.XLOOKUP(1,(LSM!$A$2:$A$370=O$4)*(LSM!$T$2:$T$370=O$5)*(LSM!$B$2:$B$370=$D8),LSM!$K$2:$K$370,"")} -> 0.74146751 | P8: {=_xlfn.XLOOKUP(1,(LSM!$A$2:$A$370=P$4)*(LSM!$T$2:$T$370=P$5)*(LSM!$B$2:$B$370=$D8),LSM!$N$2:$N$370,"")} -> 11.6604 | Q8: {=_xlfn.XLOOKUP(1,(LSM!$A$2:$A$370=P$4)*(LSM!$T$2:$T$370=P$5)*(LSM!$B$2:$B$370=$D8),LSM!$O$2:$O$370,"")} -> A | R8: {=_xlfn.XLOOKUP(1,(LSM!$A$2:$A$370=R$4)*(LSM!$T$2:$T$370=R$5)*(LSM!$B$2:$B$370=$D8),LSM!$P$2:$P$370,"")} -> 4.3692 | S8: {=_xlfn.XLOOKUP(1,(LSM!$A$2:$A$370=R$4)*(LSM!$T$2:$T$370=R$5)*(LSM!$B$2:$B$370=$D8),LSM!$Q$2:$Q$370,"")} -> A | T8: {=_xlfn.XLOOKUP(1,(LSM!$A$2:$A$370=T$4)*(LSM!$T$2:$T$370=T$5)*(LSM!$B$2:$B$370=$D8),LSM!$R$2:$R$370,"")} -> 84.7777 | U8: {=_xlfn.XLOOKUP(1,(LSM!$A$2:$A$370=T$4)*(LSM!$T$2:$T$370=T$5)*(LSM!$B$2:$B$370=$D8),LSM!$S$2:$S$370,"")} -> EF
A9: =VLOOKUP(D9,VL_2020,2,FALSE) -> Dyna-Gro D52TC66RIB | B9: =VLOOKUP(D9,VL_2020,3,FALSE) -> RR | C9: =VLOOKUP(D9,VL_2020,4,FALSE) -> TRE | D9: C25018 | E9: {=_xlfn.XLOOKUP(1,(LSM!$A$2:$A$370=E$4)*(LSM!$T$2:$T$370=E$5)*(LSM!$B$2:$B$370=$D9),LSM!$C$2:$C$370,"")} -> 238.38 | F9: {=_xlfn.XLOOKUP(1,(LSM!$A$2:$A$370=E$4)*(LSM!$T$2:$T$370=E$5)*(LSM!$B$2:$B$370=$D9),LSM!$D$2:$D$370,"")} -> A | G9: {=_xlfn.XLOOKUP(1,(LSM!$A$2:$A$370=G$4)*(LSM!$T$2:$T$370=G$5)*(LSM!$B$2:$B$370=$D9),LSM!$E$2:$E$370,"")} -> 15.2154 | H9: {=_xlfn.XLOOKUP(1,(LSM!$A$2:$A$370=G$4)*(LSM!$T$2:$T$370=G$5)*(LSM!$B$2:$B$370=$D9),LSM!$F$2:$F$370,"")} -> B-E | I9: {=_xlfn.XLOOKUP(1,(LSM!$A$2:$A$370=I$4)*(LSM!$T$2:$T$370=I$5)*(LSM!$B$2:$B$370=$D9),LSM!$L$2:$L$370,"")} -> 59.4111 | J9: {=_xlfn.XLOOKUP(1,(LSM!$A$2:$A$370=I$4)*(LSM!$T$2:$T$370=I$5)*(LSM!$B$2:$B$370=$D9),LSM!$M$2:$M$370,"")} -> A | K9: {=_xlfn.XLOOKUP(1,(LSM!$A$2:$A$370=K$4)*(LSM!$T$2:$T$370=K$5)*(LSM!$B$2:$B$370=$D9),LSM!$G$2:$G$370,"")} -> 100.98 | L9: {=_xlfn.XLOOKUP(1,(LSM!$A$2:$A$370=K$4)*(LSM!$T$2:$T$370=K$5)*(LSM!$B$2:$B$370=$D9),LSM!$H$2:$H$370,"")} -> B-E | M9: {=_xlfn.XLOOKUP(1,(LSM!$A$2:$A$370=M$4)*(LSM!$T$2:$T$370=M$5)*(LSM!$B$2:$B$370=$D9),LSM!$I$2:$I$370,"")} -> 39.7593 | N9: {=_xlfn.XLOOKUP(1,(LSM!$A$2:$A$370=M$4)*(LSM!$T$2:$T$370=M$5)*(LSM!$B$2:$B$370=$D9),LSM!$J$2:$J$370,"")} -> EF | O9: {=_xlfn.XLOOKUP(1,(LSM!$A$2:$A$370=O$4)*(LSM!$T$2:$T$370=O$5)*(LSM!$B$2:$B$370=$D9),LSM!$K$2:$K$370,"")} -> 0.33145294 | P9: {=_xlfn.XLOOKUP(1,(LSM!$A$2:$A$370=P$4)*(LSM!$T$2:$T$370=P$5)*(LSM!$B$2:$B$370=$D9),LSM!$N$2:$N$370,"")} -> 11.1123 | Q9: {=_xlfn.XLOOKUP(1,(LSM!$A$2:$A$370=P$4)*(LSM!$T$2:$T$370=P$5)*(LSM!$B$2:$B$370=$D9),LSM!$O$2:$O$370,"")} -> A | R9: {=_xlfn.XLOOKUP(1,(LSM!$A$2:$A$370=R$4)*(LSM!$T$2:$T$370=R$5)*(LSM!$B$2:$B$370=$D9),LSM!$P$2:$P$370,"")} -> 4.1839 | S9: {=_xlfn.XLOOKUP(1,(LSM!$A$2:$A$370=R$4)*(LSM!$T$2:$T$370=R$5)*(LSM!$B$2:$B$370=$D9),LSM!$Q$2:$Q$370,"")} -> A | T9: {=_xlfn.XLOOKUP(1,(LSM!$A$2:$A$370=T$4)*(LSM!$T$2:$T$370=T$5)*(LSM!$B$2:$B$370=$D9),LSM!$R$2:$R$370,"")} -> 86.1263 | U9: {=_xlfn.XLOOKUP(1,(LSM!$A$2:$A$370=T$4)*(LSM!$T$2:$T$370=T$5)*(LSM!$B$2:$B$370=$D9),LSM!$S$2:$S$370,"")} -> BC
A10: =VLOOKUP(D10,VL_2020,2,FALSE) -> Innvictis A1254T | B10: =VLOOKUP(D10,VL_2020,3,FALSE) -> RR | C10: =VLOOKUP(D10,VL_2020,4,FALSE) -> TRE | D10: C25014 | E10: {=_xlfn.XLOOKUP(1,(LSM!$A$2:$A$370=E$4)*(LSM!$T$2:$T$370=E$5)*(LSM!$B$2:$B$370=$D10),LSM!$C$2:$C$370,"")} -> 236.92 | F10: {=_xlfn.XLOOKUP(1,(LSM!$A$2:$A$370=E$4)*(LSM!$T$2:$T$370=E$5)*(LSM!$B$2:$B$370=$D10),LSM!$D$2:$D$370,"")} -> A | G10: {=_xlfn.XLOOKUP(1,(LSM!$A$2:$A$370=G$4)*(LSM!$T$2:$T$370=G$5)*(LSM!$B$2:$B$370=$D10),LSM!$E$2:$E$370,"")} -> 15.1758 | H10: {=_xlfn.XLOOKUP(1,(LSM!$A$2:$A$370=G$4)*(LSM!$T$2:$T$370=G$5)*(LSM!$B$2:$B$370=$D10),LSM!$F$2:$F$370,"")} -> C-E | I10: {=_xlfn.XLOOKUP(1,(LSM!$A$2:$A$370=I$4)*(LSM!$T$2:$T$370=I$5)*(LSM!$B$2:$B$370=$D10),LSM!$L$2:$L$370,"")} -> 57.9778 | J10: {=_xlfn.XLOOKUP(1,(LSM!$A$2:$A$370=I$4)*(LSM!$T$2:$T$370=I$5)*(LSM!$B$2:$B$370=$D10),LSM!$M$2:$M$370,"")} -> BC | K10: {=_xlfn.XLOOKUP(1,(LSM!$A$2:$A$370=K$4)*(LSM!$T$2:$T$370=K$5)*(LSM!$B$2:$B$370=$D10),LSM!$G$2:$G$370,"")} -> 103.87 | L10: {=_xlfn.XLOOKUP(1,(LSM!$A$2:$A$370=K$4)*(LSM!$T$2:$T$370=K$5)*(LSM!$B$2:$B$370=$D10),LSM!$H$2:$H$370,"")} -> A-C | M10: {=_xlfn.XLOOKUP(1,(LSM!$A$2:$A$370=M$4)*(LSM!$T$2:$T$370=M$5)*(LSM!$B$2:$B$370=$D10),LSM!$I$2:$I$370,"")} -> 41.9815 | N10: {=_xlfn.XLOOKUP(1,(LSM!$A$2:$A$370=M$4)*(LSM!$T$2:$T$370=M$5)*(LSM!$B$2:$B$370=$D10),LSM!$J$2:$J$370,"")} -> B-E | O10: {=_xlfn.XLOOKUP(1,(LSM!$A$2:$A$370=O$4)*(LSM!$T$2:$T$370=O$5)*(LSM!$B$2:$B$370=$D10),LSM!$K$2:$K$370,"")} -> 0.23094948 | P10: {=_xlfn.XLOOKUP(1,(LSM!$A$2:$A$370=P$4)*(LSM!$T$2:$T$370=P$5)*(LSM!$B$2:$B$370=$D10),LSM!$N$2:$N$370,"")} -> 10.8797 | Q10: {=_xlfn.XLOOKUP(1,(LSM!$A$2:$A$370=P$4)*(LSM!$T$2:$T$370=P$5)*(LSM!$B$2:$B$370=$D10),LSM!$O$2:$O$370,"")} -> A | R10: {=_xlfn.XLOOKUP(1,(LSM!$A$2:$A$370=R$4)*(LSM!$T$2:$T$370=R$5)*(LSM!$B$2:$B$370=$D10),LSM!$P$2:$P$370,"")} -> 4.2194 | S10: {=_xlfn.XLOOKUP(1,(LSM!$A$2:$A$370=R$4)*(LSM!$T$2:$T$370=R$5)*(LSM!$B$2:$B$370=$D10),LSM!$Q$2:$Q$370,"")} -> A | T10: {=_xlfn.XLOOKUP(1,(LSM!$A$2:$A$370=T$4)*(LSM!$T$2:$T$370=T$5)*(LSM!$B$2:$B$370=$D10),LSM!$R$2:$R$370,"")} -> 85.8109 | U10: {=_xlfn.XLOOKUP(1,(LSM!$A$2:$A$370=T$4)*(LSM!$T$2:$T$370=T$5)*(LSM!$B$2:$B$370=$D10),LSM!$S$2:$S$370,"")} -> B-D
A11: =VLOOKUP(D11,VL_2020,2,FALSE) -> Pioneer P10705PWE | B11: =VLOOKUP(D11,VL_2020,3,FALSE) -> RR, LL, ENL, FOP | C11: =VLOOKUP(D11,VL_2020,4,FALSE) -> VT2P, HX1 | D11: C26018 | E11: {=_xlfn.XLOOKUP(1,(LSM!$A$2:$A$370=E$4)*(LSM!$T$2:$T$370=E$5)*(LSM!$B$2:$B$370=$D11),LSM!$C$2:$C$370,"")} -> 233.49 | F11: {=_xlfn.XLOOKUP(1,(LSM!$A$2:$A$370=E$4)*(LSM!$T$2:$T$370=E$5)*(LSM!$B$2:$B$370=$D11),LSM!$D$2:$D$370,"")} -> A | G11: {=_xlfn.XLOOKUP(1,(LSM!$A$2:$A$370=G$4)*(LSM!$T$2:$T$370=G$5)*(LSM!$B$2:$B$370=$D11),LSM!$E$2:$E$370,"")} -> 14.8179 | H11: {=_xlfn.XLOOKUP(1,(LSM!$A$2:$A$370=G$4)*(LSM!$T$2:$T$370=G$5)*(LSM!$B$2:$B$370=$D11),LSM!$F$2:$F$370,"")} -> E | I11: {=_xlfn.XLOOKUP(1,(LSM!$A$2:$A$370=I$4)*(LSM!$T$2:$T$370=I$5)*(LSM!$B$2:$B$370=$D11),LSM!$L$2:$L$370,"")} -> 57.7222 | J11: {=_xlfn.XLOOKUP(1,(LSM!$A$2:$A$370=I$4)*(LSM!$T$2:$T$370=I$5)*(LSM!$B$2:$B$370=$D11),LSM!$M$2:$M$370,"")} -> BC | K11: {=_xlfn.XLOOKUP(1,(LSM!$A$2:$A$370=K$4)*(LSM!$T$2:$T$370=K$5)*(LSM!$B$2:$B$370=$D11),LSM!$G$2:$G$370,"")} -> 98.7778 | L11: {=_xlfn.XLOOKUP(1,(LSM!$A$2:$A$370=K$4)*(LSM!$T$2:$T$370=K$5)*(LSM!$B$2:$B$370=$D11),LSM!$H$2:$H$370,"")} -> DE | M11: {=_xlfn.XLOOKUP(1,(LSM!$A$2:$A$370=M$4)*(LSM!$T$2:$T$370=M$5)*(LSM!$B$2:$B$370=$D11),LSM!$I$2:$I$370,"")} -> 39.037 | N11: {=_xlfn.XLOOKUP(1,(LSM!$A$2:$A$370=M$4)*(LSM!$T$2:$T$370=M$5)*(LSM!$B$2:$B$370=$D11),LSM!$J$2:$J$370,"")} -> F | O11: {=_xlfn.XLOOKUP(1,(LSM!$A$2:$A$370=O$4)*(LSM!$T$2:$T$370=O$5)*(LSM!$B$2:$B$370=$D11),LSM!$K$2:$K$370,"")} -> 0.080902391 | P11: {=_xlfn.XLOOKUP(1,(LSM!$A$2:$A$370=P$4)*(LSM!$T$2:$T$370=P$5)*(LSM!$B$2:$B$370=$D11),LSM!$N$2:$N$370,"")} -> 10.7574 | Q11: {=_xlfn.XLOOKUP(1,(LSM!$A$2:$A$370=P$4)*(LSM!$T$2:$T$370=P$5)*(LSM!$B$2:$B$370=$D11),LSM!$O$2:$O$370,"")} -> A | R11: {=_xlfn.XLOOKUP(1,(LSM!$A$2:$A$370=R$4)*(LSM!$T$2:$T$370=R$5)*(LSM!$B$2:$B$370=$D11),LSM!$P$2:$P$370,"")} -> 4.1918 | S11: {=_xlfn.XLOOKUP(1,(LSM!$A$2:$A$370=R$4)*(LSM!$T$2:$T$370=R$5)*(LSM!$B$2:$B$370=$D11),LSM!$Q$2:$Q$370,"")} -> A | T11: {=_xlfn.XLOOKUP(1,(LSM!$A$2:$A$370=T$4)*(LSM!$T$2:$T$370=T$5)*(LSM!$B$2:$B$370=$D11),LSM!$R$2:$R$370,"")} -> 86.1618 | U11: {=_xlfn.XLOOKUP(1,(LSM!$A$2:$A$370=T$4)*(LSM!$T$2:$T$370=T$5)*(LSM!$B$2:$B$370=$D11),LSM!$S$2:$S$370,"")} -> B
A12: =VLOOKUP(D12,VL_2020,2,FALSE) -> Great Heart HT-7210TRE | B12: =VLOOKUP(D12,VL_2020,3,FALSE) -> TRE | C12: =VLOOKUP(D12,VL_2020,4,FALSE) -> TRE | D12: C25011 | E12: {=_xlfn.XLOOKUP(1,(LSM!$A$2:$A$370=E$4)*(LSM!$T$2:$T$370=E$5)*(LSM!$B$2:$B$370=$D12),LSM!$C$2:$C$370,"")} -> 233.47 | F12: {=_xlfn.XLOOKUP(1,(LSM!$A$2:$A$370=E$4)*(LSM!$T$2:$T$370=E$5)*(LSM!$B$2:$B$370=$D12),LSM!$D$2:$D$370,"")} -> A | G12: {=_xlfn.XLOOKUP(1,(LSM!$A$2:$A$370=G$4)*(LSM!$T$2:$T$370=G$5)*(LSM!$B$2:$B$370=$D12),LSM!$E$2:$E$370,"")} -> 17.5283 | H12: {=_xlfn.XLOOKUP(1,(LSM!$A$2:$A$370=G$4)*(LSM!$T$2:$T$370=G$5)*(LSM!$B$2:$B$370=$D12),LSM!$F$2:$F$370,"")} -> A | I12: {=_xlfn.XLOOKUP(1,(LSM!$A$2:$A$370=I$4)*(LSM!$T$2:$T$370=I$5)*(LSM!$B$2:$B$370=$D12),LSM!$L$2:$L$370,"")} -> 56.95 | J12: {=_xlfn.XLOOKUP(1,(LSM!$A$2:$A$370=I$4)*(LSM!$T$2:$T$370=I$5)*(LSM!$B$2:$B$370=$D12),LSM!$M$2:$M$370,"")} -> C | K12: {=_xlfn.XLOOKUP(1,(LSM!$A$2:$A$370=K$4)*(LSM!$T$2:$T$370=K$5)*(LSM!$B$2:$B$370=$D12),LSM!$G$2:$G$370,"")} -> 107.04 | L12: {=_xlfn.XLOOKUP(1,(LSM!$A$2:$A$370=K$4)*(LSM!$T$2:$T$370=K$5)*(LSM!$B$2:$B$370=$D12),LSM!$H$2:$H$370,"")} -> A | M12: {=_xlfn.XLOOKUP(1,(LSM!$A$2:$A$370=M$4)*(LSM!$T$2:$T$370=M$5)*(LSM!$B$2:$B$370=$D12),LSM!$I$2:$I$370,"")} -> 49.037 | N12: {=_xlfn.XLOOKUP(1,(LSM!$A$2:$A$370=M$4)*(LSM!$T$2:$T$370=M$5)*(LSM!$B$2:$B$370=$D12),LSM!$J$2:$J$370,"")} -> A | O12: {=_xlfn.XLOOKUP(1,(LSM!$A$2:$A$370=O$4)*(LSM!$T$2:$T$370=O$5)*(LSM!$B$2:$B$370=$D12),LSM!$K$2:$K$370,"")} -> 0.22352188 | P12: {=_xlfn.XLOOKUP(1,(LSM!$A$2:$A$370=P$4)*(LSM!$T$2:$T$370=P$5)*(LSM!$B$2:$B$370=$D12),LSM!$N$2:$N$370,"")} -> 11.0098 | Q12: {=_xlfn.XLOOKUP(1,(LSM!$A$2:$A$370=P$4)*(LSM!$T$2:$T$370=P$5)*(LSM!$B$2:$B$370=$D12),LSM!$O$2:$O$370,"")} -> A | R12: {=_xlfn.XLOOKUP(1,(LSM!$A$2:$A$370=R$4)*(LSM!$T$2:$T$370=R$5)*(LSM!$B$2:$B$370=$D12),LSM!$P$2:$P$370,"")} -> 4.3219 | S12: {=_xlfn.XLOOKUP(1,(LSM!$A$2:$A$370=R$4)*(LSM!$T$2:$T$370=R$5)*(LSM!$B$2:$B$370=$D12),LSM!$Q$2:$Q$370,"")} -> A | T12: {=_xlfn.XLOOKUP(1,(LSM!$A$2:$A$370=T$4)*(LSM!$T$2:$T$370=T$5)*(LSM!$B$2:$B$370=$D12),LSM!$R$2:$R$370,"")} -> 84.1862 | U12: {=_xlfn.XLOOKUP(1,(LSM!$A$2:$A$370=T$4)*(LSM!$T$2:$T$370=T$5)*(LSM!$B$2:$B$370=$D12),LSM!$S$2:$S$370,"")} -> F
A13: =VLOOKUP(D13,VL_2020,2,FALSE) -> Innvictis A1312VT2P | B13: =VLOOKUP(D13,VL_2020,3,FALSE) -> RR | C13: =VLOOKUP(D13,VL_2020,4,FALSE) -> VT2P | D13: C24010 | E13: {=_xlfn.XLOOKUP(1,(LSM!$A$2:$A$370=E$4)*(LSM!$T$2:$T$370=E$5)*(LSM!$B$2:$B$370=$D13),LSM!$C$2:$C$370,"")} -> 233.32 | F13: {=_xlfn.XLOOKUP(1,(LSM!$A$2:$A$370=E$4)*(LSM!$T$2:$T$370=E$5)*(LSM!$B$2:$B$370=$D13),LSM!$D$2:$D$370,"")} -> A | G13: {=_xlfn.XLOOKUP(1,(LSM!$A$2:$A$370=G$4)*(LSM!$T$2:$T$370=G$5)*(LSM!$B$2:$B$370=$D13),LSM!$E$2:$E$370,"")} -> 16.065 | H13: {=_xlfn.XLOOKUP(1,(LSM!$A$2:$A$370=G$4)*(LSM!$T$2:$T$370=G$5)*(LSM!$B$2:$B$370=$D13),LSM!$F$2:$F$370,"")} -> BC | I13: {=_xlfn.XLOOKUP(1,(LSM!$A$2:$A$370=I$4)*(LSM!$T$2:$T$370=I$5)*(LSM!$B$2:$B$370=$D13),LSM!$L$2:$L$370,"")} -> 57.4333 | J13: {=_xlfn.XLOOKUP(1,(LSM!$A$2:$A$370=I$4)*(LSM!$T$2:$T$370=I$5)*(LSM!$B$2:$B$370=$D13),LSM!$M$2:$M$370,"")} -> C | K13: {=_xlfn.XLOOKUP(1,(LSM!$A$2:$A$370=K$4)*(LSM!$T$2:$T$370=K$5)*(LSM!$B$2:$B$370=$D13),LSM!$G$2:$G$370,"")} -> 100.76 | L13: {=_xlfn.XLOOKUP(1,(LSM!$A$2:$A$370=K$4)*(LSM!$T$2:$T$370=K$5)*(LSM!$B$2:$B$370=$D13),LSM!$H$2:$H$370,"")} -> C-E | M13: {=_xlfn.XLOOKUP(1,(LSM!$A$2:$A$370=M$4)*(LSM!$T$2:$T$370=M$5)*(LSM!$B$2:$B$370=$D13),LSM!$I$2:$I$370,"")} -> 43.4259 | N13: {=_xlfn.XLOOKUP(1,(LSM!$A$2:$A$370=M$4)*(LSM!$T$2:$T$370=M$5)*(LSM!$B$2:$B$370=$D13),LSM!$J$2:$J$370,"")} -> B | O13: {=_xlfn.XLOOKUP(1,(LSM!$A$2:$A$370=O$4)*(LSM!$T$2:$T$370=O$5)*(LSM!$B$2:$B$370=$D13),LSM!$K$2:$K$370,"")} -> 0.38140927 | P13: {=_xlfn.XLOOKUP(1,(LSM!$A$2:$A$370=P$4)*(LSM!$T$2:$T$370=P$5)*(LSM!$B$2:$B$370=$D13),LSM!$N$2:$N$370,"")} -> 11.5697 | Q13: {=_xlfn.XLOOKUP(1,(LSM!$A$2:$A$370=P$4)*(LSM!$T$2:$T$370=P$5)*(LSM!$B$2:$B$370=$D13),LSM!$O$2:$O$370,"")} -> A | R13: {=_xlfn.XLOOKUP(1,(LSM!$A$2:$A$370=R$4)*(LSM!$T$2:$T$370=R$5)*(LSM!$B$2:$B$370=$D13),LSM!$P$2:$P$370,"")} -> 4.4796 | S13: {=_xlfn.XLOOKUP(1,(LSM!$A$2:$A$370=R$4)*(LSM!$T$2:$T$370=R$5)*(LSM!$B$2:$B$370=$D13),LSM!$Q$2:$Q$370,"")} -> A | T13: {=_xlfn.XLOOKUP(1,(LSM!$A$2:$A$370=T$4)*(LSM!$T$2:$T$370=T$5)*(LSM!$B$2:$B$370=$D13),LSM!$R$2:$R$370,"")} -> 85.3456 | U13: {=_xlfn.XLOOKUP(1,(LSM!$A$2:$A$370=T$4)*(LSM!$T$2:$T$370=T$5)*(LSM!$B$2:$B$370=$D13),LSM!$S$2:$S$370,"")} -> B-E
A14: =VLOOKUP(D14,VL_2020,2,FALSE) -> Revere 110-T50 | B14: =VLOOKUP(D14,VL_2020,3,FALSE) -> RR | C14: =VLOOKUP(D14,VL_2020,4,FALSE) -> TRE | D14: C26021 | E14: {=_xlfn.XLOOKUP(1,(LSM!$A$2:$A$370=E$4)*(LSM!$T$2:$T$370=E$5)*(LSM!$B$2:$B$370=$D14),LSM!$C$2:$C$370,"")} -> 233.05 | F14: {=_xlfn.XLOOKUP(1,(LSM!$A$2:$A$370=E$4)*(LSM!$T$2:$T$370=E$5)*(LSM!$B$2:$B$370=$D14),LSM!$D$2:$D$370,"")} -> A | G14: {=_xlfn.XLOOKUP(1,(LSM!$A$2:$A$370=G$4)*(LSM!$T$2:$T$370=G$5)*(LSM!$B$2:$B$370=$D14),LSM!$E$2:$E$370,"")} -> 15.0586 | H14: {=_xlfn.XLOOKUP(1,(LSM!$A$2:$A$370=G$4)*(LSM!$T$2:$T$370=G$5)*(LSM!$B$2:$B$370=$D14),LSM!$F$2:$F$370,"")} -> DE | I14: {=_xlfn.XLOOKUP(1,(LSM!$A$2:$A$370=I$4)*(LSM!$T$2:$T$370=I$5)*(LSM!$B$2:$B$370=$D14),LSM!$L$2:$L$370,"")} -> 59.669 | J14: {=_xlfn.XLOOKUP(1,(LSM!$A$2:$A$370=I$4)*(LSM!$T$2:$T$370=I$5)*(LSM!$B$2:$B$370=$D14),LSM!$M$2:$M$370,"")} -> A | K14: {=_xlfn.XLOOKUP(1,(LSM!$A$2:$A$370=K$4)*(LSM!$T$2:$T$370=K$5)*(LSM!$B$2:$B$370=$D14),LSM!$G$2:$G$370,"")} -> 101.8 | L14: {=_xlfn.XLOOKUP(1,(LSM!$A$2:$A$370=K$4)*(LSM!$T$2:$T$370=K$5)*(LSM!$B$2:$B$370=$D14),LSM!$H$2:$H$370,"")} -> B-E | M14: {=_xlfn.XLOOKUP(1,(LSM!$A$2:$A$370=M$4)*(LSM!$T$2:$T$370=M$5)*(LSM!$B$2:$B$370=$D14),LSM!$I$2:$I$370,"")} -> 42.6924 | N14: {=_xlfn.XLOOKUP(1,(LSM!$A$2:$A$370=M$4)*(LSM!$T$2:$T$370=M$5)*(LSM!$B$2:$B$370=$D14),LSM!$J$2:$J$370,"")} -> B-D | O14: {=_xlfn.XLOOKUP(1,(LSM!$A$2:$A$370=O$4)*(LSM!$T$2:$T$370=O$5)*(LSM!$B$2:$B$370=$D14),LSM!$K$2:$K$370,"")} -> 0.49797629 | P14: {=_xlfn.XLOOKUP(1,(LSM!$A$2:$A$370=P$4)*(LSM!$T$2:$T$370=P$5)*(LSM!$B$2:$B$370=$D14),LSM!$N$2:$N$370,"")} -> 10.9743 | Q14: {=_xlfn.XLOOKUP(1,(LSM!$A$2:$A$370=P$4)*(LSM!$T$2:$T$370=P$5)*(LSM!$B$2:$B$370=$D14),LSM!$O$2:$O$370,"")} -> A | R14: {=_xlfn.XLOOKUP(1,(LSM!$A$2:$A$370=R$4)*(LSM!$T$2:$T$370=R$5)*(LSM!$B$2:$B$370=$D14),LSM!$P$2:$P$370,"")} -> 4.2982 | S14: {=_xlfn.XLOOKUP(1,(LSM!$A$2:$A$370=R$4)*(LSM!$T$2:$T$370=R$5)*(LSM!$B$2:$B$370=$D14),LSM!$Q$2:$Q$370,"")} -> A | T14: {=_xlfn.XLOOKUP(1,(LSM!$A$2:$A$370=T$4)*(LSM!$T$2:$T$370=T$5)*(LSM!$B$2:$B$370=$D14),LSM!$R$2:$R$370,"")} -> 85.5467 | U14: {=_xlfn.XLOOKUP(1,(LSM!$A$2:$A$370=T$4)*(LSM!$T$2:$T$370=T$5)*(LSM!$B$2:$B$370=$D14),LSM!$S$2:$S$370,"")} -> B-E
A15: =VLOOKUP(D15,VL_2020,2,FALSE) -> Innvictis A0904TRIB | B15: =VLOOKUP(D15,VL_2020,3,FALSE) -> RR | C15: =VLOOKUP(D15,VL_2020,4,FALSE) -> TRE | D15: C26015 | E15: {=_xlfn.XLOOKUP(1,(LSM!$A$2:$A$370=E$4)*(LSM!$T$2:$T$370=E$5)*(LSM!$B$2:$B$370=$D15),LSM!$C$2:$C$370,"")} -> 232.56 | F15: {=_xlfn.XLOOKUP(1,(LSM!$A$2:$A$370=E$4)*(LSM!$T$2:$T$370=E$5)*(LSM!$B$2:$B$370=$D15),LSM!$D$2:$D$370,"")} -> A | G15: {=_xlfn.XLOOKUP(1,(LSM!$A$2:$A$370=G$4)*(LSM!$T$2:$T$370=G$5)*(LSM!$B$2:$B$370=$D15),LSM!$E$2:$E$370,"")} -> 14.8196 | H15: {=_xlfn.XLOOKUP(1,(LSM!$A$2:$A$370=G$4)*(LSM!$T$2:$T$370=G$5)*(LSM!$B$2:$B$370=$D15),LSM!$F$2:$F$370,"")} -> E | I15: {=_xlfn.XLOOKUP(1,(LSM!$A$2:$A$370=I$4)*(LSM!$T$2:$T$370=I$5)*(LSM!$B$2:$B$370=$D15),LSM!$L$2:$L$370,"")} -> 57.8611 | J15: {=_xlfn.XLOOKUP(1,(LSM!$A$2:$A$370=I$4)*(LSM!$T$2:$T$370=I$5)*(LSM!$B$2:$B$370=$D15),LSM!$M$2:$M$370,"")} -> BC | K15: {=_xlfn.XLOOKUP(1,(LSM!$A$2:$A$370=K$4)*(LSM!$T$2:$T$370=K$5)*(LSM!$B$2:$B$370=$D15),LSM!$G$2:$G$370,"")} -> 98.1852 | L15: {=_xlfn.XLOOKUP(1,(LSM!$A$2:$A$370=K$4)*(LSM!$T$2:$T$370=K$5)*(LSM!$B$2:$B$370=$D15),LSM!$H$2:$H$370,"")} -> E | M15: {=_xlfn.XLOOKUP(1,(LSM!$A$2:$A$370=M$4)*(LSM!$T$2:$T$370=M$5)*(LSM!$B$2:$B$370=$D15),LSM!$I$2:$I$370,"")} -> 40.3704 | N15: {=_xlfn.XLOOKUP(1,(LSM!$A$2:$A$370=M$4)*(LSM!$T$2:$T$370=M$5)*(LSM!$B$2:$B$370=$D15),LSM!$J$2:$J$370,"")} -> D-F | O15: {=_xlfn.XLOOKUP(1,(LSM!$A$2:$A$370=O$4)*(LSM!$T$2:$T$370=O$5)*(LSM!$B$2:$B$370=$D15),LSM!$K$2:$K$370,"")} -> 0.15688653 | P15: {=_xlfn.XLOOKUP(1,(LSM!$A$2:$A$370=P$4)*(LSM!$T$2:$T$370=P$5)*(LSM!$B$2:$B$370=$D15),LSM!$N$2:$N$370,"")} -> 11.1517 | Q15: {=_xlfn.XLOOKUP(1,(LSM!$A$2:$A$370=P$4)*(LSM!$T$2:$T$370=P$5)*(LSM!$B$2:$B$370=$D15),LSM!$O$2:$O$370,"")} -> A | R15: {=_xlfn.XLOOKUP(1,(LSM!$A$2:$A$370=R$4)*(LSM!$T$2:$T$370=R$5)*(LSM!$B$2:$B$370=$D15),LSM!$P$2:$P$370,"")} -> 4.4678 | S15: {=_xlfn.XLOOKUP(1,(LSM!$A$2:$A$370=R$4)*(LSM!$T$2:$T$370=R$5)*(LSM!$B$2:$B$370=$D15),LSM!$Q$2:$Q$370,"")} -> A | T15: {=_xlfn.XLOOKUP(1,(LSM!$A$2:$A$370=T$4)*(LSM!$T$2:$T$370=T$5)*(LSM!$B$2:$B$370=$D15),LSM!$R$2:$R$370,"")} -> 85.2352 | U15: {=_xlfn.XLOOKUP(1,(LSM!$A$2:$A$370=T$4)*(LSM!$T$2:$T$370=T$5)*(LSM!$B$2:$B$370=$D15),LSM!$S$2:$S$370,"")} -> C-E
A16: =VLOOKUP(D16,VL_2020,2,FALSE) -> Dyna-Gro D50PN07RA | B16: =VLOOKUP(D16,VL_2020,3,FALSE) -> RR, LL, ENL, FOP | C16: =VLOOKUP(D16,VL_2020,4,FALSE) -> FOP | D16: C26004 | E16: {=_xlfn.XLOOKUP(1,(LSM!$A$2:$A$370=E$4)*(LSM!$T$2:$T$370=E$5)*(LSM!$B$2:$B$370=$D16),LSM!$C$2:$C$370,"")} -> 217.97 | F16: {=_xlfn.XLOOKUP(1,(LSM!$A$2:$A$370=E$4)*(LSM!$T$2:$T$370=E$5)*(LSM!$B$2:$B$370=$D16),LSM!$D$2:$D$370,"")} -> A | G16: {=_xlfn.XLOOKUP(1,(LSM!$A$2:$A$370=G$4)*(LSM!$T$2:$T$370=G$5)*(LSM!$B$2:$B$370=$D16),LSM!$E$2:$E$370,"")} -> 14.3337 | H16: {=_xlfn.XLOOKUP(1,(LSM!$A$2:$A$370=G$4)*(LSM!$T$2:$T$370=G$5)*(LSM!$B$2:$B$370=$D16),LSM!$F$2:$F$370,"")} -> E | I16: {=_xlfn.XLOOKUP(1,(LSM!$A$2:$A$370=I$4)*(LSM!$T$2:$T$370=I$5)*(LSM!$B$2:$B$370=$D16),LSM!$L$2:$L$370,"")} -> 60.0611 | J16: {=_xlfn.XLOOKUP(1,(LSM!$A$2:$A$370=I$4)*(LSM!$T$2:$T$370=I$5)*(LSM!$B$2:$B$370=$D16),LSM!$M$2:$M$370,"")} -> A | K16: {=_xlfn.XLOOKUP(1,(LSM!$A$2:$A$370=K$4)*(LSM!$T$2:$T$370=K$5)*(LSM!$B$2:$B$370=$D16),LSM!$G$2:$G$370,"")} -> 102.61 | L16: {=_xlfn.XLOOKUP(1,(LSM!$A$2:$A$370=K$4)*(LSM!$T$2:$T$370=K$5)*(LSM!$B$2:$B$370=$D16),LSM!$H$2:$H$370,"")} -> B-D | M16: {=_xlfn.XLOOKUP(1,(LSM!$A$2:$A$370=M$4)*(LSM!$T$2:$T$370=M$5)*(LSM!$B$2:$B$370=$D16),LSM!$I$2:$I$370,"")} -> 39.7963 | N16: {=_xlfn.XLOOKUP(1,(LSM!$A$2:$A$370=M$4)*(LSM!$T$2:$T$370=M$5)*(LSM!$B$2:$B$370=$D16),LSM!$J$2:$J$370,"")} -> EF | O16: {=_xlfn.XLOOKUP(1,(LSM!$A$2:$A$370=O$4)*(LSM!$T$2:$T$370=O$5)*(LSM!$B$2:$B$370=$D16),LSM!$K$2:$K$370,"")} -> 0.30126512 | P16: {=_xlfn.XLOOKUP(1,(LSM!$A$2:$A$370=P$4)*(LSM!$T$2:$T$370=P$5)*(LSM!$B$2:$B$370=$D16),LSM!$N$2:$N$370,"")} -> 11.2977 | Q16: {=_xlfn.XLOOKUP(1,(LSM!$A$2:$A$370=P$4)*(LSM!$T$2:$T$370=P$5)*(LSM!$B$2:$B$370=$D16),LSM!$O$2:$O$370,"")} -> A | R16: {=_xlfn.XLOOKUP(1,(LSM!$A$2:$A$370=R$4)*(LSM!$T$2:$T$370=R$5)*(LSM!$B$2:$B$370=$D16),LSM!$P$2:$P$370,"")} -> 4.2825 | S16: {=_xlfn.XLOOKUP(1,(LSM!$A$2:$A$370=R$4)*(LSM!$T$2:$T$370=R$5)*(LSM!$B$2:$B$370=$D16),LSM!$Q$2:$Q$370,"")} -> A | T16: {=_xlfn.XLOOKUP(1,(LSM!$A$2:$A$370=T$4)*(LSM!$T$2:$T$370=T$5)*(LSM!$B$2:$B$370=$D16),LSM!$R$2:$R$370,"")} -> 87.2108 | U16: {=_xlfn.XLOOKUP(1,(LSM!$A$2:$A$370=T$4)*(LSM!$T$2:$T$370=T$5)*(LSM!$B$2:$B$370=$D16),LSM!$S$2:$S$370,"")} -> A
A17: Trial Average | E17: {=_xlfn.XLOOKUP(1,(ANOVA!$L$2:$L$160=E$4)*(ANOVA!$Q$2:$Q$401=E$5)*(ANOVA!$M$2:$M$401=E$3),ANOVA!$A$2:$A$401,"")} -> 234.6 | G17: {=_xlfn.XLOOKUP(1,(ANOVA!$L$2:$L$160=G$4)*(ANOVA!$Q$2:$Q$401=G$5)*(ANOVA!$M$2:$M$401=G$3),ANOVA!$A$2:$A$401,"")} -> 15.5383 | I17: {=_xlfn.XLOOKUP(1,(ANOVA!$L$2:$L$160=I$4)*(ANOVA!$Q$2:$Q$401=I$5)*(ANOVA!$M$2:$M$401=I$3),ANOVA!$A$2:$A$401,"")} -> 58.532 | K17: {=_xlfn.XLOOKUP(1,(ANOVA!$L$2:$L$160=K$4)*(ANOVA!$Q$2:$Q$401=K$5)*(ANOVA!$M$2:$M$401=K$3),ANOVA!$A$2:$A$401,"")} -> 102.19 | M17: {=_xlfn.XLOOKUP(1,(ANOVA!$L$2:$L$160=M$4)*(ANOVA!$Q$2:$Q$401=M$5)*(ANOVA!$M$2:$M$401=M$3),ANOVA!$A$2:$A$401,"")} -> 42.0512 | O17: {=_xlfn.XLOOKUP(1,(ANOVA!$L$2:$L$160=O$4)*(ANOVA!$Q$2:$Q$401=O$5)*(ANOVA!$M$2:$M$401=O$3),ANOVA!$A$2:$A$401,"")} -> 0.3323 | P17: {=_xlfn.XLOOKUP(1,(ANOVA!$L$2:$L$160=P$4)*(ANOVA!$Q$2:$Q$401=P$5)*(ANOVA!$M$2:$M$401=P$3),ANOVA!$A$2:$A$401,"")} -> 11.1209 | R17: {=_xlfn.XLOOKUP(1,(ANOVA!$L$2:$L$160=R$4)*(ANOVA!$Q$2:$Q$401=R$5)*(ANOVA!$M$2:$M$401=R$3),ANOVA!$A$2:$A$401,"")} -> 4.2979 | T17: {=_xlfn.XLOOKUP(1,(ANOVA!$L$2:$L$160=T$4)*(ANOVA!$Q$2:$Q$401=T$5)*(ANOVA!$M$2:$M$401=T$3),ANOVA!$A$2:$A$401,"")} -> 85.5843
A18: Trial Standard Error | E18: {=_xlfn.XLOOKUP(1,(ANOVA!$L$2:$L$160=E$4)*(ANOVA!$Q$2:$Q$401=E$5)*(ANOVA!$M$2:$M$401=E$3),ANOVA!$B$2:$B$401,"")} -> 12.9466 | G18: {=_xlfn.XLOOKUP(1,(ANOVA!$L$2:$L$160=G$4)*(ANOVA!$Q$2:$Q$401=G$5)*(ANOVA!$M$2:$M$401=G$3),ANOVA!$B$2:$B$401,"")} -> 1.1563 | I18: {=_xlfn.XLOOKUP(1,(ANOVA!$L$2:$L$160=I$4)*(ANOVA!$Q$2:$Q$401=I$5)*(ANOVA!$M$2:$M$401=I$3),ANOVA!$B$2:$B$401,"")} -> 0.6328 | K18: {=_xlfn.XLOOKUP(1,(ANOVA!$L$2:$L$160=K$4)*(ANOVA!$Q$2:$Q$401=K$5)*(ANOVA!$M$2:$M$401=K$3),ANOVA!$B$2:$B$401,"")} -> 4.1057 | M18: {=_xlfn.XLOOKUP(1,(ANOVA!$L$2:$L$160=M$4)*(ANOVA!$Q$2:$Q$401=M$5)*(ANOVA!$M$2:$M$401=M$3),ANOVA!$B$2:$B$401,"")} -> 1.3183 | O18: {=_xlfn.XLOOKUP(1,(ANOVA!$L$2:$L$160=O$4)*(ANOVA!$Q$2:$Q$401=O$5)*(ANOVA!$M$2:$M$401=O$3),ANOVA!$B$2:$B$401,"")} -> 0.1848 | P18: {=_xlfn.XLOOKUP(1,(ANOVA!$L$2:$L$160=P$4)*(ANOVA!$Q$2:$Q$401=P$5)*(ANOVA!$M$2:$M$401=P$3),ANOVA!$B$2:$B$401,"")} -> 0.2073 | R18: {=_xlfn.XLOOKUP(1,(ANOVA!$L$2:$L$160=R$4)*(ANOVA!$Q$2:$Q$401=R$5)*(ANOVA!$M$2:$M$401=R$3),ANOVA!$B$2:$B$401,"")} -> 0.09831 | T18: {=_xlfn.XLOOKUP(1,(ANOVA!$L$2:$L$160=T$4)*(ANOVA!$Q$2:$Q$401=T$5)*(ANOVA!$M$2:$M$401=T$3),ANOVA!$B$2:$B$401,"")} -> 0.3122
A19: Trial L.S.D..05 | E19: {=_xlfn.XLOOKUP(1,(ANOVA!$L$2:$L$160=E$4)*(ANOVA!$Q$2:$Q$401=E$5)*(ANOVA!$M$2:$M$401=E$3),ANOVA!$C$2:$C$401,"")} -> N.S. | G19: {=_xlfn.XLOOKUP(1,(ANOVA!$L$2:$L$160=G$4)*(ANOVA!$Q$2:$Q$401=G$5)*(ANOVA!$M$2:$M$401=G$3),ANOVA!$C$2:$C$401,"")} -> 0.98 | I19: {=_xlfn.XLOOKUP(1,(ANOVA!$L$2:$L$160=I$4)*(ANOVA!$Q$2:$Q$401=I$5)*(ANOVA!$M$2:$M$401=I$3),ANOVA!$C$2:$C$401,"")} -> 1.31 | K19: {=_xlfn.XLOOKUP(1,(ANOVA!$L$2:$L$160=K$4)*(ANOVA!$Q$2:$Q$401=K$5)*(ANOVA!$M$2:$M$401=K$3),ANOVA!$C$2:$C$401,"")} -> 3.85 | M19: {=_xlfn.XLOOKUP(1,(ANOVA!$L$2:$L$160=M$4)*(ANOVA!$Q$2:$Q$401=M$5)*(ANOVA!$M$2:$M$401=M$3),ANOVA!$C$2:$C$401,"")} -> 2.61 | O19: {=_xlfn.XLOOKUP(1,(ANOVA!$L$2:$L$160=O$4)*(ANOVA!$Q$2:$Q$401=O$5)*(ANOVA!$M$2:$M$401=O$3),ANOVA!$C$2:$C$401,"")} -> 0 | P19: {=_xlfn.XLOOKUP(1,(ANOVA!$L$2:$L$160=P$4)*(ANOVA!$Q$2:$Q$401=P$5)*(ANOVA!$M$2:$M$401=P$3),ANOVA!$C$2:$C$401,"")} -> N.S. | R19: {=_xlfn.XLOOKUP(1,(ANOVA!$L$2:$L$160=R$4)*(ANOVA!$Q$2:$Q$401=R$5)*(ANOVA!$M$2:$M$401=R$3),ANOVA!$C$2:$C$401,"")} -> N.S. | T19: {=_xlfn.XLOOKUP(1,(ANOVA!$L$2:$L$160=T$4)*(ANOVA!$Q$2:$Q$401=T$5)*(ANOVA!$M$2:$M$401=T$3),ANOVA!$C$2:$C$401,"")} -> 0.92
A20: Trial C.V. | E20: {=_xlfn.XLOOKUP(1,(ANOVA!$L$2:$L$160=E$4)*(ANOVA!$Q$2:$Q$401=E$5)*(ANOVA!$M$2:$M$401=E$3),ANOVA!$D$2:$D$401,"")} -> 9.0280301 | G20: {=_xlfn.XLOOKUP(1,(ANOVA!$L$2:$L$160=G$4)*(ANOVA!$Q$2:$Q$401=G$5)*(ANOVA!$M$2:$M$401=G$3),ANOVA!$D$2:$D$401,"")} -> 5.07331 | I20: {=_xlfn.XLOOKUP(1,(ANOVA!$L$2:$L$160=I$4)*(ANOVA!$Q$2:$Q$401=I$5)*(ANOVA!$M$2:$M$401=I$3),ANOVA!$D$2:$D$401,"")} -> 1.3046121 | K20: {=_xlfn.XLOOKUP(1,(ANOVA!$L$2:$L$160=K$4)*(ANOVA!$Q$2:$Q$401=K$5)*(ANOVA!$M$2:$M$401=K$3),ANOVA!$D$2:$D$401,"")} -> 5.2491367 | M20: {=_xlfn.XLOOKUP(1,(ANOVA!$L$2:$L$160=M$4)*(ANOVA!$Q$2:$Q$401=M$5)*(ANOVA!$M$2:$M$401=M$3),ANOVA!$D$2:$D$401,"")} -> 9.4293275 | O20: {=_xlfn.XLOOKUP(1,(ANOVA!$L$2:$L$160=O$4)*(ANOVA!$Q$2:$Q$401=O$5)*(ANOVA!$M$2:$M$401=O$3),ANOVA!$D$2:$D$401,"")} -> 0 | P20: {=_xlfn.XLOOKUP(1,(ANOVA!$L$2:$L$160=P$4)*(ANOVA!$Q$2:$Q$401=P$5)*(ANOVA!$M$2:$M$401=P$3),ANOVA!$D$2:$D$401,"")} -> 3.2292033 | R20: {=_xlfn.XLOOKUP(1,(ANOVA!$L$2:$L$160=R$4)*(ANOVA!$Q$2:$Q$401=R$5)*(ANOVA!$M$2:$M$401=R$3),ANOVA!$D$2:$D$401,"")} -> 3.8046662 | T20: {=_xlfn.XLOOKUP(1,(ANOVA!$L$2:$L$160=T$4)*(ANOVA!$Q$2:$Q$401=T$5)*(ANOVA!$M$2:$M$401=T$3),ANOVA!$D$2:$D$401,"")} -> 0.63189486
A21: Number of locs. | E21: 8 | G21: 8 | I21: 7 | K21: 6 | M21: 6 | O21: 6 | P21: 1 | R21: 1 | T21: 1

Sheet Early Corn Yld By Loc 
A1: Table 5. Mean yields across and by location of 11 early-season (<114 DAP) corn hybrids evaluated in replicated small plot trials at eight AgResearch and Education Center locations in Tennessee during 2026.
A2: Hybrid† | B2: Herbicide Pkg‡ | C2: Insect Pkg.‡ | D2: Above Loc Avg. | F2: Avg. Yield§ (bu/acre) | H2: Knoxville Irr. (bu/acre) | J2: Greeneville Non-Irr. (bu/acre) | L2: Springfield Irr. (bu/acre) | N2: Springfield Non-Irr. (bu/acre) | P2: Spring Hill Non-Irr. (bu/acre) | R2: Milan Irr. (bu/acre) | T2: Milan Non-Irr. (bu/acre) | V2: Jackson Irr. (bu/acre) | X2: Memphis Irr. (bu/acre) | AA2: etrec | AB2: netrec | AC2: hrec ir | AD2: hrec nir | AE2: mtrec | AF2: recm ir | AG2: recm nir | AH2: wtrec | AI2: agcntr
F3: YLD_1 | H3: YLD_1 | J3: YLD_1 | L3: YLD_1 | N3: YLD_1 | P3: YLD_1 | R3: YLD_1 | T3: YLD_1 | V3: YLD_1 | X3: YLD_1
F4: A | H4: ET | J4: N | L4: HI | N4: HN | P4: MT | R4: MI | T4: MN | V4: WT | X4: AG
F5: Early | H5: Early | J5: Early | L5: Early | N5: Early | P5: Early | R5: Early | T5: Early | V5: Early | X5: Early
A6: =VLOOKUP(E6,VL_2020,2,FALSE) -> Dekalb DKC 112-12RIB | B6: =VLOOKUP(E6,VL_2020,3,FALSE) -> RR | C6: =VLOOKUP(E6,VL_2020,4,FALSE) -> TRE | D6: =AJ6 -> 0.625 | E6: C26001 | F6: {=_xlfn.XLOOKUP(1,(LSM!$A$2:$A$370=F$4)*(LSM!$T$2:$T$370=F$5)*(LSM!$B$2:$B$370=$E6),LSM!$C$2:$C$370,"")} -> 241.25 | G6: {=_xlfn.XLOOKUP(1,(LSM!$A$2:$A$370=F$4)*(LSM!$T$2:$T$370=F$5)*(LSM!$B$2:$B$370=$E6),LSM!$D$2:$D$370,"")} -> A | H6: {=_xlfn.XLOOKUP(1,(LSM!$A$2:$A$370=H$4)*(LSM!$T$2:$T$370=H$5)*(LSM!$B$2:$B$370=$E6),LSM!$C$2:$C$370,"")} -> 277.19 | I6: {=_xlfn.XLOOKUP(1,(LSM!$A$2:$A$370=H$4)*(LSM!$T$2:$T$370=H$5)*(LSM!$B$2:$B$370=$E6),LSM!$D$2:$D$370,"")} -> A | J6: {=_xlfn.XLOOKUP(1,(LSM!$A$2:$A$370=J$4)*(LSM!$T$2:$T$370=J$5)*(LSM!$B$2:$B$370=$E6),LSM!$C$2:$C$370,"")} -> 246.19 | K6: {=_xlfn.XLOOKUP(1,(LSM!$A$2:$A$370=J$4)*(LSM!$T$2:$T$370=J$5)*(LSM!$B$2:$B$370=$E6),LSM!$D$2:$D$370,"")} -> A | L6: {=_xlfn.XLOOKUP(1,(LSM!$A$2:$A$370=L$4)*(LSM!$T$2:$T$370=L$5)*(LSM!$B$2:$B$370=$E6),LSM!$C$2:$C$370,"")} -> 276.33 | M6: {=_xlfn.XLOOKUP(1,(LSM!$A$2:$A$370=L$4)*(LSM!$T$2:$T$370=L$5)*(LSM!$B$2:$B$370=$E6),LSM!$D$2:$D$370,"")} -> A | N6: {=_xlfn.XLOOKUP(1,(LSM!$A$2:$A$370=N$4)*(LSM!$T$2:$T$370=N$5)*(LSM!$B$2:$B$370=$E6),LSM!$C$2:$C$370,"")} -> 195.14 | O6: {=_xlfn.XLOOKUP(1,(LSM!$A$2:$A$370=N$4)*(LSM!$T$2:$T$370=N$5)*(LSM!$B$2:$B$370=$E6),LSM!$D$2:$D$370,"")} -> AB | P6: {=_xlfn.XLOOKUP(1,(LSM!$A$2:$A$370=P$4)*(LSM!$T$2:$T$370=P$5)*(LSM!$B$2:$B$370=$E6),LSM!$C$2:$C$370,"")} -> 206.06 | Q6: {=_xlfn.XLOOKUP(1,(LSM!$A$2:$A$370=P$4)*(LSM!$T$2:$T$370=P$5)*(LSM!$B$2:$B$370=$E6),LSM!$D$2:$D$370,"")} -> A | R6: {=_xlfn.XLOOKUP(1,(LSM!$A$2:$A$370=R$4)*(LSM!$T$2:$T$370=R$5)*(LSM!$B$2:$B$370=$E6),LSM!$C$2:$C$370,"")} -> 249.8 | S6: {=_xlfn.XLOOKUP(1,(LSM!$A$2:$A$370=R$4)*(LSM!$T$2:$T$370=R$5)*(LSM!$B$2:$B$370=$E6),LSM!$D$2:$D$370,"")} -> A | T6: {=_xlfn.XLOOKUP(1,(LSM!$A$2:$A$370=T$4)*(LSM!$T$2:$T$370=T$5)*(LSM!$B$2:$B$370=$E6),LSM!$C$2:$C$370,"")} -> 254.16 | U6: {=_xlfn.XLOOKUP(1,(LSM!$A$2:$A$370=T$4)*(LSM!$T$2:$T$370=T$5)*(LSM!$B$2:$B$370=$E6),LSM!$D$2:$D$370,"")} -> A | V6: {=_xlfn.XLOOKUP(1,(LSM!$A$2:$A$370=V$4)*(LSM!$T$2:$T$370=V$5)*(LSM!$B$2:$B$370=$E6),LSM!$C$2:$C$370,"")} -> 224.27 | W6: {=_xlfn.XLOOKUP(1,(LSM!$A$2:$A$370=V$4)*(LSM!$T$2:$T$370=V$5)*(LSM!$B$2:$B$370=$E6),LSM!$D$2:$D$370,"")} -> A | X6: {=_xlfn.XLOOKUP(1,(LSM!$A$2:$A$370=X$4)*(LSM!$T$2:$T$370=X$5)*(LSM!$B$2:$B$370=$E6),LSM!$C$2:$C$370,"")} | Y6: {=_xlfn.XLOOKUP(1,(LSM!$A$2:$A$370=X$4)*(LSM!$T$2:$T$370=X$5)*(LSM!$B$2:$B$370=$E6),LSM!$D$2:$D$370,"")} | AA6: =IF(H6>H$17,1,0) -> 1 | AB6: =IF(J6>J$17,1,0) -> 0 | AC6: =IF(L6>L$17,1,0) -> 1 | AD6: =IF(N6>N$17,1,0) -> 1 | AE6: =IF(P6>P$17,1,0) -> 1 | AF6: =IF(R6>R$17,1,0) -> 0 | AG6: =IF(T6>T$17,1,0) -> 0 | AH6: =IF(V6>V$17,1,0) -> 1 | AJ6: =SUM(AA6:AI6)/COUNT(AA6:AI6) -> 0.625
A7: =VLOOKUP(E7,VL_2020,2,FALSE) -> Great Heart HT-7335TRE | B7: =VLOOKUP(E7,VL_2020,3,FALSE) -> TRE | C7: =VLOOKUP(E7,VL_2020,4,FALSE) -> TRE | D7: =AJ7 -> 0.625 | E7: C25012 | F7: {=_xlfn.XLOOKUP(1,(LSM!$A$2:$A$370=F$4)*(LSM!$T$2:$T$370=F$5)*(LSM!$B$2:$B$370=$E7),LSM!$C$2:$C$370,"")} -> 240.81 | G7: {=_xlfn.XLOOKUP(1,(LSM!$A$2:$A$370=F$4)*(LSM!$T$2:$T$370=F$5)*(LSM!$B$2:$B$370=$E7),LSM!$D$2:$D$370,"")} -> A | H7: {=_xlfn.XLOOKUP(1,(LSM!$A$2:$A$370=H$4)*(LSM!$T$2:$T$370=H$5)*(LSM!$B$2:$B$370=$E7),LSM!$C$2:$C$370,"")} -> 285.19 | I7: {=_xlfn.XLOOKUP(1,(LSM!$A$2:$A$370=H$4)*(LSM!$T$2:$T$370=H$5)*(LSM!$B$2:$B$370=$E7),LSM!$D$2:$D$370,"")} -> A | J7: {=_xlfn.XLOOKUP(1,(LSM!$A$2:$A$370=J$4)*(LSM!$T$2:$T$370=J$5)*(LSM!$B$2:$B$370=$E7),LSM!$C$2:$C$370,"")} -> 231.22 | K7: {=_xlfn.XLOOKUP(1,(LSM!$A$2:$A$370=J$4)*(LSM!$T$2:$T$370=J$5)*(LSM!$B$2:$B$370=$E7),LSM!$D$2:$D$370,"")} -> A | L7: {=_xlfn.XLOOKUP(1,(LSM!$A$2:$A$370=L$4)*(LSM!$T$2:$T$370=L$5)*(LSM!$B$2:$B$370=$E7),LSM!$C$2:$C$370,"")} -> 252.83 | M7: {=_xlfn.XLOOKUP(1,(LSM!$A$2:$A$370=L$4)*(LSM!$T$2:$T$370=L$5)*(LSM!$B$2:$B$370=$E7),LSM!$D$2:$D$370,"")} -> A | N7: {=_xlfn.XLOOKUP(1,(LSM!$A$2:$A$370=N$4)*(LSM!$T$2:$T$370=N$5)*(LSM!$B$2:$B$370=$E7),LSM!$C$2:$C$370,"")} -> 199.63 | O7: {=_xlfn.XLOOKUP(1,(LSM!$A$2:$A$370=N$4)*(LSM!$T$2:$T$370=N$5)*(LSM!$B$2:$B$370=$E7),LSM!$D$2:$D$370,"")} -> A | P7: {=_xlfn.XLOOKUP(1,(LSM!$A$2:$A$370=P$4)*(LSM!$T$2:$T$370=P$5)*(LSM!$B$2:$B$370=$E7),LSM!$C$2:$C$370,"")} -> 178.46 | Q7: {=_xlfn.XLOOKUP(1,(LSM!$A$2:$A$370=P$4)*(LSM!$T$2:$T$370=P$5)*(LSM!$B$2:$B$370=$E7),LSM!$D$2:$D$370,"")} -> A | R7: {=_xlfn.XLOOKUP(1,(LSM!$A$2:$A$370=R$4)*(LSM!$T$2:$T$370=R$5)*(LSM!$B$2:$B$370=$E7),LSM!$C$2:$C$370,"")} -> 263.52 | S7: {=_xlfn.XLOOKUP(1,(LSM!$A$2:$A$370=R$4)*(LSM!$T$2:$T$370=R$5)*(LSM!$B$2:$B$370=$E7),LSM!$D$2:$D$370,"")} -> A | T7: {=_xlfn.XLOOKUP(1,(LSM!$A$2:$A$370=T$4)*(LSM!$T$2:$T$370=T$5)*(LSM!$B$2:$B$370=$E7),LSM!$C$2:$C$370,"")} -> 268.33 | U7: {=_xlfn.XLOOKUP(1,(LSM!$A$2:$A$370=T$4)*(LSM!$T$2:$T$370=T$5)*(LSM!$B$2:$B$370=$E7),LSM!$D$2:$D$370,"")} -> A | V7: {=_xlfn.XLOOKUP(1,(LSM!$A$2:$A$370=V$4)*(LSM!$T$2:$T$370=V$5)*(LSM!$B$2:$B$370=$E7),LSM!$C$2:$C$370,"")} -> 247.34 | W7: {=_xlfn.XLOOKUP(1,(LSM!$A$2:$A$370=V$4)*(LSM!$T$2:$T$370=V$5)*(LSM!$B$2:$B$370=$E7),LSM!$D$2:$D$370,"")} -> A | X7: {=_xlfn.XLOOKUP(1,(LSM!$A$2:$A$370=X$4)*(LSM!$T$2:$T$370=X$5)*(LSM!$B$2:$B$370=$E7),LSM!$C$2:$C$370,"")} | Y7: {=_xlfn.XLOOKUP(1,(LSM!$A$2:$A$370=X$4)*(LSM!$T$2:$T$370=X$5)*(LSM!$B$2:$B$370=$E7),LSM!$D$2:$D$370,"")} | AA7: =IF(H7>H$17,1,0) -> 1 | AB7: =IF(J7>J$17,1,0) -> 0 | AC7: =IF(L7>L$17,1,0) -> 0 | AD7: =IF(N7>N$17,1,0) -> 1 | AE7: =IF(P7>P$17,1,0) -> 0 | AF7: =IF(R7>R$17,1,0) -> 1 | AG7: =IF(T7>T$17,1,0) -> 1 | AH7: =IF(V7>V$17,1,0) -> 1 | AJ7: =SUM(AA7:AI7)/COUNT(AA7:AI7) -> 0.625
A8: =VLOOKUP(E8,VL_2020,2,FALSE) -> Revere 113-T73 | B8: =VLOOKUP(E8,VL_2020,3,FALSE) -> RR | C8: =VLOOKUP(E8,VL_2020,4,FALSE) -> TRE | D8: =AJ8 -> 0.75 | E8: C26022 | F8: {=_xlfn.XLOOKUP(1,(LSM!$A$2:$A$370=F$4)*(LSM!$T$2:$T$370=F$5)*(LSM!$B$2:$B$370=$E8),LSM!$C$2:$C$370,"")} -> 239.39 | G8: {=_xlfn.XLOOKUP(1,(LSM!$A$2:$A$370=F$4)*(LSM!$T$2:$T$370=F$5)*(LSM!$B$2:$B$370=$E8),LSM!$D$2:$D$370,"")} -> A | H8: {=_xlfn.XLOOKUP(1,(LSM!$A$2:$A$370=H$4)*(LSM!$T$2:$T$370=H$5)*(LSM!$B$2:$B$370=$E8),LSM!$C$2:$C$370,"")} -> 262.92 | I8: {=_xlfn.XLOOKUP(1,(LSM!$A$2:$A$370=H$4)*(LSM!$T$2:$T$370=H$5)*(LSM!$B$2:$B$370=$E8),LSM!$D$2:$D$370,"")} -> A | J8: {=_xlfn.XLOOKUP(1,(LSM!$A$2:$A$370=J$4)*(LSM!$T$2:$T$370=J$5)*(LSM!$B$2:$B$370=$E8),LSM!$C$2:$C$370,"")} -> 262.87 | K8: {=_xlfn.XLOOKUP(1,(LSM!$A$2:$A$370=J$4)*(LSM!$T$2:$T$370=J$5)*(LSM!$B$2:$B$370=$E8),LSM!$D$2:$D$370,"")} -> A | L8: {=_xlfn.XLOOKUP(1,(LSM!$A$2:$A$370=L$4)*(LSM!$T$2:$T$370=L$5)*(LSM!$B$2:$B$370=$E8),LSM!$C$2:$C$370,"")} -> 273.63 | M8: {=_xlfn.XLOOKUP(1,(LSM!$A$2:$A$370=L$4)*(LSM!$T$2:$T$370=L$5)*(LSM!$B$2:$B$370=$E8),LSM!$D$2:$D$370,"")} -> A | N8: {=_xlfn.XLOOKUP(1,(LSM!$A$2:$A$370=N$4)*(LSM!$T$2:$T$370=N$5)*(LSM!$B$2:$B$370=$E8),LSM!$C$2:$C$370,"")} -> 168.53 | O8: {=_xlfn.XLOOKUP(1,(LSM!$A$2:$A$370=N$4)*(LSM!$T$2:$T$370=N$5)*(LSM!$B$2:$B$370=$E8),LSM!$D$2:$D$370,"")} -> A-D | P8: {=_xlfn.XLOOKUP(1,(LSM!$A$2:$A$370=P$4)*(LSM!$T$2:$T$370=P$5)*(LSM!$B$2:$B$370=$E8),LSM!$C$2:$C$370,"")} -> 196.5 | Q8: {=_xlfn.XLOOKUP(1,(LSM!$A$2:$A$370=P$4)*(LSM!$T$2:$T$370=P$5)*(LSM!$B$2:$B$370=$E8),LSM!$D$2:$D$370,"")} -> A | R8: {=_xlfn.XLOOKUP(1,(LSM!$A$2:$A$370=R$4)*(LSM!$T$2:$T$370=R$5)*(LSM!$B$2:$B$370=$E8),LSM!$C$2:$C$370,"")} -> 271.68 | S8: {=_xlfn.XLOOKUP(1,(LSM!$A$2:$A$370=R$4)*(LSM!$T$2:$T$370=R$5)*(LSM!$B$2:$B$370=$E8),LSM!$D$2:$D$370,"")} -> A | T8: {=_xlfn.XLOOKUP(1,(LSM!$A$2:$A$370=T$4)*(LSM!$T$2:$T$370=T$5)*(LSM!$B$2:$B$370=$E8),LSM!$C$2:$C$370,"")} -> 257.12 | U8: {=_xlfn.XLOOKUP(1,(LSM!$A$2:$A$370=T$4)*(LSM!$T$2:$T$370=T$5)*(LSM!$B$2:$B$370=$E8),LSM!$D$2:$D$370,"")} -> A | V8: {=_xlfn.XLOOKUP(1,(LSM!$A$2:$A$370=V$4)*(LSM!$T$2:$T$370=V$5)*(LSM!$B$2:$B$370=$E8),LSM!$C$2:$C$370,"")} -> 225.13 | W8: {=_xlfn.XLOOKUP(1,(LSM!$A$2:$A$370=V$4)*(LSM!$T$2:$T$370=V$5)*(LSM!$B$2:$B$370=$E8),LSM!$D$2:$D$370,"")} -> A | X8: {=_xlfn.XLOOKUP(1,(LSM!$A$2:$A$370=X$4)*(LSM!$T$2:$T$370=X$5)*(LSM!$B$2:$B$370=$E8),LSM!$C$2:$C$370,"")} | Y8: {=_xlfn.XLOOKUP(1,(LSM!$A$2:$A$370=X$4)*(LSM!$T$2:$T$370=X$5)*(LSM!$B$2:$B$370=$E8),LSM!$D$2:$D$370,"")} | AA8: =IF(H8>H$17,1,0) -> 1 | AB8: =IF(J8>J$17,1,0) -> 1 | AC8: =IF(L8>L$17,1,0) -> 1 | AD8: =IF(N8>N$17,1,0) -> 0 | AE8: =IF(P8>P$17,1,0) -> 1 | AF8: =IF(R8>R$17,1,0) -> 1 | AG8: =IF(T8>T$17,1,0) -> 0 | AH8: =IF(V8>V$17,1,0) -> 1 | AJ8: =SUM(AA8:AI8)/COUNT(AA8:AI8) -> 0.75
A9: =VLOOKUP(E9,VL_2020,2,FALSE) -> Dyna-Gro D52TC66RIB | B9: =VLOOKUP(E9,VL_2020,3,FALSE) -> RR | C9: =VLOOKUP(E9,VL_2020,4,FALSE) -> TRE | D9: =AJ9 -> 0.625 | E9: C25018 | F9: {=_xlfn.XLOOKUP(1,(LSM!$A$2:$A$370=F$4)*(LSM!$T$2:$T$370=F$5)*(LSM!$B$2:$B$370=$E9),LSM!$C$2:$C$370,"")} -> 238.38 | G9: {=_xlfn.XLOOKUP(1,(LSM!$A$2:$A$370=F$4)*(LSM!$T$2:$T$370=F$5)*(LSM!$B$2:$B$370=$E9),LSM!$D$2:$D$370,"")} -> A | H9: {=_xlfn.XLOOKUP(1,(LSM!$A$2:$A$370=H$4)*(LSM!$T$2:$T$370=H$5)*(LSM!$B$2:$B$370=$E9),LSM!$C$2:$C$370,"")} -> 266.59 | I9: {=_xlfn.XLOOKUP(1,(LSM!$A$2:$A$370=H$4)*(LSM!$T$2:$T$370=H$5)*(LSM!$B$2:$B$370=$E9),LSM!$D$2:$D$370,"")} -> A | J9: {=_xlfn.XLOOKUP(1,(LSM!$A$2:$A$370=J$4)*(LSM!$T$2:$T$370=J$5)*(LSM!$B$2:$B$370=$E9),LSM!$C$2:$C$370,"")} -> 251.24 | K9: {=_xlfn.XLOOKUP(1,(LSM!$A$2:$A$370=J$4)*(LSM!$T$2:$T$370=J$5)*(LSM!$B$2:$B$370=$E9),LSM!$D$2:$D$370,"")} -> A | L9: {=_xlfn.XLOOKUP(1,(LSM!$A$2:$A$370=L$4)*(LSM!$T$2:$T$370=L$5)*(LSM!$B$2:$B$370=$E9),LSM!$C$2:$C$370,"")} -> 226.55 | M9: {=_xlfn.XLOOKUP(1,(LSM!$A$2:$A$370=L$4)*(LSM!$T$2:$T$370=L$5)*(LSM!$B$2:$B$370=$E9),LSM!$D$2:$D$370,"")} -> A | N9: {=_xlfn.XLOOKUP(1,(LSM!$A$2:$A$370=N$4)*(LSM!$T$2:$T$370=N$5)*(LSM!$B$2:$B$370=$E9),LSM!$C$2:$C$370,"")} -> 195.32 | O9: {=_xlfn.XLOOKUP(1,(LSM!$A$2:$A$370=N$4)*(LSM!$T$2:$T$370=N$5)*(LSM!$B$2:$B$370=$E9),LSM!$D$2:$D$370,"")} -> AB | P9: {=_xlfn.XLOOKUP(1,(LSM!$A$2:$A$370=P$4)*(LSM!$T$2:$T$370=P$5)*(LSM!$B$2:$B$370=$E9),LSM!$C$2:$C$370,"")} -> 199.09 | Q9: {=_xlfn.XLOOKUP(1,(LSM!$A$2:$A$370=P$4)*(LSM!$T$2:$T$370=P$5)*(LSM!$B$2:$B$370=$E9),LSM!$D$2:$D$370,"")} -> A | R9: {=_xlfn.XLOOKUP(1,(LSM!$A$2:$A$370=R$4)*(LSM!$T$2:$T$370=R$5)*(LSM!$B$2:$B$370=$E9),LSM!$C$2:$C$370,"")} -> 265.48 | S9: {=_xlfn.XLOOKUP(1,(LSM!$A$2:$A$370=R$4)*(LSM!$T$2:$T$370=R$5)*(LSM!$B$2:$B$370=$E9),LSM!$D$2:$D$370,"")} -> A | T9: {=_xlfn.XLOOKUP(1,(LSM!$A$2:$A$370=T$4)*(LSM!$T$2:$T$370=T$5)*(LSM!$B$2:$B$370=$E9),LSM!$C$2:$C$370,"")} -> 253.32 | U9: {=_xlfn.XLOOKUP(1,(LSM!$A$2:$A$370=T$4)*(LSM!$T$2:$T$370=T$5)*(LSM!$B$2:$B$370=$E9),LSM!$D$2:$D$370,"")} -> A | V9: {=_xlfn.XLOOKUP(1,(LSM!$A$2:$A$370=V$4)*(LSM!$T$2:$T$370=V$5)*(LSM!$B$2:$B$370=$E9),LSM!$C$2:$C$370,"")} -> 255.26 | W9: {=_xlfn.XLOOKUP(1,(LSM!$A$2:$A$370=V$4)*(LSM!$T$2:$T$370=V$5)*(LSM!$B$2:$B$370=$E9),LSM!$D$2:$D$370,"")} -> A | X9: {=_xlfn.XLOOKUP(1,(LSM!$A$2:$A$370=X$4)*(LSM!$T$2:$T$370=X$5)*(LSM!$B$2:$B$370=$E9),LSM!$C$2:$C$370,"")} | Y9: {=_xlfn.XLOOKUP(1,(LSM!$A$2:$A$370=X$4)*(LSM!$T$2:$T$370=X$5)*(LSM!$B$2:$B$370=$E9),LSM!$D$2:$D$370,"")} | AA9: =IF(H9>H$17,1,0) -> 1 | AB9: =IF(J9>J$17,1,0) -> 0 | AC9: =IF(L9>L$17,1,0) -> 0 | AD9: =IF(N9>N$17,1,0) -> 1 | AE9: =IF(P9>P$17,1,0) -> 1 | AF9: =IF(R9>R$17,1,0) -> 1 | AG9: =IF(T9>T$17,1,0) -> 0 | AH9: =IF(V9>V$17,1,0) -> 1 | AJ9: =SUM(AA9:AI9)/COUNT(AA9:AI9) -> 0.625
A10: =VLOOKUP(E10,VL_2020,2,FALSE) -> Innvictis A1254T | B10: =VLOOKUP(E10,VL_2020,3,FALSE) -> RR | C10: =VLOOKUP(E10,VL_2020,4,FALSE) -> TRE | D10: =AJ10 -> 0.75 | E10: C25014 | F10: {=_xlfn.XLOOKUP(1,(LSM!$A$2:$A$370=F$4)*(LSM!$T$2:$T$370=F$5)*(LSM!$B$2:$B$370=$E10),LSM!$C$2:$C$370,"")} -> 236.92 | G10: {=_xlfn.XLOOKUP(1,(LSM!$A$2:$A$370=F$4)*(LSM!$T$2:$T$370=F$5)*(LSM!$B$2:$B$370=$E10),LSM!$D$2:$D$370,"")} -> A | H10: {=_xlfn.XLOOKUP(1,(LSM!$A$2:$A$370=H$4)*(LSM!$T$2:$T$370=H$5)*(LSM!$B$2:$B$370=$E10),LSM!$C$2:$C$370,"")} -> 261.33 | I10: {=_xlfn.XLOOKUP(1,(LSM!$A$2:$A$370=H$4)*(LSM!$T$2:$T$370=H$5)*(LSM!$B$2:$B$370=$E10),LSM!$D$2:$D$370,"")} -> A | J10: {=_xlfn.XLOOKUP(1,(LSM!$A$2:$A$370=J$4)*(LSM!$T$2:$T$370=J$5)*(LSM!$B$2:$B$370=$E10),LSM!$C$2:$C$370,"")} -> 270 | K10: {=_xlfn.XLOOKUP(1,(LSM!$A$2:$A$370=J$4)*(LSM!$T$2:$T$370=J$5)*(LSM!$B$2:$B$370=$E10),LSM!$D$2:$D$370,"")} -> A | L10: {=_xlfn.XLOOKUP(1,(LSM!$A$2:$A$370=L$4)*(LSM!$T$2:$T$370=L$5)*(LSM!$B$2:$B$370=$E10),LSM!$C$2:$C$370,"")} -> 270.25 | M10: {=_xlfn.XLOOKUP(1,(LSM!$A$2:$A$370=L$4)*(LSM!$T$2:$T$370=L$5)*(LSM!$B$2:$B$370=$E10),LSM!$D$2:$D$370,"")} -> A | N10: {=_xlfn.XLOOKUP(1,(LSM!$A$2:$A$370=N$4)*(LSM!$T$2:$T$370=N$5)*(LSM!$B$2:$B$370=$E10),LSM!$C$2:$C$370,"")} -> 163.05 | O10: {=_xlfn.XLOOKUP(1,(LSM!$A$2:$A$370=N$4)*(LSM!$T$2:$T$370=N$5)*(LSM!$B$2:$B$370=$E10),LSM!$D$2:$D$370,"")} -> B-D | P10: {=_xlfn.XLOOKUP(1,(LSM!$A$2:$A$370=P$4)*(LSM!$T$2:$T$370=P$5)*(LSM!$B$2:$B$370=$E10),LSM!$C$2:$C$370,"")} -> 178.91 | Q10: {=_xlfn.XLOOKUP(1,(LSM!$A$2:$A$370=P$4)*(LSM!$T$2:$T$370=P$5)*(LSM!$B$2:$B$370=$E10),LSM!$D$2:$D$370,"")} -> A | R10: {=_xlfn.XLOOKUP(1,(LSM!$A$2:$A$370=R$4)*(LSM!$T$2:$T$370=R$5)*(LSM!$B$2:$B$370=$E10),LSM!$C$2:$C$370,"")} -> 261.84 | S10: {=_xlfn.XLOOKUP(1,(LSM!$A$2:$A$370=R$4)*(LSM!$T$2:$T$370=R$5)*(LSM!$B$2:$B$370=$E10),LSM!$D$2:$D$370,"")} -> A | T10: {=_xlfn.XLOOKUP(1,(LSM!$A$2:$A$370=T$4)*(LSM!$T$2:$T$370=T$5)*(LSM!$B$2:$B$370=$E10),LSM!$C$2:$C$370,"")} -> 263.93 | U10: {=_xlfn.XLOOKUP(1,(LSM!$A$2:$A$370=T$4)*(LSM!$T$2:$T$370=T$5)*(LSM!$B$2:$B$370=$E10),LSM!$D$2:$D$370,"")} -> A | V10: {=_xlfn.XLOOKUP(1,(LSM!$A$2:$A$370=V$4)*(LSM!$T$2:$T$370=V$5)*(LSM!$B$2:$B$370=$E10),LSM!$C$2:$C$370,"")} -> 227.05 | W10: {=_xlfn.XLOOKUP(1,(LSM!$A$2:$A$370=V$4)*(LSM!$T$2:$T$370=V$5)*(LSM!$B$2:$B$370=$E10),LSM!$D$2:$D$370,"")} -> A | X10: {=_xlfn.XLOOKUP(1,(LSM!$A$2:$A$370=X$4)*(LSM!$T$2:$T$370=X$5)*(LSM!$B$2:$B$370=$E10),LSM!$C$2:$C$370,"")} | Y10: {=_xlfn.XLOOKUP(1,(LSM!$A$2:$A$370=X$4)*(LSM!$T$2:$T$370=X$5)*(LSM!$B$2:$B$370=$E10),LSM!$D$2:$D$370,"")} | AA10: =IF(H10>H$17,1,0) -> 1 | AB10: =IF(J10>J$17,1,0) -> 1 | AC10: =IF(L10>L$17,1,0) -> 1 | AD10: =IF(N10>N$17,1,0) -> 0 | AE10: =IF(P10>P$17,1,0) -> 0 | AF10: =IF(R10>R$17,1,0) -> 1 | AG10: =IF(T10>T$17,1,0) -> 1 | AH10: =IF(V10>V$17,1,0) -> 1 | AJ10: =SUM(AA10:AI10)/COUNT(AA10:AI10) -> 0.75
A11: =VLOOKUP(E11,VL_2020,2,FALSE) -> Pioneer P10705PWE | B11: =VLOOKUP(E11,VL_2020,3,FALSE) -> RR, LL, ENL, FOP | C11: =VLOOKUP(E11,VL_2020,4,FALSE) -> VT2P, HX1 | D11: =AJ11 -> 0.5 | E11: C26018 | F11: {=_xlfn.XLOOKUP(1,(LSM!$A$2:$A$370=F$4)*(LSM!$T$2:$T$370=F$5)*(LSM!$B$2:$B$370=$E11),LSM!$C$2:$C$370,"")} -> 233.49 | G11: {=_xlfn.XLOOKUP(1,(LSM!$A$2:$A$370=F$4)*(LSM!$T$2:$T$370=F$5)*(LSM!$B$2:$B$370=$E11),LSM!$D$2:$D$370,"")} -> A | H11: {=_xlfn.XLOOKUP(1,(LSM!$A$2:$A$370=H$4)*(LSM!$T$2:$T$370=H$5)*(LSM!$B$2:$B$370=$E11),LSM!$C$2:$C$370,"")} -> 266.15 | I11: {=_xlfn.XLOOKUP(1,(LSM!$A$2:$A$370=H$4)*(LSM!$T$2:$T$370=H$5)*(LSM!$B$2:$B$370=$E11),LSM!$D$2:$D$370,"")} -> A | J11: {=_xlfn.XLOOKUP(1,(LSM!$A$2:$A$370=J$4)*(LSM!$T$2:$T$370=J$5)*(LSM!$B$2:$B$370=$E11),LSM!$C$2:$C$370,"")} -> 256.93 | K11: {=_xlfn.XLOOKUP(1,(LSM!$A$2:$A$370=J$4)*(LSM!$T$2:$T$370=J$5)*(LSM!$B$2:$B$370=$E11),LSM!$D$2:$D$370,"")} -> A | L11: {=_xlfn.XLOOKUP(1,(LSM!$A$2:$A$370=L$4)*(LSM!$T$2:$T$370=L$5)*(LSM!$B$2:$B$370=$E11),LSM!$C$2:$C$370,"")} -> 223.81 | M11: {=_xlfn.XLOOKUP(1,(LSM!$A$2:$A$370=L$4)*(LSM!$T$2:$T$370=L$5)*(LSM!$B$2:$B$370=$E11),LSM!$D$2:$D$370,"")} -> A | N11: {=_xlfn.XLOOKUP(1,(LSM!$A$2:$A$370=N$4)*(LSM!$T$2:$T$370=N$5)*(LSM!$B$2:$B$370=$E11),LSM!$C$2:$C$370,"")} -> 172.4 | O11: {=_xlfn.XLOOKUP(1,(LSM!$A$2:$A$370=N$4)*(LSM!$T$2:$T$370=N$5)*(LSM!$B$2:$B$370=$E11),LSM!$D$2:$D$370,"")} -> A-D | P11: {=_xlfn.XLOOKUP(1,(LSM!$A$2:$A$370=P$4)*(LSM!$T$2:$T$370=P$5)*(LSM!$B$2:$B$370=$E11),LSM!$C$2:$C$370,"")} -> 212.36 | Q11: {=_xlfn.XLOOKUP(1,(LSM!$A$2:$A$370=P$4)*(LSM!$T$2:$T$370=P$5)*(LSM!$B$2:$B$370=$E11),LSM!$D$2:$D$370,"")} -> A | R11: {=_xlfn.XLOOKUP(1,(LSM!$A$2:$A$370=R$4)*(LSM!$T$2:$T$370=R$5)*(LSM!$B$2:$B$370=$E11),LSM!$C$2:$C$370,"")} -> 260.84 | S11: {=_xlfn.XLOOKUP(1,(LSM!$A$2:$A$370=R$4)*(LSM!$T$2:$T$370=R$5)*(LSM!$B$2:$B$370=$E11),LSM!$D$2:$D$370,"")} -> A | T11: {=_xlfn.XLOOKUP(1,(LSM!$A$2:$A$370=T$4)*(LSM!$T$2:$T$370=T$5)*(LSM!$B$2:$B$370=$E11),LSM!$C$2:$C$370,"")} -> 257.64 | U11: {=_xlfn.XLOOKUP(1,(LSM!$A$2:$A$370=T$4)*(LSM!$T$2:$T$370=T$5)*(LSM!$B$2:$B$370=$E11),LSM!$D$2:$D$370,"")} -> A | V11: {=_xlfn.XLOOKUP(1,(LSM!$A$2:$A$370=V$4)*(LSM!$T$2:$T$370=V$5)*(LSM!$B$2:$B$370=$E11),LSM!$C$2:$C$370,"")} -> 218.39 | W11: {=_xlfn.XLOOKUP(1,(LSM!$A$2:$A$370=V$4)*(LSM!$T$2:$T$370=V$5)*(LSM!$B$2:$B$370=$E11),LSM!$D$2:$D$370,"")} -> A | X11: {=_xlfn.XLOOKUP(1,(LSM!$A$2:$A$370=X$4)*(LSM!$T$2:$T$370=X$5)*(LSM!$B$2:$B$370=$E11),LSM!$C$2:$C$370,"")} | Y11: {=_xlfn.XLOOKUP(1,(LSM!$A$2:$A$370=X$4)*(LSM!$T$2:$T$370=X$5)*(LSM!$B$2:$B$370=$E11),LSM!$D$2:$D$370,"")} | AA11: =IF(H11>H$17,1,0) -> 1 | AB11: =IF(J11>J$17,1,0) -> 1 | AC11: =IF(L11>L$17,1,0) -> 0 | AD11: =IF(N11>N$17,1,0) -> 0 | AE11: =IF(P11>P$17,1,0) -> 1 | AF11: =IF(R11>R$17,1,0) -> 1 | AG11: =IF(T11>T$17,1,0) -> 0 | AH11: =IF(V11>V$17,1,0) -> 0 | AJ11: =SUM(AA11:AI11)/COUNT(AA11:AI11) -> 0.5
A12: =VLOOKUP(E12,VL_2020,2,FALSE) -> Great Heart HT-7210TRE | B12: =VLOOKUP(E12,VL_2020,3,FALSE) -> TRE | C12: =VLOOKUP(E12,VL_2020,4,FALSE) -> TRE | D12: =AJ12 -> 0.375 | E12: C25011 | F12: {=_xlfn.XLOOKUP(1,(LSM!$A$2:$A$370=F$4)*(LSM!$T$2:$T$370=F$5)*(LSM!$B$2:$B$370=$E12),LSM!$C$2:$C$370,"")} -> 233.47 | G12: {=_xlfn.XLOOKUP(1,(LSM!$A$2:$A$370=F$4)*(LSM!$T$2:$T$370=F$5)*(LSM!$B$2:$B$370=$E12),LSM!$D$2:$D$370,"")} -> A | H12: {=_xlfn.XLOOKUP(1,(LSM!$A$2:$A$370=H$4)*(LSM!$T$2:$T$370=H$5)*(LSM!$B$2:$B$370=$E12),LSM!$C$2:$C$370,"")} -> 262.29 | I12: {=_xlfn.XLOOKUP(1,(LSM!$A$2:$A$370=H$4)*(LSM!$T$2:$T$370=H$5)*(LSM!$B$2:$B$370=$E12),LSM!$D$2:$D$370,"")} -> A | J12: {=_xlfn.XLOOKUP(1,(LSM!$A$2:$A$370=J$4)*(LSM!$T$2:$T$370=J$5)*(LSM!$B$2:$B$370=$E12),LSM!$C$2:$C$370,"")} -> 285.58 | K12: {=_xlfn.XLOOKUP(1,(LSM!$A$2:$A$370=J$4)*(LSM!$T$2:$T$370=J$5)*(LSM!$B$2:$B$370=$E12),LSM!$D$2:$D$370,"")} -> A | L12: {=_xlfn.XLOOKUP(1,(LSM!$A$2:$A$370=L$4)*(LSM!$T$2:$T$370=L$5)*(LSM!$B$2:$B$370=$E12),LSM!$C$2:$C$370,"")} -> 243.6 | M12: {=_xlfn.XLOOKUP(1,(LSM!$A$2:$A$370=L$4)*(LSM!$T$2:$T$370=L$5)*(LSM!$B$2:$B$370=$E12),LSM!$D$2:$D$370,"")} -> A | N12: {=_xlfn.XLOOKUP(1,(LSM!$A$2:$A$370=N$4)*(LSM!$T$2:$T$370=N$5)*(LSM!$B$2:$B$370=$E12),LSM!$C$2:$C$370,"")} -> 158.3 | O12: {=_xlfn.XLOOKUP(1,(LSM!$A$2:$A$370=N$4)*(LSM!$T$2:$T$370=N$5)*(LSM!$B$2:$B$370=$E12),LSM!$D$2:$D$370,"")} -> CD | P12: {=_xlfn.XLOOKUP(1,(LSM!$A$2:$A$370=P$4)*(LSM!$T$2:$T$370=P$5)*(LSM!$B$2:$B$370=$E12),LSM!$C$2:$C$370,"")} -> 186.21 | Q12: {=_xlfn.XLOOKUP(1,(LSM!$A$2:$A$370=P$4)*(LSM!$T$2:$T$370=P$5)*(LSM!$B$2:$B$370=$E12),LSM!$D$2:$D$370,"")} -> A | R12: {=_xlfn.XLOOKUP(1,(LSM!$A$2:$A$370=R$4)*(LSM!$T$2:$T$370=R$5)*(LSM!$B$2:$B$370=$E12),LSM!$C$2:$C$370,"")} -> 249.9 | S12: {=_xlfn.XLOOKUP(1,(LSM!$A$2:$A$370=R$4)*(LSM!$T$2:$T$370=R$5)*(LSM!$B$2:$B$370=$E12),LSM!$D$2:$D$370,"")} -> A | T12: {=_xlfn.XLOOKUP(1,(LSM!$A$2:$A$370=T$4)*(LSM!$T$2:$T$370=T$5)*(LSM!$B$2:$B$370=$E12),LSM!$C$2:$C$370,"")} -> 266.45 | U12: {=_xlfn.XLOOKUP(1,(LSM!$A$2:$A$370=T$4)*(LSM!$T$2:$T$370=T$5)*(LSM!$B$2:$B$370=$E12),LSM!$D$2:$D$370,"")} -> A | V12: {=_xlfn.XLOOKUP(1,(LSM!$A$2:$A$370=V$4)*(LSM!$T$2:$T$370=V$5)*(LSM!$B$2:$B$370=$E12),LSM!$C$2:$C$370,"")} -> 215.4 | W12: {=_xlfn.XLOOKUP(1,(LSM!$A$2:$A$370=V$4)*(LSM!$T$2:$T$370=V$5)*(LSM!$B$2:$B$370=$E12),LSM!$D$2:$D$370,"")} -> A | X12: {=_xlfn.XLOOKUP(1,(LSM!$A$2:$A$370=X$4)*(LSM!$T$2:$T$370=X$5)*(LSM!$B$2:$B$370=$E12),LSM!$C$2:$C$370,"")} | Y12: {=_xlfn.XLOOKUP(1,(LSM!$A$2:$A$370=X$4)*(LSM!$T$2:$T$370=X$5)*(LSM!$B$2:$B$370=$E12),LSM!$D$2:$D$370,"")} | AA12: =IF(H12>H$17,1,0) -> 1 | AB12: =IF(J12>J$17,1,0) -> 1 | AC12: =IF(L12>L$17,1,0) -> 0 | AD12: =IF(N12>N$17,1,0) -> 0 | AE12: =IF(P12>P$17,1,0) -> 0 | AF12: =IF(R12>R$17,1,0) -> 0 | AG12: =IF(T12>T$17,1,0) -> 1 | AH12: =IF(V12>V$17,1,0) -> 0 | AJ12: =SUM(AA12:AI12)/COUNT(AA12:AI12) -> 0.375
A13: =VLOOKUP(E13,VL_2020,2,FALSE) -> Innvictis A1312VT2P | B13: =VLOOKUP(E13,VL_2020,3,FALSE) -> RR | C13: =VLOOKUP(E13,VL_2020,4,FALSE) -> VT2P | D13: =AJ13 -> 0.375 | E13: C24010 | F13: {=_xlfn.XLOOKUP(1,(LSM!$A$2:$A$370=F$4)*(LSM!$T$2:$T$370=F$5)*(LSM!$B$2:$B$370=$E13),LSM!$C$2:$C$370,"")} -> 233.32 | G13: {=_xlfn.XLOOKUP(1,(LSM!$A$2:$A$370=F$4)*(LSM!$T$2:$T$370=F$5)*(LSM!$B$2:$B$370=$E13),LSM!$D$2:$D$370,"")} -> A | H13: {=_xlfn.XLOOKUP(1,(LSM!$A$2:$A$370=H$4)*(LSM!$T$2:$T$370=H$5)*(LSM!$B$2:$B$370=$E13),LSM!$C$2:$C$370,"")} -> 251.6 | I13: {=_xlfn.XLOOKUP(1,(LSM!$A$2:$A$370=H$4)*(LSM!$T$2:$T$370=H$5)*(LSM!$B$2:$B$370=$E13),LSM!$D$2:$D$370,"")} -> A | J13: {=_xlfn.XLOOKUP(1,(LSM!$A$2:$A$370=J$4)*(LSM!$T$2:$T$370=J$5)*(LSM!$B$2:$B$370=$E13),LSM!$C$2:$C$370,"")} -> 256.04 | K13: {=_xlfn.XLOOKUP(1,(LSM!$A$2:$A$370=J$4)*(LSM!$T$2:$T$370=J$5)*(LSM!$B$2:$B$370=$E13),LSM!$D$2:$D$370,"")} -> A | L13: {=_xlfn.XLOOKUP(1,(LSM!$A$2:$A$370=L$4)*(LSM!$T$2:$T$370=L$5)*(LSM!$B$2:$B$370=$E13),LSM!$C$2:$C$370,"")} -> 269.96 | M13: {=_xlfn.XLOOKUP(1,(LSM!$A$2:$A$370=L$4)*(LSM!$T$2:$T$370=L$5)*(LSM!$B$2:$B$370=$E13),LSM!$D$2:$D$370,"")} -> A | N13: {=_xlfn.XLOOKUP(1,(LSM!$A$2:$A$370=N$4)*(LSM!$T$2:$T$370=N$5)*(LSM!$B$2:$B$370=$E13),LSM!$C$2:$C$370,"")} -> 165.6 | O13: {=_xlfn.XLOOKUP(1,(LSM!$A$2:$A$370=N$4)*(LSM!$T$2:$T$370=N$5)*(LSM!$B$2:$B$370=$E13),LSM!$D$2:$D$370,"")} -> A-D | P13: {=_xlfn.XLOOKUP(1,(LSM!$A$2:$A$370=P$4)*(LSM!$T$2:$T$370=P$5)*(LSM!$B$2:$B$370=$E13),LSM!$C$2:$C$370,"")} -> 183.33 | Q13: {=_xlfn.XLOOKUP(1,(LSM!$A$2:$A$370=P$4)*(LSM!$T$2:$T$370=P$5)*(LSM!$B$2:$B$370=$E13),LSM!$D$2:$D$370,"")} -> A | R13: {=_xlfn.XLOOKUP(1,(LSM!$A$2:$A$370=R$4)*(LSM!$T$2:$T$370=R$5)*(LSM!$B$2:$B$370=$E13),LSM!$C$2:$C$370,"")} -> 263.33 | S13: {=_xlfn.XLOOKUP(1,(LSM!$A$2:$A$370=R$4)*(LSM!$T$2:$T$370=R$5)*(LSM!$B$2:$B$370=$E13),LSM!$D$2:$D$370,"")} -> A | T13: {=_xlfn.XLOOKUP(1,(LSM!$A$2:$A$370=T$4)*(LSM!$T$2:$T$370=T$5)*(LSM!$B$2:$B$370=$E13),LSM!$C$2:$C$370,"")} -> 255.41 | U13: {=_xlfn.XLOOKUP(1,(LSM!$A$2:$A$370=T$4)*(LSM!$T$2:$T$370=T$5)*(LSM!$B$2:$B$370=$E13),LSM!$D$2:$D$370,"")} -> A | V13: {=_xlfn.XLOOKUP(1,(LSM!$A$2:$A$370=V$4)*(LSM!$T$2:$T$370=V$5)*(LSM!$B$2:$B$370=$E13),LSM!$C$2:$C$370,"")} -> 221.27 | W13: {=_xlfn.XLOOKUP(1,(LSM!$A$2:$A$370=V$4)*(LSM!$T$2:$T$370=V$5)*(LSM!$B$2:$B$370=$E13),LSM!$D$2:$D$370,"")} -> A | X13: {=_xlfn.XLOOKUP(1,(LSM!$A$2:$A$370=X$4)*(LSM!$T$2:$T$370=X$5)*(LSM!$B$2:$B$370=$E13),LSM!$C$2:$C$370,"")} | Y13: {=_xlfn.XLOOKUP(1,(LSM!$A$2:$A$370=X$4)*(LSM!$T$2:$T$370=X$5)*(LSM!$B$2:$B$370=$E13),LSM!$D$2:$D$370,"")} | AA13: =IF(H13>H$17,1,0) -> 0 | AB13: =IF(J13>J$17,1,0) -> 1 | AC13: =IF(L13>L$17,1,0) -> 1 | AD13: =IF(N13>N$17,1,0) -> 0 | AE13: =IF(P13>P$17,1,0) -> 0 | AF13: =IF(R13>R$17,1,0) -> 1 | AG13: =IF(T13>T$17,1,0) -> 0 | AH13: =IF(V13>V$17,1,0) -> 0 | AJ13: =SUM(AA13:AI13)/COUNT(AA13:AI13) -> 0.375
A14: =VLOOKUP(E14,VL_2020,2,FALSE) -> Revere 110-T50 | B14: =VLOOKUP(E14,VL_2020,3,FALSE) -> RR | C14: =VLOOKUP(E14,VL_2020,4,FALSE) -> TRE | D14: =AJ14 -> 0.625 | E14: C26021 | F14: {=_xlfn.XLOOKUP(1,(LSM!$A$2:$A$370=F$4)*(LSM!$T$2:$T$370=F$5)*(LSM!$B$2:$B$370=$E14),LSM!$C$2:$C$370,"")} -> 233.05 | G14: {=_xlfn.XLOOKUP(1,(LSM!$A$2:$A$370=F$4)*(LSM!$T$2:$T$370=F$5)*(LSM!$B$2:$B$370=$E14),LSM!$D$2:$D$370,"")} -> A | H14: {=_xlfn.XLOOKUP(1,(LSM!$A$2:$A$370=H$4)*(LSM!$T$2:$T$370=H$5)*(LSM!$B$2:$B$370=$E14),LSM!$C$2:$C$370,"")} -> 259.37 | I14: {=_xlfn.XLOOKUP(1,(LSM!$A$2:$A$370=H$4)*(LSM!$T$2:$T$370=H$5)*(LSM!$B$2:$B$370=$E14),LSM!$D$2:$D$370,"")} -> A | J14: {=_xlfn.XLOOKUP(1,(LSM!$A$2:$A$370=J$4)*(LSM!$T$2:$T$370=J$5)*(LSM!$B$2:$B$370=$E14),LSM!$C$2:$C$370,"")} -> 227.78 | K14: {=_xlfn.XLOOKUP(1,(LSM!$A$2:$A$370=J$4)*(LSM!$T$2:$T$370=J$5)*(LSM!$B$2:$B$370=$E14),LSM!$D$2:$D$370,"")} -> A | L14: {=_xlfn.XLOOKUP(1,(LSM!$A$2:$A$370=L$4)*(LSM!$T$2:$T$370=L$5)*(LSM!$B$2:$B$370=$E14),LSM!$C$2:$C$370,"")} -> 264 | M14: {=_xlfn.XLOOKUP(1,(LSM!$A$2:$A$370=L$4)*(LSM!$T$2:$T$370=L$5)*(LSM!$B$2:$B$370=$E14),LSM!$D$2:$D$370,"")} -> A | N14: {=_xlfn.XLOOKUP(1,(LSM!$A$2:$A$370=N$4)*(LSM!$T$2:$T$370=N$5)*(LSM!$B$2:$B$370=$E14),LSM!$C$2:$C$370,"")} -> 169.64 | O14: {=_xlfn.XLOOKUP(1,(LSM!$A$2:$A$370=N$4)*(LSM!$T$2:$T$370=N$5)*(LSM!$B$2:$B$370=$E14),LSM!$D$2:$D$370,"")} -> A-D | P14: {=_xlfn.XLOOKUP(1,(LSM!$A$2:$A$370=P$4)*(LSM!$T$2:$T$370=P$5)*(LSM!$B$2:$B$370=$E14),LSM!$C$2:$C$370,"")} -> 201.91 | Q14: {=_xlfn.XLOOKUP(1,(LSM!$A$2:$A$370=P$4)*(LSM!$T$2:$T$370=P$5)*(LSM!$B$2:$B$370=$E14),LSM!$D$2:$D$370,"")} -> A | R14: {=_xlfn.XLOOKUP(1,(LSM!$A$2:$A$370=R$4)*(LSM!$T$2:$T$370=R$5)*(LSM!$B$2:$B$370=$E14),LSM!$C$2:$C$370,"")} -> 264.5 | S14: {=_xlfn.XLOOKUP(1,(LSM!$A$2:$A$370=R$4)*(LSM!$T$2:$T$370=R$5)*(LSM!$B$2:$B$370=$E14),LSM!$D$2:$D$370,"")} -> A | T14: {=_xlfn.XLOOKUP(1,(LSM!$A$2:$A$370=T$4)*(LSM!$T$2:$T$370=T$5)*(LSM!$B$2:$B$370=$E14),LSM!$C$2:$C$370,"")} -> 264.69 | U14: {=_xlfn.XLOOKUP(1,(LSM!$A$2:$A$370=T$4)*(LSM!$T$2:$T$370=T$5)*(LSM!$B$2:$B$370=$E14),LSM!$D$2:$D$370,"")} -> A | V14: {=_xlfn.XLOOKUP(1,(LSM!$A$2:$A$370=V$4)*(LSM!$T$2:$T$370=V$5)*(LSM!$B$2:$B$370=$E14),LSM!$C$2:$C$370,"")} -> 208.3 | W14: {=_xlfn.XLOOKUP(1,(LSM!$A$2:$A$370=V$4)*(LSM!$T$2:$T$370=V$5)*(LSM!$B$2:$B$370=$E14),LSM!$D$2:$D$370,"")} -> A | X14: {=_xlfn.XLOOKUP(1,(LSM!$A$2:$A$370=X$4)*(LSM!$T$2:$T$370=X$5)*(LSM!$B$2:$B$370=$E14),LSM!$C$2:$C$370,"")} | Y14: {=_xlfn.XLOOKUP(1,(LSM!$A$2:$A$370=X$4)*(LSM!$T$2:$T$370=X$5)*(LSM!$B$2:$B$370=$E14),LSM!$D$2:$D$370,"")} | AA14: =IF(H14>H$17,1,0) -> 1 | AB14: =IF(J14>J$17,1,0) -> 0 | AC14: =IF(L14>L$17,1,0) -> 1 | AD14: =IF(N14>N$17,1,0) -> 0 | AE14: =IF(P14>P$17,1,0) -> 1 | AF14: =IF(R14>R$17,1,0) -> 1 | AG14: =IF(T14>T$17,1,0) -> 1 | AH14: =IF(V14>V$17,1,0) -> 0 | AJ14: =SUM(AA14:AI14)/COUNT(AA14:AI14) -> 0.625
A15: =VLOOKUP(E15,VL_2020,2,FALSE) -> Innvictis A0904TRIB | B15: =VLOOKUP(E15,VL_2020,3,FALSE) -> RR | C15: =VLOOKUP(E15,VL_2020,4,FALSE) -> TRE | D15: =AJ15 -> 0.375 | E15: C26015 | F15: {=_xlfn.XLOOKUP(1,(LSM!$A$2:$A$370=F$4)*(LSM!$T$2:$T$370=F$5)*(LSM!$B$2:$B$370=$E15),LSM!$C$2:$C$370,"")} -> 232.56 | G15: {=_xlfn.XLOOKUP(1,(LSM!$A$2:$A$370=F$4)*(LSM!$T$2:$T$370=F$5)*(LSM!$B$2:$B$370=$E15),LSM!$D$2:$D$370,"")} -> A | H15: {=_xlfn.XLOOKUP(1,(LSM!$A$2:$A$370=H$4)*(LSM!$T$2:$T$370=H$5)*(LSM!$B$2:$B$370=$E15),LSM!$C$2:$C$370,"")} -> 226.46 | I15: {=_xlfn.XLOOKUP(1,(LSM!$A$2:$A$370=H$4)*(LSM!$T$2:$T$370=H$5)*(LSM!$B$2:$B$370=$E15),LSM!$D$2:$D$370,"")} -> A | J15: {=_xlfn.XLOOKUP(1,(LSM!$A$2:$A$370=J$4)*(LSM!$T$2:$T$370=J$5)*(LSM!$B$2:$B$370=$E15),LSM!$C$2:$C$370,"")} -> 246.9 | K15: {=_xlfn.XLOOKUP(1,(LSM!$A$2:$A$370=J$4)*(LSM!$T$2:$T$370=J$5)*(LSM!$B$2:$B$370=$E15),LSM!$D$2:$D$370,"")} -> A | L15: {=_xlfn.XLOOKUP(1,(LSM!$A$2:$A$370=L$4)*(LSM!$T$2:$T$370=L$5)*(LSM!$B$2:$B$370=$E15),LSM!$C$2:$C$370,"")} -> 277.02 | M15: {=_xlfn.XLOOKUP(1,(LSM!$A$2:$A$370=L$4)*(LSM!$T$2:$T$370=L$5)*(LSM!$B$2:$B$370=$E15),LSM!$D$2:$D$370,"")} -> A | N15: {=_xlfn.XLOOKUP(1,(LSM!$A$2:$A$370=N$4)*(LSM!$T$2:$T$370=N$5)*(LSM!$B$2:$B$370=$E15),LSM!$C$2:$C$370,"")} -> 192.83 | O15: {=_xlfn.XLOOKUP(1,(LSM!$A$2:$A$370=N$4)*(LSM!$T$2:$T$370=N$5)*(LSM!$B$2:$B$370=$E15),LSM!$D$2:$D$370,"")} -> A-C | P15: {=_xlfn.XLOOKUP(1,(LSM!$A$2:$A$370=P$4)*(LSM!$T$2:$T$370=P$5)*(LSM!$B$2:$B$370=$E15),LSM!$C$2:$C$370,"")} -> 204.26 | Q15: {=_xlfn.XLOOKUP(1,(LSM!$A$2:$A$370=P$4)*(LSM!$T$2:$T$370=P$5)*(LSM!$B$2:$B$370=$E15),LSM!$D$2:$D$370,"")} -> A | R15: {=_xlfn.XLOOKUP(1,(LSM!$A$2:$A$370=R$4)*(LSM!$T$2:$T$370=R$5)*(LSM!$B$2:$B$370=$E15),LSM!$C$2:$C$370,"")} -> 254.41 | S15: {=_xlfn.XLOOKUP(1,(LSM!$A$2:$A$370=R$4)*(LSM!$T$2:$T$370=R$5)*(LSM!$B$2:$B$370=$E15),LSM!$D$2:$D$370,"")} -> A | T15: {=_xlfn.XLOOKUP(1,(LSM!$A$2:$A$370=T$4)*(LSM!$T$2:$T$370=T$5)*(LSM!$B$2:$B$370=$E15),LSM!$C$2:$C$370,"")} -> 251.79 | U15: {=_xlfn.XLOOKUP(1,(LSM!$A$2:$A$370=T$4)*(LSM!$T$2:$T$370=T$5)*(LSM!$B$2:$B$370=$E15),LSM!$D$2:$D$370,"")} -> A | V15: {=_xlfn.XLOOKUP(1,(LSM!$A$2:$A$370=V$4)*(LSM!$T$2:$T$370=V$5)*(LSM!$B$2:$B$370=$E15),LSM!$C$2:$C$370,"")} -> 206.83 | W15: {=_xlfn.XLOOKUP(1,(LSM!$A$2:$A$370=V$4)*(LSM!$T$2:$T$370=V$5)*(LSM!$B$2:$B$370=$E15),LSM!$D$2:$D$370,"")} -> A | X15: {=_xlfn.XLOOKUP(1,(LSM!$A$2:$A$370=X$4)*(LSM!$T$2:$T$370=X$5)*(LSM!$B$2:$B$370=$E15),LSM!$C$2:$C$370,"")} | Y15: {=_xlfn.XLOOKUP(1,(LSM!$A$2:$A$370=X$4)*(LSM!$T$2:$T$370=X$5)*(LSM!$B$2:$B$370=$E15),LSM!$D$2:$D$370,"")} | AA15: =IF(H15>H$17,1,0) -> 0 | AB15: =IF(J15>J$17,1,0) -> 0 | AC15: =IF(L15>L$17,1,0) -> 1 | AD15: =IF(N15>N$17,1,0) -> 1 | AE15: =IF(P15>P$17,1,0) -> 1 | AF15: =IF(R15>R$17,1,0) -> 0 | AG15: =IF(T15>T$17,1,0) -> 0 | AH15: =IF(V15>V$17,1,0) -> 0 | AJ15: =SUM(AA15:AI15)/COUNT(AA15:AI15) -> 0.375
A16: =VLOOKUP(E16,VL_2020,2,FALSE) -> Dyna-Gro D50PN07RA | B16: =VLOOKUP(E16,VL_2020,3,FALSE) -> RR, LL, ENL, FOP | C16: =VLOOKUP(E16,VL_2020,4,FALSE) -> FOP | D16: =AJ16 -> 0 | E16: C26004 | F16: {=_xlfn.XLOOKUP(1,(LSM!$A$2:$A$370=F$4)*(LSM!$T$2:$T$370=F$5)*(LSM!$B$2:$B$370=$E16),LSM!$C$2:$C$370,"")} -> 217.97 | G16: {=_xlfn.XLOOKUP(1,(LSM!$A$2:$A$370=F$4)*(LSM!$T$2:$T$370=F$5)*(LSM!$B$2:$B$370=$E16),LSM!$D$2:$D$370,"")} -> A | H16: {=_xlfn.XLOOKUP(1,(LSM!$A$2:$A$370=H$4)*(LSM!$T$2:$T$370=H$5)*(LSM!$B$2:$B$370=$E16),LSM!$C$2:$C$370,"")} -> 224.41 | I16: {=_xlfn.XLOOKUP(1,(LSM!$A$2:$A$370=H$4)*(LSM!$T$2:$T$370=H$5)*(LSM!$B$2:$B$370=$E16),LSM!$D$2:$D$370,"")} -> A | J16: {=_xlfn.XLOOKUP(1,(LSM!$A$2:$A$370=J$4)*(LSM!$T$2:$T$370=J$5)*(LSM!$B$2:$B$370=$E16),LSM!$C$2:$C$370,"")} -> 239.63 | K16: {=_xlfn.XLOOKUP(1,(LSM!$A$2:$A$370=J$4)*(LSM!$T$2:$T$370=J$5)*(LSM!$B$2:$B$370=$E16),LSM!$D$2:$D$370,"")} -> A | L16: {=_xlfn.XLOOKUP(1,(LSM!$A$2:$A$370=L$4)*(LSM!$T$2:$T$370=L$5)*(LSM!$B$2:$B$370=$E16),LSM!$C$2:$C$370,"")} -> 250.37 | M16: {=_xlfn.XLOOKUP(1,(LSM!$A$2:$A$370=L$4)*(LSM!$T$2:$T$370=L$5)*(LSM!$B$2:$B$370=$E16),LSM!$D$2:$D$370,"")} -> A | N16: {=_xlfn.XLOOKUP(1,(LSM!$A$2:$A$370=N$4)*(LSM!$T$2:$T$370=N$5)*(LSM!$B$2:$B$370=$E16),LSM!$C$2:$C$370,"")} -> 143.32 | O16: {=_xlfn.XLOOKUP(1,(LSM!$A$2:$A$370=N$4)*(LSM!$T$2:$T$370=N$5)*(LSM!$B$2:$B$370=$E16),LSM!$D$2:$D$370,"")} -> D | P16: {=_xlfn.XLOOKUP(1,(LSM!$A$2:$A$370=P$4)*(LSM!$T$2:$T$370=P$5)*(LSM!$B$2:$B$370=$E16),LSM!$C$2:$C$370,"")} -> 176.52 | Q16: {=_xlfn.XLOOKUP(1,(LSM!$A$2:$A$370=P$4)*(LSM!$T$2:$T$370=P$5)*(LSM!$B$2:$B$370=$E16),LSM!$D$2:$D$370,"")} -> A | R16: {=_xlfn.XLOOKUP(1,(LSM!$A$2:$A$370=R$4)*(LSM!$T$2:$T$370=R$5)*(LSM!$B$2:$B$370=$E16),LSM!$C$2:$C$370,"")} -> 248.81 | S16: {=_xlfn.XLOOKUP(1,(LSM!$A$2:$A$370=R$4)*(LSM!$T$2:$T$370=R$5)*(LSM!$B$2:$B$370=$E16),LSM!$D$2:$D$370,"")} -> A | T16: {=_xlfn.XLOOKUP(1,(LSM!$A$2:$A$370=T$4)*(LSM!$T$2:$T$370=T$5)*(LSM!$B$2:$B$370=$E16),LSM!$C$2:$C$370,"")} -> 250.5 | U16: {=_xlfn.XLOOKUP(1,(LSM!$A$2:$A$370=T$4)*(LSM!$T$2:$T$370=T$5)*(LSM!$B$2:$B$370=$E16),LSM!$D$2:$D$370,"")} -> A | V16: {=_xlfn.XLOOKUP(1,(LSM!$A$2:$A$370=V$4)*(LSM!$T$2:$T$370=V$5)*(LSM!$B$2:$B$370=$E16),LSM!$C$2:$C$370,"")} -> 215.47 | W16: {=_xlfn.XLOOKUP(1,(LSM!$A$2:$A$370=V$4)*(LSM!$T$2:$T$370=V$5)*(LSM!$B$2:$B$370=$E16),LSM!$D$2:$D$370,"")} -> A | X16: {=_xlfn.XLOOKUP(1,(LSM!$A$2:$A$370=X$4)*(LSM!$T$2:$T$370=X$5)*(LSM!$B$2:$B$370=$E16),LSM!$C$2:$C$370,"")} | Y16: {=_xlfn.XLOOKUP(1,(LSM!$A$2:$A$370=X$4)*(LSM!$T$2:$T$370=X$5)*(LSM!$B$2:$B$370=$E16),LSM!$D$2:$D$370,"")} | AA16: =IF(H16>H$17,1,0) -> 0 | AB16: =IF(J16>J$17,1,0) -> 0 | AC16: =IF(L16>L$17,1,0) -> 0 | AD16: =IF(N16>N$17,1,0) -> 0 | AE16: =IF(P16>P$17,1,0) -> 0 | AF16: =IF(R16>R$17,1,0) -> 0 | AG16: =IF(T16>T$17,1,0) -> 0 | AH16: =IF(V16>V$17,1,0) -> 0 | AJ16: =SUM(AA16:AI16)/COUNT(AA16:AI16) -> 0
A17: Average | F17: {=_xlfn.XLOOKUP(1,(ANOVA!$L$2:$L$160=F$4)*(ANOVA!$Q$2:$Q$401=F$5)*(ANOVA!$M$2:$M$401=F$3),ANOVA!$A$2:$A$401,"")} -> 234.6 | H17: {=_xlfn.XLOOKUP(1,(ANOVA!$L$2:$L$160=H$4)*(ANOVA!$Q$2:$Q$401=H$5)*(ANOVA!$M$2:$M$401=H$3),ANOVA!$A$2:$A$401,"")} -> 258.5 | J17: {=_xlfn.XLOOKUP(1,(ANOVA!$L$2:$L$160=J$4)*(ANOVA!$Q$2:$Q$401=J$5)*(ANOVA!$M$2:$M$401=J$3),ANOVA!$A$2:$A$401,"")} -> 252.22 | L17: {=_xlfn.XLOOKUP(1,(ANOVA!$L$2:$L$160=L$4)*(ANOVA!$Q$2:$Q$401=L$5)*(ANOVA!$M$2:$M$401=L$3),ANOVA!$A$2:$A$401,"")} -> 257.12 | N17: {=_xlfn.XLOOKUP(1,(ANOVA!$L$2:$L$160=N$4)*(ANOVA!$Q$2:$Q$401=N$5)*(ANOVA!$M$2:$M$401=N$3),ANOVA!$A$2:$A$401,"")} -> 174.89 | P17: {=_xlfn.XLOOKUP(1,(ANOVA!$L$2:$L$160=P$4)*(ANOVA!$Q$2:$Q$401=P$5)*(ANOVA!$M$2:$M$401=P$3),ANOVA!$A$2:$A$401,"")} -> 193.06 | R17: {=_xlfn.XLOOKUP(1,(ANOVA!$L$2:$L$160=R$4)*(ANOVA!$Q$2:$Q$401=R$5)*(ANOVA!$M$2:$M$401=R$3),ANOVA!$A$2:$A$401,"")} -> 259.46 | T17: {=_xlfn.XLOOKUP(1,(ANOVA!$L$2:$L$160=T$4)*(ANOVA!$Q$2:$Q$401=T$5)*(ANOVA!$M$2:$M$401=T$3),ANOVA!$A$2:$A$401,"")} -> 258.49 | V17: {=_xlfn.XLOOKUP(1,(ANOVA!$L$2:$L$160=V$4)*(ANOVA!$Q$2:$Q$401=V$5)*(ANOVA!$M$2:$M$401=V$3),ANOVA!$A$2:$A$401,"")} -> 224.06 | X17: {=_xlfn.XLOOKUP(1,(ANOVA!$L$2:$L$160=X$4)*(ANOVA!$Q$2:$Q$401=X$5)*(ANOVA!$M$2:$M$401=X$3),ANOVA!$A$2:$A$401,"")}
A18: Standard Error | F18: {=_xlfn.XLOOKUP(1,(ANOVA!$L$2:$L$160=F$4)*(ANOVA!$Q$2:$Q$401=F$5)*(ANOVA!$M$2:$M$401=F$3),ANOVA!$B$2:$B$401,"")} -> 12.9466 | H18: {=_xlfn.XLOOKUP(1,(ANOVA!$L$2:$L$160=H$4)*(ANOVA!$Q$2:$Q$401=H$5)*(ANOVA!$M$2:$M$401=H$3),ANOVA!$B$2:$B$401,"")} -> 16.5556 | J18: {=_xlfn.XLOOKUP(1,(ANOVA!$L$2:$L$160=J$4)*(ANOVA!$Q$2:$Q$401=J$5)*(ANOVA!$M$2:$M$401=J$3),ANOVA!$B$2:$B$401,"")} -> 14.0929 | L18: {=_xlfn.XLOOKUP(1,(ANOVA!$L$2:$L$160=L$4)*(ANOVA!$Q$2:$Q$401=L$5)*(ANOVA!$M$2:$M$401=L$3),ANOVA!$B$2:$B$401,"")} -> 19.4101 | N18: {=_xlfn.XLOOKUP(1,(ANOVA!$L$2:$L$160=N$4)*(ANOVA!$Q$2:$Q$401=N$5)*(ANOVA!$M$2:$M$401=N$3),ANOVA!$B$2:$B$401,"")} -> 20.855 | P18: {=_xlfn.XLOOKUP(1,(ANOVA!$L$2:$L$160=P$4)*(ANOVA!$Q$2:$Q$401=P$5)*(ANOVA!$M$2:$M$401=P$3),ANOVA!$B$2:$B$401,"")} -> 12.0216 | R18: {=_xlfn.XLOOKUP(1,(ANOVA!$L$2:$L$160=R$4)*(ANOVA!$Q$2:$Q$401=R$5)*(ANOVA!$M$2:$M$401=R$3),ANOVA!$B$2:$B$401,"")} -> 7.8447 | T18: {=_xlfn.XLOOKUP(1,(ANOVA!$L$2:$L$160=T$4)*(ANOVA!$Q$2:$Q$401=T$5)*(ANOVA!$M$2:$M$401=T$3),ANOVA!$B$2:$B$401,"")} -> 7.4609 | V18: {=_xlfn.XLOOKUP(1,(ANOVA!$L$2:$L$160=V$4)*(ANOVA!$Q$2:$Q$401=V$5)*(ANOVA!$M$2:$M$401=V$3),ANOVA!$B$2:$B$401,"")} -> 13.8277 | X18: {=_xlfn.XLOOKUP(1,(ANOVA!$L$2:$L$160=X$4)*(ANOVA!$Q$2:$Q$401=X$5)*(ANOVA!$M$2:$M$401=X$3),ANOVA!$B$2:$B$401,"")}
A19: L.S.D..05 | F19: {=_xlfn.XLOOKUP(1,(ANOVA!$L$2:$L$160=F$4)*(ANOVA!$Q$2:$Q$401=F$5)*(ANOVA!$M$2:$M$401=F$3),ANOVA!$C$2:$C$401,"")} -> N.S. | H19: {=_xlfn.XLOOKUP(1,(ANOVA!$L$2:$L$160=H$4)*(ANOVA!$Q$2:$Q$401=H$5)*(ANOVA!$M$2:$M$401=H$3),ANOVA!$C$2:$C$401,"")} -> N.S. | J19: {=_xlfn.XLOOKUP(1,(ANOVA!$L$2:$L$160=J$4)*(ANOVA!$Q$2:$Q$401=J$5)*(ANOVA!$M$2:$M$401=J$3),ANOVA!$C$2:$C$401,"")} -> N.S. | L19: {=_xlfn.XLOOKUP(1,(ANOVA!$L$2:$L$160=L$4)*(ANOVA!$Q$2:$Q$401=L$5)*(ANOVA!$M$2:$M$401=L$3),ANOVA!$C$2:$C$401,"")} -> N.S. | N19: {=_xlfn.XLOOKUP(1,(ANOVA!$L$2:$L$160=N$4)*(ANOVA!$Q$2:$Q$401=N$5)*(ANOVA!$M$2:$M$401=N$3),ANOVA!$C$2:$C$401,"")} -> 34.6 | P19: {=_xlfn.XLOOKUP(1,(ANOVA!$L$2:$L$160=P$4)*(ANOVA!$Q$2:$Q$401=P$5)*(ANOVA!$M$2:$M$401=P$3),ANOVA!$C$2:$C$401,"")} -> N.S. | R19: {=_xlfn.XLOOKUP(1,(ANOVA!$L$2:$L$160=R$4)*(ANOVA!$Q$2:$Q$401=R$5)*(ANOVA!$M$2:$M$401=R$3),ANOVA!$C$2:$C$401,"")} -> N.S. | T19: {=_xlfn.XLOOKUP(1,(ANOVA!$L$2:$L$160=T$4)*(ANOVA!$Q$2:$Q$401=T$5)*(ANOVA!$M$2:$M$401=T$3),ANOVA!$C$2:$C$401,"")} -> N.S. | V19: {=_xlfn.XLOOKUP(1,(ANOVA!$L$2:$L$160=V$4)*(ANOVA!$Q$2:$Q$401=V$5)*(ANOVA!$M$2:$M$401=V$3),ANOVA!$C$2:$C$401,"")} -> N.S. | X19: {=_xlfn.XLOOKUP(1,(ANOVA!$L$2:$L$160=X$4)*(ANOVA!$Q$2:$Q$401=X$5)*(ANOVA!$M$2:$M$401=X$3),ANOVA!$C$2:$C$401,"")}
A20: C.V. | F20: {=_xlfn.XLOOKUP(1,(ANOVA!$L$2:$L$160=F$4)*(ANOVA!$Q$2:$Q$401=F$5)*(ANOVA!$M$2:$M$401=F$3),ANOVA!$D$2:$D$401,"")} -> 9.0280301 | H20: {=_xlfn.XLOOKUP(1,(ANOVA!$L$2:$L$160=H$4)*(ANOVA!$Q$2:$Q$401=H$5)*(ANOVA!$M$2:$M$401=H$3),ANOVA!$D$2:$D$401,"")} -> 10.748594 | J20: {=_xlfn.XLOOKUP(1,(ANOVA!$L$2:$L$160=J$4)*(ANOVA!$Q$2:$Q$401=J$5)*(ANOVA!$M$2:$M$401=J$3),ANOVA!$D$2:$D$401,"")} -> 9.1040259 | L20: {=_xlfn.XLOOKUP(1,(ANOVA!$L$2:$L$160=L$4)*(ANOVA!$Q$2:$Q$401=L$5)*(ANOVA!$M$2:$M$401=L$3),ANOVA!$D$2:$D$401,"")} -> 11.589044 | N20: {=_xlfn.XLOOKUP(1,(ANOVA!$L$2:$L$160=N$4)*(ANOVA!$Q$2:$Q$401=N$5)*(ANOVA!$M$2:$M$401=N$3),ANOVA!$D$2:$D$401,"")} -> 11.601418 | P20: {=_xlfn.XLOOKUP(1,(ANOVA!$L$2:$L$160=P$4)*(ANOVA!$Q$2:$Q$401=P$5)*(ANOVA!$M$2:$M$401=P$3),ANOVA!$D$2:$D$401,"")} -> 9.3745971 | R20: {=_xlfn.XLOOKUP(1,(ANOVA!$L$2:$L$160=R$4)*(ANOVA!$Q$2:$Q$401=R$5)*(ANOVA!$M$2:$M$401=R$3),ANOVA!$D$2:$D$401,"")} -> 4.2726994 | T20: {=_xlfn.XLOOKUP(1,(ANOVA!$L$2:$L$160=T$4)*(ANOVA!$Q$2:$Q$401=T$5)*(ANOVA!$M$2:$M$401=T$3),ANOVA!$D$2:$D$401,"")} -> 4.7106547 | V20: {=_xlfn.XLOOKUP(1,(ANOVA!$L$2:$L$160=V$4)*(ANOVA!$Q$2:$Q$401=V$5)*(ANOVA!$M$2:$M$401=V$3),ANOVA!$D$2:$D$401,"")} -> 8.2470818 | X20: {=_xlfn.XLOOKUP(1,(ANOVA!$L$2:$L$160=X$4)*(ANOVA!$Q$2:$Q$401=X$5)*(ANOVA!$M$2:$M$401=X$3),ANOVA!$D$2:$D$401,"")}
F21: 8 | H21: 7 | J21: 7 | L21: 7 | N21: 7 | R21: 7 | T21: 7 | V21: 7 | X21: 7
F31: =#REF! -> #REF! | G31: ='Early Corn Avg'!#REF! -> #REF! | H31: =#REF! -> #REF! | I31: =#REF! -> #REF! | J31: =#REF! -> #REF! | K31: =#REF! -> #REF! | L31: =#REF! -> #REF! | M31: =#REF! -> #REF! | N31: =#REF! -> #REF! | O31: =#REF! -> #REF! | ... Y31: =#REF! -> #REF!

Sheet Med Corn Avg
A1: Table 8. Mean yield and agronomic traits of 10 medium-season (114-116 DAP) corn hybrids evaluated in small plot replicated trials at eight AgResearch and Education Center locations in Tennessee during 2026.
A2: Hybrid† | B2: Herbicide Pkg‡ | C2: Insect Pkg.‡ | E2: Avg. Yield§ (bu/ac) | G2: Moisture at Harvest (%) | I2: Test Weight (lbs/bu) | K2: Plant Height (in.) | M2: Ear Height (in.) | O2: Lodging¶ (%) | P2: Protein‖ (%) | R2: Oil‖ (%) | T2: Starch‖ (%)
E3: YLD_1 | G3: MST_1 | I3: TW_1 | K3: PHGT_1 | M3: EHGT_1 | O3: Lodg_1 | P3: Prot_1 | R3: Oil_1 | T3: Star_1
E4: A | G4: A | I4: A | K4: A | M4: A | O4: A | P4: A | R4: A | T4: A
E5: Med | G5: Med | I5: Med | K5: Med | M5: Med | O5: Med | P5: Med | R5: Med | T5: Med
A6: =VLOOKUP(D6,VL_2020,2,FALSE) -> Innvictis A1414T | B6: =VLOOKUP(D6,VL_2020,3,FALSE) -> RR | C6: =VLOOKUP(D6,VL_2020,4,FALSE) -> TRE | D6: C25015 | E6: {=_xlfn.XLOOKUP(1,(LSM!$A$2:$A$370=E$4)*(LSM!$T$2:$T$370=E$5)*(LSM!$B$2:$B$370=$D6),LSM!$C$2:$C$370,"")} -> 254.59 | F6: {=_xlfn.XLOOKUP(1,(LSM!$A$2:$A$370=E$4)*(LSM!$T$2:$T$370=E$5)*(LSM!$B$2:$B$370=$D6),LSM!$D$2:$D$370,"")} -> A | G6: {=_xlfn.XLOOKUP(1,(LSM!$A$2:$A$370=G$4)*(LSM!$T$2:$T$370=G$5)*(LSM!$B$2:$B$370=$D6),LSM!$E$2:$E$370,"")} -> 15.5488 | H6: {=_xlfn.XLOOKUP(1,(LSM!$A$2:$A$370=G$4)*(LSM!$T$2:$T$370=G$5)*(LSM!$B$2:$B$370=$D6),LSM!$F$2:$F$370,"")} -> C | I6: {=_xlfn.XLOOKUP(1,(LSM!$A$2:$A$370=I$4)*(LSM!$T$2:$T$370=I$5)*(LSM!$B$2:$B$370=$D6),LSM!$L$2:$L$370,"")} -> 58.3889 | J6: {=_xlfn.XLOOKUP(1,(LSM!$A$2:$A$370=I$4)*(LSM!$T$2:$T$370=I$5)*(LSM!$B$2:$B$370=$D6),LSM!$M$2:$M$370,"")} -> DE | K6: {=_xlfn.XLOOKUP(1,(LSM!$A$2:$A$370=K$4)*(LSM!$T$2:$T$370=K$5)*(LSM!$B$2:$B$370=$D6),LSM!$G$2:$G$370,"")} -> 105.26 | L6: {=_xlfn.XLOOKUP(1,(LSM!$A$2:$A$370=K$4)*(LSM!$T$2:$T$370=K$5)*(LSM!$B$2:$B$370=$D6),LSM!$H$2:$H$370,"")} -> A | M6: {=_xlfn.XLOOKUP(1,(LSM!$A$2:$A$370=M$4)*(LSM!$T$2:$T$370=M$5)*(LSM!$B$2:$B$370=$D6),LSM!$I$2:$I$370,"")} -> 45.7778 | N6: {=_xlfn.XLOOKUP(1,(LSM!$A$2:$A$370=M$4)*(LSM!$T$2:$T$370=M$5)*(LSM!$B$2:$B$370=$D6),LSM!$J$2:$J$370,"")} -> AB | O6: {=_xlfn.XLOOKUP(1,(LSM!$A$2:$A$370=O$4)*(LSM!$T$2:$T$370=O$5)*(LSM!$B$2:$B$370=$D6),LSM!$K$2:$K$370,"")} -> 0.18190868 | P6: {=_xlfn.XLOOKUP(1,(LSM!$A$2:$A$370=P$4)*(LSM!$T$2:$T$370=P$5)*(LSM!$B$2:$B$370=$D6),LSM!$N$2:$N$370,"")} -> 10.7692 | Q6: {=_xlfn.XLOOKUP(1,(LSM!$A$2:$A$370=P$4)*(LSM!$T$2:$T$370=P$5)*(LSM!$B$2:$B$370=$D6),LSM!$O$2:$O$370,"")} -> B | R6: {=_xlfn.XLOOKUP(1,(LSM!$A$2:$A$370=R$4)*(LSM!$T$2:$T$370=R$5)*(LSM!$B$2:$B$370=$D6),LSM!$P$2:$P$370,"")} -> 4.3495 | S6: {=_xlfn.XLOOKUP(1,(LSM!$A$2:$A$370=R$4)*(LSM!$T$2:$T$370=R$5)*(LSM!$B$2:$B$370=$D6),LSM!$Q$2:$Q$370,"")} -> A-D | T6: {=_xlfn.XLOOKUP(1,(LSM!$A$2:$A$370=T$4)*(LSM!$T$2:$T$370=T$5)*(LSM!$B$2:$B$370=$D6),LSM!$R$2:$R$370,"")} -> 86.079 | U6: {=_xlfn.XLOOKUP(1,(LSM!$A$2:$A$370=T$4)*(LSM!$T$2:$T$370=T$5)*(LSM!$B$2:$B$370=$D6),LSM!$S$2:$S$370,"")} -> A
A7: =VLOOKUP(D7,VL_2020,2,FALSE) -> Dyna-Gro D55VC86RIB | B7: =VLOOKUP(D7,VL_2020,3,FALSE) -> RR | C7: =VLOOKUP(D7,VL_2020,4,FALSE) -> 0 | D7: C26006 | E7: {=_xlfn.XLOOKUP(1,(LSM!$A$2:$A$370=E$4)*(LSM!$T$2:$T$370=E$5)*(LSM!$B$2:$B$370=$D7),LSM!$C$2:$C$370,"")} -> 245.45 | F7: {=_xlfn.XLOOKUP(1,(LSM!$A$2:$A$370=E$4)*(LSM!$T$2:$T$370=E$5)*(LSM!$B$2:$B$370=$D7),LSM!$D$2:$D$370,"")} -> AB | G7: {=_xlfn.XLOOKUP(1,(LSM!$A$2:$A$370=G$4)*(LSM!$T$2:$T$370=G$5)*(LSM!$B$2:$B$370=$D7),LSM!$E$2:$E$370,"")} -> 15.6467 | H7: {=_xlfn.XLOOKUP(1,(LSM!$A$2:$A$370=G$4)*(LSM!$T$2:$T$370=G$5)*(LSM!$B$2:$B$370=$D7),LSM!$F$2:$F$370,"")} -> C | I7: {=_xlfn.XLOOKUP(1,(LSM!$A$2:$A$370=I$4)*(LSM!$T$2:$T$370=I$5)*(LSM!$B$2:$B$370=$D7),LSM!$L$2:$L$370,"")} -> 58.4278 | J7: {=_xlfn.XLOOKUP(1,(LSM!$A$2:$A$370=I$4)*(LSM!$T$2:$T$370=I$5)*(LSM!$B$2:$B$370=$D7),LSM!$M$2:$M$370,"")} -> DE | K7: {=_xlfn.XLOOKUP(1,(LSM!$A$2:$A$370=K$4)*(LSM!$T$2:$T$370=K$5)*(LSM!$B$2:$B$370=$D7),LSM!$G$2:$G$370,"")} -> 103.17 | L7: {=_xlfn.XLOOKUP(1,(LSM!$A$2:$A$370=K$4)*(LSM!$T$2:$T$370=K$5)*(LSM!$B$2:$B$370=$D7),LSM!$H$2:$H$370,"")} -> A | M7: {=_xlfn.XLOOKUP(1,(LSM!$A$2:$A$370=M$4)*(LSM!$T$2:$T$370=M$5)*(LSM!$B$2:$B$370=$D7),LSM!$I$2:$I$370,"")} -> 43.3704 | N7: {=_xlfn.XLOOKUP(1,(LSM!$A$2:$A$370=M$4)*(LSM!$T$2:$T$370=M$5)*(LSM!$B$2:$B$370=$D7),LSM!$J$2:$J$370,"")} -> B-D | O7: {=_xlfn.XLOOKUP(1,(LSM!$A$2:$A$370=O$4)*(LSM!$T$2:$T$370=O$5)*(LSM!$B$2:$B$370=$D7),LSM!$K$2:$K$370,"")} -> 0.32760819 | P7: {=_xlfn.XLOOKUP(1,(LSM!$A$2:$A$370=P$4)*(LSM!$T$2:$T$370=P$5)*(LSM!$B$2:$B$370=$D7),LSM!$N$2:$N$370,"")} -> 10.7495 | Q7: {=_xlfn.XLOOKUP(1,(LSM!$A$2:$A$370=P$4)*(LSM!$T$2:$T$370=P$5)*(LSM!$B$2:$B$370=$D7),LSM!$O$2:$O$370,"")} -> B | R7: {=_xlfn.XLOOKUP(1,(LSM!$A$2:$A$370=R$4)*(LSM!$T$2:$T$370=R$5)*(LSM!$B$2:$B$370=$D7),LSM!$P$2:$P$370,"")} -> 4.5624 | S7: {=_xlfn.XLOOKUP(1,(LSM!$A$2:$A$370=R$4)*(LSM!$T$2:$T$370=R$5)*(LSM!$B$2:$B$370=$D7),LSM!$Q$2:$Q$370,"")} -> A | T7: {=_xlfn.XLOOKUP(1,(LSM!$A$2:$A$370=T$4)*(LSM!$T$2:$T$370=T$5)*(LSM!$B$2:$B$370=$D7),LSM!$R$2:$R$370,"")} -> 85.9489 | U7: {=_xlfn.XLOOKUP(1,(LSM!$A$2:$A$370=T$4)*(LSM!$T$2:$T$370=T$5)*(LSM!$B$2:$B$370=$D7),LSM!$S$2:$S$370,"")} -> A
A8: =VLOOKUP(D8,VL_2020,2,FALSE) -> Pioneer P16647PWE | B8: =VLOOKUP(D8,VL_2020,3,FALSE) -> RR, LL, ENL, FOP | C8: =VLOOKUP(D8,VL_2020,4,FALSE) -> VT2P, HX1 | D8: C26020 | E8: {=_xlfn.XLOOKUP(1,(LSM!$A$2:$A$370=E$4)*(LSM!$T$2:$T$370=E$5)*(LSM!$B$2:$B$370=$D8),LSM!$C$2:$C$370,"")} -> 245.1 | F8: {=_xlfn.XLOOKUP(1,(LSM!$A$2:$A$370=E$4)*(LSM!$T$2:$T$370=E$5)*(LSM!$B$2:$B$370=$D8),LSM!$D$2:$D$370,"")} -> AB | G8: {=_xlfn.XLOOKUP(1,(LSM!$A$2:$A$370=G$4)*(LSM!$T$2:$T$370=G$5)*(LSM!$B$2:$B$370=$D8),LSM!$E$2:$E$370,"")} -> 15.7633 | H8: {=_xlfn.XLOOKUP(1,(LSM!$A$2:$A$370=G$4)*(LSM!$T$2:$T$370=G$5)*(LSM!$B$2:$B$370=$D8),LSM!$F$2:$F$370,"")} -> C | I8: {=_xlfn.XLOOKUP(1,(LSM!$A$2:$A$370=I$4)*(LSM!$T$2:$T$370=I$5)*(LSM!$B$2:$B$370=$D8),LSM!$L$2:$L$370,"")} -> 60.6056 | J8: {=_xlfn.XLOOKUP(1,(LSM!$A$2:$A$370=I$4)*(LSM!$T$2:$T$370=I$5)*(LSM!$B$2:$B$370=$D8),LSM!$M$2:$M$370,"")} -> A | K8: {=_xlfn.XLOOKUP(1,(LSM!$A$2:$A$370=K$4)*(LSM!$T$2:$T$370=K$5)*(LSM!$B$2:$B$370=$D8),LSM!$G$2:$G$370,"")} -> 108.26 | L8: {=_xlfn.XLOOKUP(1,(LSM!$A$2:$A$370=K$4)*(LSM!$T$2:$T$370=K$5)*(LSM!$B$2:$B$370=$D8),LSM!$H$2:$H$370,"")} -> A | M8: {=_xlfn.XLOOKUP(1,(LSM!$A$2:$A$370=M$4)*(LSM!$T$2:$T$370=M$5)*(LSM!$B$2:$B$370=$D8),LSM!$I$2:$I$370,"")} -> 46.7963 | N8: {=_xlfn.XLOOKUP(1,(LSM!$A$2:$A$370=M$4)*(LSM!$T$2:$T$370=M$5)*(LSM!$B$2:$B$370=$D8),LSM!$J$2:$J$370,"")} -> A | O8: {=_xlfn.XLOOKUP(1,(LSM!$A$2:$A$370=O$4)*(LSM!$T$2:$T$370=O$5)*(LSM!$B$2:$B$370=$D8),LSM!$K$2:$K$370,"")} -> 0.20478774 | P8: {=_xlfn.XLOOKUP(1,(LSM!$A$2:$A$370=P$4)*(LSM!$T$2:$T$370=P$5)*(LSM!$B$2:$B$370=$D8),LSM!$N$2:$N$370,"")} -> 11.1202 | Q8: {=_xlfn.XLOOKUP(1,(LSM!$A$2:$A$370=P$4)*(LSM!$T$2:$T$370=P$5)*(LSM!$B$2:$B$370=$D8),LSM!$O$2:$O$370,"")} -> B | R8: {=_xlfn.XLOOKUP(1,(LSM!$A$2:$A$370=R$4)*(LSM!$T$2:$T$370=R$5)*(LSM!$B$2:$B$370=$D8),LSM!$P$2:$P$370,"")} -> 4.1957 | S8: {=_xlfn.XLOOKUP(1,(LSM!$A$2:$A$370=R$4)*(LSM!$T$2:$T$370=R$5)*(LSM!$B$2:$B$370=$D8),LSM!$Q$2:$Q$370,"")} -> CD | T8: {=_xlfn.XLOOKUP(1,(LSM!$A$2:$A$370=T$4)*(LSM!$T$2:$T$370=T$5)*(LSM!$B$2:$B$370=$D8),LSM!$R$2:$R$370,"")} -> 86.1737 | U8: {=_xlfn.XLOOKUP(1,(LSM!$A$2:$A$370=T$4)*(LSM!$T$2:$T$370=T$5)*(LSM!$B$2:$B$370=$D8),LSM!$S$2:$S$370,"")} -> A
A9: =VLOOKUP(D9,VL_2020,2,FALSE) -> Pioneer P15395PWE | B9: =VLOOKUP(D9,VL_2020,3,FALSE) -> RR, LL, ENL, FOP | C9: =VLOOKUP(D9,VL_2020,4,FALSE) -> VT2P, HX1 | D9: C26019 | E9: {=_xlfn.XLOOKUP(1,(LSM!$A$2:$A$370=E$4)*(LSM!$T$2:$T$370=E$5)*(LSM!$B$2:$B$370=$D9),LSM!$C$2:$C$370,"")} -> 244.49 | F9: {=_xlfn.XLOOKUP(1,(LSM!$A$2:$A$370=E$4)*(LSM!$T$2:$T$370=E$5)*(LSM!$B$2:$B$370=$D9),LSM!$D$2:$D$370,"")} -> AB | G9: {=_xlfn.XLOOKUP(1,(LSM!$A$2:$A$370=G$4)*(LSM!$T$2:$T$370=G$5)*(LSM!$B$2:$B$370=$D9),LSM!$E$2:$E$370,"")} -> 14.8225 | H9: {=_xlfn.XLOOKUP(1,(LSM!$A$2:$A$370=G$4)*(LSM!$T$2:$T$370=G$5)*(LSM!$B$2:$B$370=$D9),LSM!$F$2:$F$370,"")} -> D | I9: {=_xlfn.XLOOKUP(1,(LSM!$A$2:$A$370=I$4)*(LSM!$T$2:$T$370=I$5)*(LSM!$B$2:$B$370=$D9),LSM!$L$2:$L$370,"")} -> 59.0389 | J9: {=_xlfn.XLOOKUP(1,(LSM!$A$2:$A$370=I$4)*(LSM!$T$2:$T$370=I$5)*(LSM!$B$2:$B$370=$D9),LSM!$M$2:$M$370,"")} -> CD | K9: {=_xlfn.XLOOKUP(1,(LSM!$A$2:$A$370=K$4)*(LSM!$T$2:$T$370=K$5)*(LSM!$B$2:$B$370=$D9),LSM!$G$2:$G$370,"")} -> 102.94 | L9: {=_xlfn.XLOOKUP(1,(LSM!$A$2:$A$370=K$4)*(LSM!$T$2:$T$370=K$5)*(LSM!$B$2:$B$370=$D9),LSM!$H$2:$H$370,"")} -> A | M9: {=_xlfn.XLOOKUP(1,(LSM!$A$2:$A$370=M$4)*(LSM!$T$2:$T$370=M$5)*(LSM!$B$2:$B$370=$D9),LSM!$I$2:$I$370,"")} -> 44.1852 | N9: {=_xlfn.XLOOKUP(1,(LSM!$A$2:$A$370=M$4)*(LSM!$T$2:$T$370=M$5)*(LSM!$B$2:$B$370=$D9),LSM!$J$2:$J$370,"")} -> A-C | O9: {=_xlfn.XLOOKUP(1,(LSM!$A$2:$A$370=O$4)*(LSM!$T$2:$T$370=O$5)*(LSM!$B$2:$B$370=$D9),LSM!$K$2:$K$370,"")} -> 0.20662568 | P9: {=_xlfn.XLOOKUP(1,(LSM!$A$2:$A$370=P$4)*(LSM!$T$2:$T$370=P$5)*(LSM!$B$2:$B$370=$D9),LSM!$N$2:$N$370,"")} -> 10.7535 | Q9: {=_xlfn.XLOOKUP(1,(LSM!$A$2:$A$370=P$4)*(LSM!$T$2:$T$370=P$5)*(LSM!$B$2:$B$370=$D9),LSM!$O$2:$O$370,"")} -> B | R9: {=_xlfn.XLOOKUP(1,(LSM!$A$2:$A$370=R$4)*(LSM!$T$2:$T$370=R$5)*(LSM!$B$2:$B$370=$D9),LSM!$P$2:$P$370,"")} -> 4.2864 | S9: {=_xlfn.XLOOKUP(1,(LSM!$A$2:$A$370=R$4)*(LSM!$T$2:$T$370=R$5)*(LSM!$B$2:$B$370=$D9),LSM!$Q$2:$Q$370,"")} -> B-D | T9: {=_xlfn.XLOOKUP(1,(LSM!$A$2:$A$370=T$4)*(LSM!$T$2:$T$370=T$5)*(LSM!$B$2:$B$370=$D9),LSM!$R$2:$R$370,"")} -> 86.6666 | U9: {=_xlfn.XLOOKUP(1,(LSM!$A$2:$A$370=T$4)*(LSM!$T$2:$T$370=T$5)*(LSM!$B$2:$B$370=$D9),LSM!$S$2:$S$370,"")} -> A
A10: =VLOOKUP(D10,VL_2020,2,FALSE) -> Dekalb DKC 115-55 | B10: =VLOOKUP(D10,VL_2020,3,FALSE) -> RR | C10: =VLOOKUP(D10,VL_2020,4,FALSE) -> TRE | D10: C26002 | E10: {=_xlfn.XLOOKUP(1,(LSM!$A$2:$A$370=E$4)*(LSM!$T$2:$T$370=E$5)*(LSM!$B$2:$B$370=$D10),LSM!$C$2:$C$370,"")} -> 241.83 | F10: {=_xlfn.XLOOKUP(1,(LSM!$A$2:$A$370=E$4)*(LSM!$T$2:$T$370=E$5)*(LSM!$B$2:$B$370=$D10),LSM!$D$2:$D$370,"")} -> AB | G10: {=_xlfn.XLOOKUP(1,(LSM!$A$2:$A$370=G$4)*(LSM!$T$2:$T$370=G$5)*(LSM!$B$2:$B$370=$D10),LSM!$E$2:$E$370,"")} -> 16.1971 | H10: {=_xlfn.XLOOKUP(1,(LSM!$A$2:$A$370=G$4)*(LSM!$T$2:$T$370=G$5)*(LSM!$B$2:$B$370=$D10),LSM!$F$2:$F$370,"")} -> BC | I10: {=_xlfn.XLOOKUP(1,(LSM!$A$2:$A$370=I$4)*(LSM!$T$2:$T$370=I$5)*(LSM!$B$2:$B$370=$D10),LSM!$L$2:$L$370,"")} -> 59.473 | J10: {=_xlfn.XLOOKUP(1,(LSM!$A$2:$A$370=I$4)*(LSM!$T$2:$T$370=I$5)*(LSM!$B$2:$B$370=$D10),LSM!$M$2:$M$370,"")} -> BC | K10: {=_xlfn.XLOOKUP(1,(LSM!$A$2:$A$370=K$4)*(LSM!$T$2:$T$370=K$5)*(LSM!$B$2:$B$370=$D10),LSM!$G$2:$G$370,"")} -> 101.19 | L10: {=_xlfn.XLOOKUP(1,(LSM!$A$2:$A$370=K$4)*(LSM!$T$2:$T$370=K$5)*(LSM!$B$2:$B$370=$D10),LSM!$H$2:$H$370,"")} -> A | M10: {=_xlfn.XLOOKUP(1,(LSM!$A$2:$A$370=M$4)*(LSM!$T$2:$T$370=M$5)*(LSM!$B$2:$B$370=$D10),LSM!$I$2:$I$370,"")} -> 42.3519 | N10: {=_xlfn.XLOOKUP(1,(LSM!$A$2:$A$370=M$4)*(LSM!$T$2:$T$370=M$5)*(LSM!$B$2:$B$370=$D10),LSM!$J$2:$J$370,"")} -> CD | O10: {=_xlfn.XLOOKUP(1,(LSM!$A$2:$A$370=O$4)*(LSM!$T$2:$T$370=O$5)*(LSM!$B$2:$B$370=$D10),LSM!$K$2:$K$370,"")} -> 0.28423773 | P10: {=_xlfn.XLOOKUP(1,(LSM!$A$2:$A$370=P$4)*(LSM!$T$2:$T$370=P$5)*(LSM!$B$2:$B$370=$D10),LSM!$N$2:$N$370,"")} -> 11.7511 | Q10: {=_xlfn.XLOOKUP(1,(LSM!$A$2:$A$370=P$4)*(LSM!$T$2:$T$370=P$5)*(LSM!$B$2:$B$370=$D10),LSM!$O$2:$O$370,"")} -> A | R10: {=_xlfn.XLOOKUP(1,(LSM!$A$2:$A$370=R$4)*(LSM!$T$2:$T$370=R$5)*(LSM!$B$2:$B$370=$D10),LSM!$P$2:$P$370,"")} -> 4.4441 | S10: {=_xlfn.XLOOKUP(1,(LSM!$A$2:$A$370=R$4)*(LSM!$T$2:$T$370=R$5)*(LSM!$B$2:$B$370=$D10),LSM!$Q$2:$Q$370,"")} -> AB | T10: {=_xlfn.XLOOKUP(1,(LSM!$A$2:$A$370=T$4)*(LSM!$T$2:$T$370=T$5)*(LSM!$B$2:$B$370=$D10),LSM!$R$2:$R$370,"")} -> 85.4165 | U10: {=_xlfn.XLOOKUP(1,(LSM!$A$2:$A$370=T$4)*(LSM!$T$2:$T$370=T$5)*(LSM!$B$2:$B$370=$D10),LSM!$S$2:$S$370,"")} -> A
A11: =VLOOKUP(D11,VL_2020,2,FALSE) -> Dyna-Gro D54TC77 | B11: =VLOOKUP(D11,VL_2020,3,FALSE) -> RR | C11: =VLOOKUP(D11,VL_2020,4,FALSE) -> 0 | D11: C26005 | E11: {=_xlfn.XLOOKUP(1,(LSM!$A$2:$A$370=E$4)*(LSM!$T$2:$T$370=E$5)*(LSM!$B$2:$B$370=$D11),LSM!$C$2:$C$370,"")} -> 237.37 | F11: {=_xlfn.XLOOKUP(1,(LSM!$A$2:$A$370=E$4)*(LSM!$T$2:$T$370=E$5)*(LSM!$B$2:$B$370=$D11),LSM!$D$2:$D$370,"")} -> BC | G11: {=_xlfn.XLOOKUP(1,(LSM!$A$2:$A$370=G$4)*(LSM!$T$2:$T$370=G$5)*(LSM!$B$2:$B$370=$D11),LSM!$E$2:$E$370,"")} -> 15.6233 | H11: {=_xlfn.XLOOKUP(1,(LSM!$A$2:$A$370=G$4)*(LSM!$T$2:$T$370=G$5)*(LSM!$B$2:$B$370=$D11),LSM!$F$2:$F$370,"")} -> C | I11: {=_xlfn.XLOOKUP(1,(LSM!$A$2:$A$370=I$4)*(LSM!$T$2:$T$370=I$5)*(LSM!$B$2:$B$370=$D11),LSM!$L$2:$L$370,"")} -> 59.8389 | J11: {=_xlfn.XLOOKUP(1,(LSM!$A$2:$A$370=I$4)*(LSM!$T$2:$T$370=I$5)*(LSM!$B$2:$B$370=$D11),LSM!$M$2:$M$370,"")} -> B | K11: {=_xlfn.XLOOKUP(1,(LSM!$A$2:$A$370=K$4)*(LSM!$T$2:$T$370=K$5)*(LSM!$B$2:$B$370=$D11),LSM!$G$2:$G$370,"")} -> 102.52 | L11: {=_xlfn.XLOOKUP(1,(LSM!$A$2:$A$370=K$4)*(LSM!$T$2:$T$370=K$5)*(LSM!$B$2:$B$370=$D11),LSM!$H$2:$H$370,"")} -> A | M11: {=_xlfn.XLOOKUP(1,(LSM!$A$2:$A$370=M$4)*(LSM!$T$2:$T$370=M$5)*(LSM!$B$2:$B$370=$D11),LSM!$I$2:$I$370,"")} -> 40.8148 | N11: {=_xlfn.XLOOKUP(1,(LSM!$A$2:$A$370=M$4)*(LSM!$T$2:$T$370=M$5)*(LSM!$B$2:$B$370=$D11),LSM!$J$2:$J$370,"")} -> D | O11: {=_xlfn.XLOOKUP(1,(LSM!$A$2:$A$370=O$4)*(LSM!$T$2:$T$370=O$5)*(LSM!$B$2:$B$370=$D11),LSM!$K$2:$K$370,"")} -> 0.53718588 | P11: {=_xlfn.XLOOKUP(1,(LSM!$A$2:$A$370=P$4)*(LSM!$T$2:$T$370=P$5)*(LSM!$B$2:$B$370=$D11),LSM!$N$2:$N$370,"")} -> 11.1163 | Q11: {=_xlfn.XLOOKUP(1,(LSM!$A$2:$A$370=P$4)*(LSM!$T$2:$T$370=P$5)*(LSM!$B$2:$B$370=$D11),LSM!$O$2:$O$370,"")} -> B | R11: {=_xlfn.XLOOKUP(1,(LSM!$A$2:$A$370=R$4)*(LSM!$T$2:$T$370=R$5)*(LSM!$B$2:$B$370=$D11),LSM!$P$2:$P$370,"")} -> 4.3495 | S11: {=_xlfn.XLOOKUP(1,(LSM!$A$2:$A$370=R$4)*(LSM!$T$2:$T$370=R$5)*(LSM!$B$2:$B$370=$D11),LSM!$Q$2:$Q$370,"")} -> A-D | T11: {=_xlfn.XLOOKUP(1,(LSM!$A$2:$A$370=T$4)*(LSM!$T$2:$T$370=T$5)*(LSM!$B$2:$B$370=$D11),LSM!$R$2:$R$370,"")} -> 85.4284 | U11: {=_xlfn.XLOOKUP(1,(LSM!$A$2:$A$370=T$4)*(LSM!$T$2:$T$370=T$5)*(LSM!$B$2:$B$370=$D11),LSM!$S$2:$S$370,"")} -> A
A12: =VLOOKUP(D12,VL_2020,2,FALSE) -> Gateway 4914TRE | B12: =VLOOKUP(D12,VL_2020,3,FALSE) -> RR | C12: =VLOOKUP(D12,VL_2020,4,FALSE) -> TRE | D12: C26013 | E12: {=_xlfn.XLOOKUP(1,(LSM!$A$2:$A$370=E$4)*(LSM!$T$2:$T$370=E$5)*(LSM!$B$2:$B$370=$D12),LSM!$C$2:$C$370,"")} -> 235.57 | F12: {=_xlfn.XLOOKUP(1,(LSM!$A$2:$A$370=E$4)*(LSM!$T$2:$T$370=E$5)*(LSM!$B$2:$B$370=$D12),LSM!$D$2:$D$370,"")} -> BC | G12: {=_xlfn.XLOOKUP(1,(LSM!$A$2:$A$370=G$4)*(LSM!$T$2:$T$370=G$5)*(LSM!$B$2:$B$370=$D12),LSM!$E$2:$E$370,"")} -> 15.5471 | H12: {=_xlfn.XLOOKUP(1,(LSM!$A$2:$A$370=G$4)*(LSM!$T$2:$T$370=G$5)*(LSM!$B$2:$B$370=$D12),LSM!$F$2:$F$370,"")} -> C | I12: {=_xlfn.XLOOKUP(1,(LSM!$A$2:$A$370=I$4)*(LSM!$T$2:$T$370=I$5)*(LSM!$B$2:$B$370=$D12),LSM!$L$2:$L$370,"")} -> 58.3111 | J12: {=_xlfn.XLOOKUP(1,(LSM!$A$2:$A$370=I$4)*(LSM!$T$2:$T$370=I$5)*(LSM!$B$2:$B$370=$D12),LSM!$M$2:$M$370,"")} -> E | K12: {=_xlfn.XLOOKUP(1,(LSM!$A$2:$A$370=K$4)*(LSM!$T$2:$T$370=K$5)*(LSM!$B$2:$B$370=$D12),LSM!$G$2:$G$370,"")} -> 105.56 | L12: {=_xlfn.XLOOKUP(1,(LSM!$A$2:$A$370=K$4)*(LSM!$T$2:$T$370=K$5)*(LSM!$B$2:$B$370=$D12),LSM!$H$2:$H$370,"")} -> A | M12: {=_xlfn.XLOOKUP(1,(LSM!$A$2:$A$370=M$4)*(LSM!$T$2:$T$370=M$5)*(LSM!$B$2:$B$370=$D12),LSM!$I$2:$I$370,"")} -> 42.6667 | N12: {=_xlfn.XLOOKUP(1,(LSM!$A$2:$A$370=M$4)*(LSM!$T$2:$T$370=M$5)*(LSM!$B$2:$B$370=$D12),LSM!$J$2:$J$370,"")} -> CD | O12: {=_xlfn.XLOOKUP(1,(LSM!$A$2:$A$370=O$4)*(LSM!$T$2:$T$370=O$5)*(LSM!$B$2:$B$370=$D12),LSM!$K$2:$K$370,"")} -> 0.19455691 | P12: {=_xlfn.XLOOKUP(1,(LSM!$A$2:$A$370=P$4)*(LSM!$T$2:$T$370=P$5)*(LSM!$B$2:$B$370=$D12),LSM!$N$2:$N$370,"")} -> 10.923 | Q12: {=_xlfn.XLOOKUP(1,(LSM!$A$2:$A$370=P$4)*(LSM!$T$2:$T$370=P$5)*(LSM!$B$2:$B$370=$D12),LSM!$O$2:$O$370,"")} -> B | R12: {=_xlfn.XLOOKUP(1,(LSM!$A$2:$A$370=R$4)*(LSM!$T$2:$T$370=R$5)*(LSM!$B$2:$B$370=$D12),LSM!$P$2:$P$370,"")} -> 4.3968 | S12: {=_xlfn.XLOOKUP(1,(LSM!$A$2:$A$370=R$4)*(LSM!$T$2:$T$370=R$5)*(LSM!$B$2:$B$370=$D12),LSM!$Q$2:$Q$370,"")} -> A-C | T12: {=_xlfn.XLOOKUP(1,(LSM!$A$2:$A$370=T$4)*(LSM!$T$2:$T$370=T$5)*(LSM!$B$2:$B$370=$D12),LSM!$R$2:$R$370,"")} -> 85.527 | U12: {=_xlfn.XLOOKUP(1,(LSM!$A$2:$A$370=T$4)*(LSM!$T$2:$T$370=T$5)*(LSM!$B$2:$B$370=$D12),LSM!$S$2:$S$370,"")} -> A
A13: =VLOOKUP(D13,VL_2020,2,FALSE) -> Revere 116-P44 | B13: =VLOOKUP(D13,VL_2020,3,FALSE) -> RR | C13: =VLOOKUP(D13,VL_2020,4,FALSE) -> VT2P | D13: C26023 | E13: {=_xlfn.XLOOKUP(1,(LSM!$A$2:$A$370=E$4)*(LSM!$T$2:$T$370=E$5)*(LSM!$B$2:$B$370=$D13),LSM!$C$2:$C$370,"")} -> 227.43 | F13: {=_xlfn.XLOOKUP(1,(LSM!$A$2:$A$370=E$4)*(LSM!$T$2:$T$370=E$5)*(LSM!$B$2:$B$370=$D13),LSM!$D$2:$D$370,"")} -> C | G13: {=_xlfn.XLOOKUP(1,(LSM!$A$2:$A$370=G$4)*(LSM!$T$2:$T$370=G$5)*(LSM!$B$2:$B$370=$D13),LSM!$E$2:$E$370,"")} -> 17.9683 | H13: {=_xlfn.XLOOKUP(1,(LSM!$A$2:$A$370=G$4)*(LSM!$T$2:$T$370=G$5)*(LSM!$B$2:$B$370=$D13),LSM!$F$2:$F$370,"")} -> A | I13: {=_xlfn.XLOOKUP(1,(LSM!$A$2:$A$370=I$4)*(LSM!$T$2:$T$370=I$5)*(LSM!$B$2:$B$370=$D13),LSM!$L$2:$L$370,"")} -> 59.2778 | J13: {=_xlfn.XLOOKUP(1,(LSM!$A$2:$A$370=I$4)*(LSM!$T$2:$T$370=I$5)*(LSM!$B$2:$B$370=$D13),LSM!$M$2:$M$370,"")} -> BC | K13: {=_xlfn.XLOOKUP(1,(LSM!$A$2:$A$370=K$4)*(LSM!$T$2:$T$370=K$5)*(LSM!$B$2:$B$370=$D13),LSM!$G$2:$G$370,"")} -> 104.17 | L13: {=_xlfn.XLOOKUP(1,(LSM!$A$2:$A$370=K$4)*(LSM!$T$2:$T$370=K$5)*(LSM!$B$2:$B$370=$D13),LSM!$H$2:$H$370,"")} -> A | M13: {=_xlfn.XLOOKUP(1,(LSM!$A$2:$A$370=M$4)*(LSM!$T$2:$T$370=M$5)*(LSM!$B$2:$B$370=$D13),LSM!$I$2:$I$370,"")} -> 44.0185 | N13: {=_xlfn.XLOOKUP(1,(LSM!$A$2:$A$370=M$4)*(LSM!$T$2:$T$370=M$5)*(LSM!$B$2:$B$370=$D13),LSM!$J$2:$J$370,"")} -> BC | O13: {=_xlfn.XLOOKUP(1,(LSM!$A$2:$A$370=O$4)*(LSM!$T$2:$T$370=O$5)*(LSM!$B$2:$B$370=$D13),LSM!$K$2:$K$370,"")} -> 0.43715889 | P13: {=_xlfn.XLOOKUP(1,(LSM!$A$2:$A$370=P$4)*(LSM!$T$2:$T$370=P$5)*(LSM!$B$2:$B$370=$D13),LSM!$N$2:$N$370,"")} -> 10.5642 | Q13: {=_xlfn.XLOOKUP(1,(LSM!$A$2:$A$370=P$4)*(LSM!$T$2:$T$370=P$5)*(LSM!$B$2:$B$370=$D13),LSM!$O$2:$O$370,"")} -> B | R13: {=_xlfn.XLOOKUP(1,(LSM!$A$2:$A$370=R$4)*(LSM!$T$2:$T$370=R$5)*(LSM!$B$2:$B$370=$D13),LSM!$P$2:$P$370,"")} -> 4.3889 | S13: {=_xlfn.XLOOKUP(1,(LSM!$A$2:$A$370=R$4)*(LSM!$T$2:$T$370=R$5)*(LSM!$B$2:$B$370=$D13),LSM!$Q$2:$Q$370,"")} -> A-C | T13: {=_xlfn.XLOOKUP(1,(LSM!$A$2:$A$370=T$4)*(LSM!$T$2:$T$370=T$5)*(LSM!$B$2:$B$370=$D13),LSM!$R$2:$R$370,"")} -> 86.7494 | U13: {=_xlfn.XLOOKUP(1,(LSM!$A$2:$A$370=T$4)*(LSM!$T$2:$T$370=T$5)*(LSM!$B$2:$B$370=$D13),LSM!$S$2:$S$370,"")} -> A
A14: =VLOOKUP(D14,VL_2020,2,FALSE) -> Dekalb DKC 114-99 | B14: =VLOOKUP(D14,VL_2020,3,FALSE) -> RR | C14: =VLOOKUP(D14,VL_2020,4,FALSE) -> VT4P | D14: C25002 | E14: {=_xlfn.XLOOKUP(1,(LSM!$A$2:$A$370=E$4)*(LSM!$T$2:$T$370=E$5)*(LSM!$B$2:$B$370=$D14),LSM!$C$2:$C$370,"")} -> 226.1 | F14: {=_xlfn.XLOOKUP(1,(LSM!$A$2:$A$370=E$4)*(LSM!$T$2:$T$370=E$5)*(LSM!$B$2:$B$370=$D14),LSM!$D$2:$D$370,"")} -> C | G14: {=_xlfn.XLOOKUP(1,(LSM!$A$2:$A$370=G$4)*(LSM!$T$2:$T$370=G$5)*(LSM!$B$2:$B$370=$D14),LSM!$E$2:$E$370,"")} -> 16.4964 | H14: {=_xlfn.XLOOKUP(1,(LSM!$A$2:$A$370=G$4)*(LSM!$T$2:$T$370=G$5)*(LSM!$B$2:$B$370=$D14),LSM!$F$2:$F$370,"")} -> B | I14: {=_xlfn.XLOOKUP(1,(LSM!$A$2:$A$370=I$4)*(LSM!$T$2:$T$370=I$5)*(LSM!$B$2:$B$370=$D14),LSM!$L$2:$L$370,"")} -> 59.2818 | J14: {=_xlfn.XLOOKUP(1,(LSM!$A$2:$A$370=I$4)*(LSM!$T$2:$T$370=I$5)*(LSM!$B$2:$B$370=$D14),LSM!$M$2:$M$370,"")} -> BC | K14: {=_xlfn.XLOOKUP(1,(LSM!$A$2:$A$370=K$4)*(LSM!$T$2:$T$370=K$5)*(LSM!$B$2:$B$370=$D14),LSM!$G$2:$G$370,"")} -> 103.5 | L14: {=_xlfn.XLOOKUP(1,(LSM!$A$2:$A$370=K$4)*(LSM!$T$2:$T$370=K$5)*(LSM!$B$2:$B$370=$D14),LSM!$H$2:$H$370,"")} -> A | M14: {=_xlfn.XLOOKUP(1,(LSM!$A$2:$A$370=M$4)*(LSM!$T$2:$T$370=M$5)*(LSM!$B$2:$B$370=$D14),LSM!$I$2:$I$370,"")} -> 44.4444 | N14: {=_xlfn.XLOOKUP(1,(LSM!$A$2:$A$370=M$4)*(LSM!$T$2:$T$370=M$5)*(LSM!$B$2:$B$370=$D14),LSM!$J$2:$J$370,"")} -> A-C | O14: {=_xlfn.XLOOKUP(1,(LSM!$A$2:$A$370=O$4)*(LSM!$T$2:$T$370=O$5)*(LSM!$B$2:$B$370=$D14),LSM!$K$2:$K$370,"")} -> 0.36413618 | P14: {=_xlfn.XLOOKUP(1,(LSM!$A$2:$A$370=P$4)*(LSM!$T$2:$T$370=P$5)*(LSM!$B$2:$B$370=$D14),LSM!$N$2:$N$370,"")} -> 11.1675 | Q14: {=_xlfn.XLOOKUP(1,(LSM!$A$2:$A$370=P$4)*(LSM!$T$2:$T$370=P$5)*(LSM!$B$2:$B$370=$D14),LSM!$O$2:$O$370,"")} -> AB | R14: {=_xlfn.XLOOKUP(1,(LSM!$A$2:$A$370=R$4)*(LSM!$T$2:$T$370=R$5)*(LSM!$B$2:$B$370=$D14),LSM!$P$2:$P$370,"")} -> 4.1326 | S14: {=_xlfn.XLOOKUP(1,(LSM!$A$2:$A$370=R$4)*(LSM!$T$2:$T$370=R$5)*(LSM!$B$2:$B$370=$D14),LSM!$Q$2:$Q$370,"")} -> D | T14: {=_xlfn.XLOOKUP(1,(LSM!$A$2:$A$370=T$4)*(LSM!$T$2:$T$370=T$5)*(LSM!$B$2:$B$370=$D14),LSM!$R$2:$R$370,"")} -> 86.1342 | U14: {=_xlfn.XLOOKUP(1,(LSM!$A$2:$A$370=T$4)*(LSM!$T$2:$T$370=T$5)*(LSM!$B$2:$B$370=$D14),LSM!$S$2:$S$370,"")} -> A
A15: =VLOOKUP(D15,VL_2020,2,FALSE) -> Dekalb DKC 114-99 | B15: =VLOOKUP(D15,VL_2020,3,FALSE) -> RR | C15: =VLOOKUP(D15,VL_2020,4,FALSE) -> VT4P | D15: C25002 | E15: {=_xlfn.XLOOKUP(1,(LSM!$A$2:$A$370=E$4)*(LSM!$T$2:$T$370=E$5)*(LSM!$B$2:$B$370=$D15),LSM!$C$2:$C$370,"")} -> 226.1 | F15: {=_xlfn.XLOOKUP(1,(LSM!$A$2:$A$370=E$4)*(LSM!$T$2:$T$370=E$5)*(LSM!$B$2:$B$370=$D15),LSM!$D$2:$D$370,"")} -> C | G15: {=_xlfn.XLOOKUP(1,(LSM!$A$2:$A$370=G$4)*(LSM!$T$2:$T$370=G$5)*(LSM!$B$2:$B$370=$D15),LSM!$E$2:$E$370,"")} -> 16.4964 | H15: {=_xlfn.XLOOKUP(1,(LSM!$A$2:$A$370=G$4)*(LSM!$T$2:$T$370=G$5)*(LSM!$B$2:$B$370=$D15),LSM!$F$2:$F$370,"")} -> B | I15: {=_xlfn.XLOOKUP(1,(LSM!$A$2:$A$370=I$4)*(LSM!$T$2:$T$370=I$5)*(LSM!$B$2:$B$370=$D15),LSM!$L$2:$L$370,"")} -> 59.2818 | J15: {=_xlfn.XLOOKUP(1,(LSM!$A$2:$A$370=I$4)*(LSM!$T$2:$T$370=I$5)*(LSM!$B$2:$B$370=$D15),LSM!$M$2:$M$370,"")} -> BC | K15: {=_xlfn.XLOOKUP(1,(LSM!$A$2:$A$370=K$4)*(LSM!$T$2:$T$370=K$5)*(LSM!$B$2:$B$370=$D15),LSM!$G$2:$G$370,"")} -> 103.5 | L15: {=_xlfn.XLOOKUP(1,(LSM!$A$2:$A$370=K$4)*(LSM!$T$2:$T$370=K$5)*(LSM!$B$2:$B$370=$D15),LSM!$H$2:$H$370,"")} -> A | M15: {=_xlfn.XLOOKUP(1,(LSM!$A$2:$A$370=M$4)*(LSM!$T$2:$T$370=M$5)*(LSM!$B$2:$B$370=$D15),LSM!$I$2:$I$370,"")} -> 44.4444 | N15: {=_xlfn.XLOOKUP(1,(LSM!$A$2:$A$370=M$4)*(LSM!$T$2:$T$370=M$5)*(LSM!$B$2:$B$370=$D15),LSM!$J$2:$J$370,"")} -> A-C | O15: {=_xlfn.XLOOKUP(1,(LSM!$A$2:$A$370=O$4)*(LSM!$T$2:$T$370=O$5)*(LSM!$B$2:$B$370=$D15),LSM!$K$2:$K$370,"")} -> 0.36413618 | P15: {=_xlfn.XLOOKUP(1,(LSM!$A$2:$A$370=P$4)*(LSM!$T$2:$T$370=P$5)*(LSM!$B$2:$B$370=$D15),LSM!$N$2:$N$370,"")} -> 11.1675 | Q15: {=_xlfn.XLOOKUP(1,(LSM!$A$2:$A$370=P$4)*(LSM!$T$2:$T$370=P$5)*(LSM!$B$2:$B$370=$D15),LSM!$O$2:$O$370,"")} -> AB | R15: {=_xlfn.XLOOKUP(1,(LSM!$A$2:$A$370=R$4)*(LSM!$T$2:$T$370=R$5)*(LSM!$B$2:$B$370=$D15),LSM!$P$2:$P$370,"")} -> 4.1326 | S15: {=_xlfn.XLOOKUP(1,(LSM!$A$2:$A$370=R$4)*(LSM!$T$2:$T$370=R$5)*(LSM!$B$2:$B$370=$D15),LSM!$Q$2:$Q$370,"")} -> D | T15: {=_xlfn.XLOOKUP(1,(LSM!$A$2:$A$370=T$4)*(LSM!$T$2:$T$370=T$5)*(LSM!$B$2:$B$370=$D15),LSM!$R$2:$R$370,"")} -> 86.1342 | U15: {=_xlfn.XLOOKUP(1,(LSM!$A$2:$A$370=T$4)*(LSM!$T$2:$T$370=T$5)*(LSM!$B$2:$B$370=$D15),LSM!$S$2:$S$370,"")} -> A
A16: Trial Average | E16: {=_xlfn.XLOOKUP(1,(ANOVA!$L$2:$L$160=E$4)*(ANOVA!$Q$2:$Q$401=E$5)*(ANOVA!$M$2:$M$401=E$3),ANOVA!$A$2:$A$401,"")} -> 239.77 | G16: {=_xlfn.XLOOKUP(1,(ANOVA!$L$2:$L$160=G$4)*(ANOVA!$Q$2:$Q$401=G$5)*(ANOVA!$M$2:$M$401=G$3),ANOVA!$A$2:$A$401,"")} -> 15.9571 | I16: {=_xlfn.XLOOKUP(1,(ANOVA!$L$2:$L$160=I$4)*(ANOVA!$Q$2:$Q$401=I$5)*(ANOVA!$M$2:$M$401=I$3),ANOVA!$A$2:$A$401,"")} -> 59.1826 | K16: {=_xlfn.XLOOKUP(1,(ANOVA!$L$2:$L$160=K$4)*(ANOVA!$Q$2:$Q$401=K$5)*(ANOVA!$M$2:$M$401=K$3),ANOVA!$A$2:$A$401,"")} -> 104.06 | M16: {=_xlfn.XLOOKUP(1,(ANOVA!$L$2:$L$160=M$4)*(ANOVA!$Q$2:$Q$401=M$5)*(ANOVA!$M$2:$M$401=M$3),ANOVA!$A$2:$A$401,"")} -> 43.8251 | O16: {=_xlfn.XLOOKUP(1,(ANOVA!$L$2:$L$160=O$4)*(ANOVA!$Q$2:$Q$401=O$5)*(ANOVA!$M$2:$M$401=O$3),ANOVA!$A$2:$A$401,"")} -> 0.3042 | P16: {=_xlfn.XLOOKUP(1,(ANOVA!$L$2:$L$160=P$4)*(ANOVA!$Q$2:$Q$401=P$5)*(ANOVA!$M$2:$M$401=P$3),ANOVA!$A$2:$A$401,"")} -> 10.9905 | R16: {=_xlfn.XLOOKUP(1,(ANOVA!$L$2:$L$160=R$4)*(ANOVA!$Q$2:$Q$401=R$5)*(ANOVA!$M$2:$M$401=R$3),ANOVA!$A$2:$A$401,"")} -> 4.3451 | T16: {=_xlfn.XLOOKUP(1,(ANOVA!$L$2:$L$160=T$4)*(ANOVA!$Q$2:$Q$401=T$5)*(ANOVA!$M$2:$M$401=T$3),ANOVA!$A$2:$A$401,"")} -> 86.0137
A17: Trial Standard Error | E17: {=_xlfn.XLOOKUP(1,(ANOVA!$L$2:$L$160=E$4)*(ANOVA!$Q$2:$Q$401=E$5)*(ANOVA!$M$2:$M$401=E$3),ANOVA!$B$2:$B$401,"")} -> 14.0721 | G17: {=_xlfn.XLOOKUP(1,(ANOVA!$L$2:$L$160=G$4)*(ANOVA!$Q$2:$Q$401=G$5)*(ANOVA!$M$2:$M$401=G$3),ANOVA!$B$2:$B$401,"")} -> 1.05 | I17: {=_xlfn.XLOOKUP(1,(ANOVA!$L$2:$L$160=I$4)*(ANOVA!$Q$2:$Q$401=I$5)*(ANOVA!$M$2:$M$401=I$3),ANOVA!$B$2:$B$401,"")} -> 0.3527 | K17: {=_xlfn.XLOOKUP(1,(ANOVA!$L$2:$L$160=K$4)*(ANOVA!$Q$2:$Q$401=K$5)*(ANOVA!$M$2:$M$401=K$3),ANOVA!$B$2:$B$401,"")} -> 2.8215 | M17: {=_xlfn.XLOOKUP(1,(ANOVA!$L$2:$L$160=M$4)*(ANOVA!$Q$2:$Q$401=M$5)*(ANOVA!$M$2:$M$401=M$3),ANOVA!$B$2:$B$401,"")} -> 1.0954 | O17: {=_xlfn.XLOOKUP(1,(ANOVA!$L$2:$L$160=O$4)*(ANOVA!$Q$2:$Q$401=O$5)*(ANOVA!$M$2:$M$401=O$3),ANOVA!$B$2:$B$401,"")} -> 0.1737 | P17: {=_xlfn.XLOOKUP(1,(ANOVA!$L$2:$L$160=P$4)*(ANOVA!$Q$2:$Q$401=P$5)*(ANOVA!$M$2:$M$401=P$3),ANOVA!$B$2:$B$401,"")} -> 0.2096 | R17: {=_xlfn.XLOOKUP(1,(ANOVA!$L$2:$L$160=R$4)*(ANOVA!$Q$2:$Q$401=R$5)*(ANOVA!$M$2:$M$401=R$3),ANOVA!$B$2:$B$401,"")} -> 0.0778 | T17: {=_xlfn.XLOOKUP(1,(ANOVA!$L$2:$L$160=T$4)*(ANOVA!$Q$2:$Q$401=T$5)*(ANOVA!$M$2:$M$401=T$3),ANOVA!$B$2:$B$401,"")} -> 0.4031
A18: Trial L.S.D..05 | E18: {=_xlfn.XLOOKUP(1,(ANOVA!$L$2:$L$160=E$4)*(ANOVA!$Q$2:$Q$401=E$5)*(ANOVA!$M$2:$M$401=E$3),ANOVA!$C$2:$C$401,"")} -> 13.3 | G18: {=_xlfn.XLOOKUP(1,(ANOVA!$L$2:$L$160=G$4)*(ANOVA!$Q$2:$Q$401=G$5)*(ANOVA!$M$2:$M$401=G$3),ANOVA!$C$2:$C$401,"")} -> 0.66 | I18: {=_xlfn.XLOOKUP(1,(ANOVA!$L$2:$L$160=I$4)*(ANOVA!$Q$2:$Q$401=I$5)*(ANOVA!$M$2:$M$401=I$3),ANOVA!$C$2:$C$401,"")} -> 0.67 | K18: {=_xlfn.XLOOKUP(1,(ANOVA!$L$2:$L$160=K$4)*(ANOVA!$Q$2:$Q$401=K$5)*(ANOVA!$M$2:$M$401=K$3),ANOVA!$C$2:$C$401,"")} -> N.S. | M18: {=_xlfn.XLOOKUP(1,(ANOVA!$L$2:$L$160=M$4)*(ANOVA!$Q$2:$Q$401=M$5)*(ANOVA!$M$2:$M$401=M$3),ANOVA!$C$2:$C$401,"")} -> 2.71 | O18: {=_xlfn.XLOOKUP(1,(ANOVA!$L$2:$L$160=O$4)*(ANOVA!$Q$2:$Q$401=O$5)*(ANOVA!$M$2:$M$401=O$3),ANOVA!$C$2:$C$401,"")} -> 0 | P18: {=_xlfn.XLOOKUP(1,(ANOVA!$L$2:$L$160=P$4)*(ANOVA!$Q$2:$Q$401=P$5)*(ANOVA!$M$2:$M$401=P$3),ANOVA!$C$2:$C$401,"")} -> 0.62 | R18: {=_xlfn.XLOOKUP(1,(ANOVA!$L$2:$L$160=R$4)*(ANOVA!$Q$2:$Q$401=R$5)*(ANOVA!$M$2:$M$401=R$3),ANOVA!$C$2:$C$401,"")} -> 0.23 | T18: {=_xlfn.XLOOKUP(1,(ANOVA!$L$2:$L$160=T$4)*(ANOVA!$Q$2:$Q$401=T$5)*(ANOVA!$M$2:$M$401=T$3),ANOVA!$C$2:$C$401,"")} -> N.S.
A19: Trial C.V. | E19: {=_xlfn.XLOOKUP(1,(ANOVA!$L$2:$L$160=E$4)*(ANOVA!$Q$2:$Q$401=E$5)*(ANOVA!$M$2:$M$401=E$3),ANOVA!$D$2:$D$401,"")} -> 9.5912608 | G19: {=_xlfn.XLOOKUP(1,(ANOVA!$L$2:$L$160=G$4)*(ANOVA!$Q$2:$Q$401=G$5)*(ANOVA!$M$2:$M$401=G$3),ANOVA!$D$2:$D$401,"")} -> 4.280296 | I19: {=_xlfn.XLOOKUP(1,(ANOVA!$L$2:$L$160=I$4)*(ANOVA!$Q$2:$Q$401=I$5)*(ANOVA!$M$2:$M$401=I$3),ANOVA!$D$2:$D$401,"")} -> 1.1168619 | K19: {=_xlfn.XLOOKUP(1,(ANOVA!$L$2:$L$160=K$4)*(ANOVA!$Q$2:$Q$401=K$5)*(ANOVA!$M$2:$M$401=K$3),ANOVA!$D$2:$D$401,"")} -> 4.3352644 | M19: {=_xlfn.XLOOKUP(1,(ANOVA!$L$2:$L$160=M$4)*(ANOVA!$Q$2:$Q$401=M$5)*(ANOVA!$M$2:$M$401=M$3),ANOVA!$D$2:$D$401,"")} -> 8.0366814 | O19: {=_xlfn.XLOOKUP(1,(ANOVA!$L$2:$L$160=O$4)*(ANOVA!$Q$2:$Q$401=O$5)*(ANOVA!$M$2:$M$401=O$3),ANOVA!$D$2:$D$401,"")} -> 0 | P19: {=_xlfn.XLOOKUP(1,(ANOVA!$L$2:$L$160=P$4)*(ANOVA!$Q$2:$Q$401=P$5)*(ANOVA!$M$2:$M$401=P$3),ANOVA!$D$2:$D$401,"")} -> 3.2800433 | R19: {=_xlfn.XLOOKUP(1,(ANOVA!$L$2:$L$160=R$4)*(ANOVA!$Q$2:$Q$401=R$5)*(ANOVA!$M$2:$M$401=R$3),ANOVA!$D$2:$D$401,"")} -> 3.1011419 | T19: {=_xlfn.XLOOKUP(1,(ANOVA!$L$2:$L$160=T$4)*(ANOVA!$Q$2:$Q$401=T$5)*(ANOVA!$M$2:$M$401=T$3),ANOVA!$D$2:$D$401,"")} -> 0.68050038
A20: Number of locs. | E20: 8 | G20: 8 | I20: 7 | K20: 6 | M20: 6 | O20: 6 | P20: 1 | R20: 1 | T20: 1

Sheet Med Corn Yld By Loc
A1: Table 9. Mean yields across and by location of 9 medium-season (114 - 116 DAP) corn hybrids evaluated in replicated small plot trials at eight AgResearch and Education Center locations in Tennessee during 2026.
A2: Hybrid† | B2: Herbicide Pkg‡ | C2: Insect Pkg.‡ | D2: Above Loc Avg. | F2: Avg. Yield§ (bu/acre) | H2: Knoxville Irr. (bu/acre) | J2: Greeneville Non-Irr. (bu/acre) | L2: Springfield Irr. (bu/acre) | N2: Springfield Non-Irr. (bu/acre) | P2: Spring Hill Non-Irr. (bu/acre) | R2: Milan Irr. (bu/acre) | T2: Milan Non-Irr. (bu/acre) | V2: Jackson Irr. (bu/acre) | X2: Memphis Irr. (bu/acre) | AA2: etrec | AB2: netrec | AC2: hrec ir | AD2: hrec nir | AE2: mtrec | AF2: recm ir | AG2: recm nir | AH2: wtrec | AI2: agcntr
F3: YLD_1 | H3: YLD_1 | J3: YLD_1 | L3: YLD_1 | N3: YLD_1 | P3: YLD_1 | R3: YLD_1 | T3: YLD_1 | V3: YLD_1 | X3: YLD_1
F4: A | H4: ET | J4: N | L4: HI | N4: HN | P4: MT | R4: MI | T4: MN | V4: WT | X4: AG
F5: Med | H5: Med | J5: Med | L5: Med | N5: Med | P5: Med | R5: Med | T5: Med | V5: Med | X5: Med
A6: =VLOOKUP(E6,VL_2020,2,FALSE) -> Innvictis A1414T | B6: =VLOOKUP(E6,VL_2020,3,FALSE) -> RR | C6: =VLOOKUP(E6,VL_2020,4,FALSE) -> TRE | D6: =AJ6 -> 0.875 | E6: C25015 | F6: {=_xlfn.XLOOKUP(1,(LSM!$A$2:$A$370=F$4)*(LSM!$T$2:$T$370=F$5)*(LSM!$B$2:$B$370=$E6),LSM!$C$2:$C$370,"")} -> 254.59 | G6: {=_xlfn.XLOOKUP(1,(LSM!$A$2:$A$370=F$4)*(LSM!$T$2:$T$370=F$5)*(LSM!$B$2:$B$370=$E6),LSM!$D$2:$D$370,"")} -> A | H6: {=_xlfn.XLOOKUP(1,(LSM!$A$2:$A$370=H$4)*(LSM!$T$2:$T$370=H$5)*(LSM!$B$2:$B$370=$E6),LSM!$C$2:$C$370,"")} -> 283.71 | I6: {=_xlfn.XLOOKUP(1,(LSM!$A$2:$A$370=H$4)*(LSM!$T$2:$T$370=H$5)*(LSM!$B$2:$B$370=$E6),LSM!$D$2:$D$370,"")} -> A | J6: {=_xlfn.XLOOKUP(1,(LSM!$A$2:$A$370=J$4)*(LSM!$T$2:$T$370=J$5)*(LSM!$B$2:$B$370=$E6),LSM!$C$2:$C$370,"")} -> 311.73 | K6: {=_xlfn.XLOOKUP(1,(LSM!$A$2:$A$370=J$4)*(LSM!$T$2:$T$370=J$5)*(LSM!$B$2:$B$370=$E6),LSM!$D$2:$D$370,"")} -> A | L6: {=_xlfn.XLOOKUP(1,(LSM!$A$2:$A$370=L$4)*(LSM!$T$2:$T$370=L$5)*(LSM!$B$2:$B$370=$E6),LSM!$C$2:$C$370,"")} -> 262.24 | M6: {=_xlfn.XLOOKUP(1,(LSM!$A$2:$A$370=L$4)*(LSM!$T$2:$T$370=L$5)*(LSM!$B$2:$B$370=$E6),LSM!$D$2:$D$370,"")} -> A | N6: {=_xlfn.XLOOKUP(1,(LSM!$A$2:$A$370=N$4)*(LSM!$T$2:$T$370=N$5)*(LSM!$B$2:$B$370=$E6),LSM!$C$2:$C$370,"")} -> 169.85 | O6: {=_xlfn.XLOOKUP(1,(LSM!$A$2:$A$370=N$4)*(LSM!$T$2:$T$370=N$5)*(LSM!$B$2:$B$370=$E6),LSM!$D$2:$D$370,"")} -> A | P6: {=_xlfn.XLOOKUP(1,(LSM!$A$2:$A$370=P$4)*(LSM!$T$2:$T$370=P$5)*(LSM!$B$2:$B$370=$E6),LSM!$C$2:$C$370,"")} -> 194.46 | Q6: {=_xlfn.XLOOKUP(1,(LSM!$A$2:$A$370=P$4)*(LSM!$T$2:$T$370=P$5)*(LSM!$B$2:$B$370=$E6),LSM!$D$2:$D$370,"")} -> A | R6: {=_xlfn.XLOOKUP(1,(LSM!$A$2:$A$370=R$4)*(LSM!$T$2:$T$370=R$5)*(LSM!$B$2:$B$370=$E6),LSM!$C$2:$C$370,"")} -> 269.65 | S6: {=_xlfn.XLOOKUP(1,(LSM!$A$2:$A$370=R$4)*(LSM!$T$2:$T$370=R$5)*(LSM!$B$2:$B$370=$E6),LSM!$D$2:$D$370,"")} -> A | T6: {=_xlfn.XLOOKUP(1,(LSM!$A$2:$A$370=T$4)*(LSM!$T$2:$T$370=T$5)*(LSM!$B$2:$B$370=$E6),LSM!$C$2:$C$370,"")} -> 291.76 | U6: {=_xlfn.XLOOKUP(1,(LSM!$A$2:$A$370=T$4)*(LSM!$T$2:$T$370=T$5)*(LSM!$B$2:$B$370=$E6),LSM!$D$2:$D$370,"")} -> A | V6: {=_xlfn.XLOOKUP(1,(LSM!$A$2:$A$370=V$4)*(LSM!$T$2:$T$370=V$5)*(LSM!$B$2:$B$370=$E6),LSM!$C$2:$C$370,"")} -> 253.34 | W6: {=_xlfn.XLOOKUP(1,(LSM!$A$2:$A$370=V$4)*(LSM!$T$2:$T$370=V$5)*(LSM!$B$2:$B$370=$E6),LSM!$D$2:$D$370,"")} -> A | X6: {=_xlfn.XLOOKUP(1,(LSM!$A$2:$A$370=X$4)*(LSM!$T$2:$T$370=X$5)*(LSM!$B$2:$B$370=$E6),LSM!$C$2:$C$370,"")} | Y6: {=_xlfn.XLOOKUP(1,(LSM!$A$2:$A$370=X$4)*(LSM!$T$2:$T$370=X$5)*(LSM!$B$2:$B$370=$E6),LSM!$D$2:$D$370,"")} | AA6: =IF(H6>H$15,1,0) -> 1 | AB6: =IF(J6>J$15,1,0) -> 1 | AC6: =IF(L6>L$15,1,0) -> 1 | AD6: =IF(N6>N$15,1,0) -> 0 | AE6: =IF(P6>P$15,1,0) -> 1 | AF6: =IF(R6>R$15,1,0) -> 1 | AG6: =IF(T6>T$15,1,0) -> 1 | AH6: =IF(V6>V$15,1,0) -> 1 | AJ6: =SUM(AA6:AI6)/COUNT(AA6:AI6) -> 0.875
A7: =VLOOKUP(E7,VL_2020,2,FALSE) -> Dyna-Gro D55VC86RIB | B7: =VLOOKUP(E7,VL_2020,3,FALSE) -> RR | C7: =VLOOKUP(E7,VL_2020,4,FALSE) -> 0 | D7: =AJ7 -> 0.875 | E7: C26006 | F7: {=_xlfn.XLOOKUP(1,(LSM!$A$2:$A$370=F$4)*(LSM!$T$2:$T$370=F$5)*(LSM!$B$2:$B$370=$E7),LSM!$C$2:$C$370,"")} -> 245.45 | G7: {=_xlfn.XLOOKUP(1,(LSM!$A$2:$A$370=F$4)*(LSM!$T$2:$T$370=F$5)*(LSM!$B$2:$B$370=$E7),LSM!$D$2:$D$370,"")} -> AB | H7: {=_xlfn.XLOOKUP(1,(LSM!$A$2:$A$370=H$4)*(LSM!$T$2:$T$370=H$5)*(LSM!$B$2:$B$370=$E7),LSM!$C$2:$C$370,"")} -> 268.23 | I7: {=_xlfn.XLOOKUP(1,(LSM!$A$2:$A$370=H$4)*(LSM!$T$2:$T$370=H$5)*(LSM!$B$2:$B$370=$E7),LSM!$D$2:$D$370,"")} -> A | J7: {=_xlfn.XLOOKUP(1,(LSM!$A$2:$A$370=J$4)*(LSM!$T$2:$T$370=J$5)*(LSM!$B$2:$B$370=$E7),LSM!$C$2:$C$370,"")} -> 279 | K7: {=_xlfn.XLOOKUP(1,(LSM!$A$2:$A$370=J$4)*(LSM!$T$2:$T$370=J$5)*(LSM!$B$2:$B$370=$E7),LSM!$D$2:$D$370,"")} -> A | L7: {=_xlfn.XLOOKUP(1,(LSM!$A$2:$A$370=L$4)*(LSM!$T$2:$T$370=L$5)*(LSM!$B$2:$B$370=$E7),LSM!$C$2:$C$370,"")} -> 255.99 | M7: {=_xlfn.XLOOKUP(1,(LSM!$A$2:$A$370=L$4)*(LSM!$T$2:$T$370=L$5)*(LSM!$B$2:$B$370=$E7),LSM!$D$2:$D$370,"")} -> A | N7: {=_xlfn.XLOOKUP(1,(LSM!$A$2:$A$370=N$4)*(LSM!$T$2:$T$370=N$5)*(LSM!$B$2:$B$370=$E7),LSM!$C$2:$C$370,"")} -> 185.13 | O7: {=_xlfn.XLOOKUP(1,(LSM!$A$2:$A$370=N$4)*(LSM!$T$2:$T$370=N$5)*(LSM!$B$2:$B$370=$E7),LSM!$D$2:$D$370,"")} -> A | P7: {=_xlfn.XLOOKUP(1,(LSM!$A$2:$A$370=P$4)*(LSM!$T$2:$T$370=P$5)*(LSM!$B$2:$B$370=$E7),LSM!$C$2:$C$370,"")} -> 191.92 | Q7: {=_xlfn.XLOOKUP(1,(LSM!$A$2:$A$370=P$4)*(LSM!$T$2:$T$370=P$5)*(LSM!$B$2:$B$370=$E7),LSM!$D$2:$D$370,"")} -> A | R7: {=_xlfn.XLOOKUP(1,(LSM!$A$2:$A$370=R$4)*(LSM!$T$2:$T$370=R$5)*(LSM!$B$2:$B$370=$E7),LSM!$C$2:$C$370,"")} -> 270.85 | S7: {=_xlfn.XLOOKUP(1,(LSM!$A$2:$A$370=R$4)*(LSM!$T$2:$T$370=R$5)*(LSM!$B$2:$B$370=$E7),LSM!$D$2:$D$370,"")} -> A | T7: {=_xlfn.XLOOKUP(1,(LSM!$A$2:$A$370=T$4)*(LSM!$T$2:$T$370=T$5)*(LSM!$B$2:$B$370=$E7),LSM!$C$2:$C$370,"")} -> 286.09 | U7: {=_xlfn.XLOOKUP(1,(LSM!$A$2:$A$370=T$4)*(LSM!$T$2:$T$370=T$5)*(LSM!$B$2:$B$370=$E7),LSM!$D$2:$D$370,"")} -> AB | V7: {=_xlfn.XLOOKUP(1,(LSM!$A$2:$A$370=V$4)*(LSM!$T$2:$T$370=V$5)*(LSM!$B$2:$B$370=$E7),LSM!$C$2:$C$370,"")} -> 231.94 | W7: {=_xlfn.XLOOKUP(1,(LSM!$A$2:$A$370=V$4)*(LSM!$T$2:$T$370=V$5)*(LSM!$B$2:$B$370=$E7),LSM!$D$2:$D$370,"")} -> A | X7: {=_xlfn.XLOOKUP(1,(LSM!$A$2:$A$370=X$4)*(LSM!$T$2:$T$370=X$5)*(LSM!$B$2:$B$370=$E7),LSM!$C$2:$C$370,"")} | Y7: {=_xlfn.XLOOKUP(1,(LSM!$A$2:$A$370=X$4)*(LSM!$T$2:$T$370=X$5)*(LSM!$B$2:$B$370=$E7),LSM!$D$2:$D$370,"")} | AA7: =IF(H7>H$15,1,0) -> 1 | AB7: =IF(J7>J$15,1,0) -> 1 | AC7: =IF(L7>L$15,1,0) -> 0 | AD7: =IF(N7>N$15,1,0) -> 1 | AE7: =IF(P7>P$15,1,0) -> 1 | AF7: =IF(R7>R$15,1,0) -> 1 | AG7: =IF(T7>T$15,1,0) -> 1 | AH7: =IF(V7>V$15,1,0) -> 1 | AJ7: =SUM(AA7:AI7)/COUNT(AA7:AI7) -> 0.875
A8: =VLOOKUP(E8,VL_2020,2,FALSE) -> Pioneer P16647PWE | B8: =VLOOKUP(E8,VL_2020,3,FALSE) -> RR, LL, ENL, FOP | C8: =VLOOKUP(E8,VL_2020,4,FALSE) -> VT2P, HX1 | D8: =AJ8 -> 0.5 | E8: C26020 | F8: {=_xlfn.XLOOKUP(1,(LSM!$A$2:$A$370=F$4)*(LSM!$T$2:$T$370=F$5)*(LSM!$B$2:$B$370=$E8),LSM!$C$2:$C$370,"")} -> 245.1 | G8: {=_xlfn.XLOOKUP(1,(LSM!$A$2:$A$370=F$4)*(LSM!$T$2:$T$370=F$5)*(LSM!$B$2:$B$370=$E8),LSM!$D$2:$D$370,"")} -> AB | H8: {=_xlfn.XLOOKUP(1,(LSM!$A$2:$A$370=H$4)*(LSM!$T$2:$T$370=H$5)*(LSM!$B$2:$B$370=$E8),LSM!$C$2:$C$370,"")} -> 259.4 | I8: {=_xlfn.XLOOKUP(1,(LSM!$A$2:$A$370=H$4)*(LSM!$T$2:$T$370=H$5)*(LSM!$B$2:$B$370=$E8),LSM!$D$2:$D$370,"")} -> A | J8: {=_xlfn.XLOOKUP(1,(LSM!$A$2:$A$370=J$4)*(LSM!$T$2:$T$370=J$5)*(LSM!$B$2:$B$370=$E8),LSM!$C$2:$C$370,"")} -> 289.21 | K8: {=_xlfn.XLOOKUP(1,(LSM!$A$2:$A$370=J$4)*(LSM!$T$2:$T$370=J$5)*(LSM!$B$2:$B$370=$E8),LSM!$D$2:$D$370,"")} -> A | L8: {=_xlfn.XLOOKUP(1,(LSM!$A$2:$A$370=L$4)*(LSM!$T$2:$T$370=L$5)*(LSM!$B$2:$B$370=$E8),LSM!$C$2:$C$370,"")} -> 265.55 | M8: {=_xlfn.XLOOKUP(1,(LSM!$A$2:$A$370=L$4)*(LSM!$T$2:$T$370=L$5)*(LSM!$B$2:$B$370=$E8),LSM!$D$2:$D$370,"")} -> A | N8: {=_xlfn.XLOOKUP(1,(LSM!$A$2:$A$370=N$4)*(LSM!$T$2:$T$370=N$5)*(LSM!$B$2:$B$370=$E8),LSM!$C$2:$C$370,"")} -> 175.6 | O8: {=_xlfn.XLOOKUP(1,(LSM!$A$2:$A$370=N$4)*(LSM!$T$2:$T$370=N$5)*(LSM!$B$2:$B$370=$E8),LSM!$D$2:$D$370,"")} -> A | P8: {=_xlfn.XLOOKUP(1,(LSM!$A$2:$A$370=P$4)*(LSM!$T$2:$T$370=P$5)*(LSM!$B$2:$B$370=$E8),LSM!$C$2:$C$370,"")} -> 207.38 | Q8: {=_xlfn.XLOOKUP(1,(LSM!$A$2:$A$370=P$4)*(LSM!$T$2:$T$370=P$5)*(LSM!$B$2:$B$370=$E8),LSM!$D$2:$D$370,"")} -> A | R8: {=_xlfn.XLOOKUP(1,(LSM!$A$2:$A$370=R$4)*(LSM!$T$2:$T$370=R$5)*(LSM!$B$2:$B$370=$E8),LSM!$C$2:$C$370,"")} -> 259.39 | S8: {=_xlfn.XLOOKUP(1,(LSM!$A$2:$A$370=R$4)*(LSM!$T$2:$T$370=R$5)*(LSM!$B$2:$B$370=$E8),LSM!$D$2:$D$370,"")} -> A | T8: {=_xlfn.XLOOKUP(1,(LSM!$A$2:$A$370=T$4)*(LSM!$T$2:$T$370=T$5)*(LSM!$B$2:$B$370=$E8),LSM!$C$2:$C$370,"")} -> 281.42 | U8: {=_xlfn.XLOOKUP(1,(LSM!$A$2:$A$370=T$4)*(LSM!$T$2:$T$370=T$5)*(LSM!$B$2:$B$370=$E8),LSM!$D$2:$D$370,"")} -> A-C | V8: {=_xlfn.XLOOKUP(1,(LSM!$A$2:$A$370=V$4)*(LSM!$T$2:$T$370=V$5)*(LSM!$B$2:$B$370=$E8),LSM!$C$2:$C$370,"")} -> 222.86 | W8: {=_xlfn.XLOOKUP(1,(LSM!$A$2:$A$370=V$4)*(LSM!$T$2:$T$370=V$5)*(LSM!$B$2:$B$370=$E8),LSM!$D$2:$D$370,"")} -> A | X8: {=_xlfn.XLOOKUP(1,(LSM!$A$2:$A$370=X$4)*(LSM!$T$2:$T$370=X$5)*(LSM!$B$2:$B$370=$E8),LSM!$C$2:$C$370,"")} | Y8: {=_xlfn.XLOOKUP(1,(LSM!$A$2:$A$370=X$4)*(LSM!$T$2:$T$370=X$5)*(LSM!$B$2:$B$370=$E8),LSM!$D$2:$D$370,"")} | AA8: =IF(H8>H$15,1,0) -> 0 | AB8: =IF(J8>J$15,1,0) -> 1 | AC8: =IF(L8>L$15,1,0) -> 1 | AD8: =IF(N8>N$15,1,0) -> 0 | AE8: =IF(P8>P$15,1,0) -> 1 | AF8: =IF(R8>R$15,1,0) -> 0 | AG8: =IF(T8>T$15,1,0) -> 1 | AH8: =IF(V8>V$15,1,0) -> 0 | AJ8: =SUM(AA8:AI8)/COUNT(AA8:AI8) -> 0.5
A9: =VLOOKUP(E9,VL_2020,2,FALSE) -> Pioneer P15395PWE | B9: =VLOOKUP(E9,VL_2020,3,FALSE) -> RR, LL, ENL, FOP | C9: =VLOOKUP(E9,VL_2020,4,FALSE) -> VT2P, HX1 | D9: =AJ9 -> 0.75 | E9: C26019 | F9: {=_xlfn.XLOOKUP(1,(LSM!$A$2:$A$370=F$4)*(LSM!$T$2:$T$370=F$5)*(LSM!$B$2:$B$370=$E9),LSM!$C$2:$C$370,"")} -> 244.49 | G9: {=_xlfn.XLOOKUP(1,(LSM!$A$2:$A$370=F$4)*(LSM!$T$2:$T$370=F$5)*(LSM!$B$2:$B$370=$E9),LSM!$D$2:$D$370,"")} -> AB | H9: {=_xlfn.XLOOKUP(1,(LSM!$A$2:$A$370=H$4)*(LSM!$T$2:$T$370=H$5)*(LSM!$B$2:$B$370=$E9),LSM!$C$2:$C$370,"")} -> 272.51 | I9: {=_xlfn.XLOOKUP(1,(LSM!$A$2:$A$370=H$4)*(LSM!$T$2:$T$370=H$5)*(LSM!$B$2:$B$370=$E9),LSM!$D$2:$D$370,"")} -> A | J9: {=_xlfn.XLOOKUP(1,(LSM!$A$2:$A$370=J$4)*(LSM!$T$2:$T$370=J$5)*(LSM!$B$2:$B$370=$E9),LSM!$C$2:$C$370,"")} -> 229.27 | K9: {=_xlfn.XLOOKUP(1,(LSM!$A$2:$A$370=J$4)*(LSM!$T$2:$T$370=J$5)*(LSM!$B$2:$B$370=$E9),LSM!$D$2:$D$370,"")} -> A | L9: {=_xlfn.XLOOKUP(1,(LSM!$A$2:$A$370=L$4)*(LSM!$T$2:$T$370=L$5)*(LSM!$B$2:$B$370=$E9),LSM!$C$2:$C$370,"")} -> 260.81 | M9: {=_xlfn.XLOOKUP(1,(LSM!$A$2:$A$370=L$4)*(LSM!$T$2:$T$370=L$5)*(LSM!$B$2:$B$370=$E9),LSM!$D$2:$D$370,"")} -> A | N9: {=_xlfn.XLOOKUP(1,(LSM!$A$2:$A$370=N$4)*(LSM!$T$2:$T$370=N$5)*(LSM!$B$2:$B$370=$E9),LSM!$C$2:$C$370,"")} -> 188.15 | O9: {=_xlfn.XLOOKUP(1,(LSM!$A$2:$A$370=N$4)*(LSM!$T$2:$T$370=N$5)*(LSM!$B$2:$B$370=$E9),LSM!$D$2:$D$370,"")} -> A | P9: {=_xlfn.XLOOKUP(1,(LSM!$A$2:$A$370=P$4)*(LSM!$T$2:$T$370=P$5)*(LSM!$B$2:$B$370=$E9),LSM!$C$2:$C$370,"")} -> 207.68 | Q9: {=_xlfn.XLOOKUP(1,(LSM!$A$2:$A$370=P$4)*(LSM!$T$2:$T$370=P$5)*(LSM!$B$2:$B$370=$E9),LSM!$D$2:$D$370,"")} -> A | R9: {=_xlfn.XLOOKUP(1,(LSM!$A$2:$A$370=R$4)*(LSM!$T$2:$T$370=R$5)*(LSM!$B$2:$B$370=$E9),LSM!$C$2:$C$370,"")} -> 263.21 | S9: {=_xlfn.XLOOKUP(1,(LSM!$A$2:$A$370=R$4)*(LSM!$T$2:$T$370=R$5)*(LSM!$B$2:$B$370=$E9),LSM!$D$2:$D$370,"")} -> A | T9: {=_xlfn.XLOOKUP(1,(LSM!$A$2:$A$370=T$4)*(LSM!$T$2:$T$370=T$5)*(LSM!$B$2:$B$370=$E9),LSM!$C$2:$C$370,"")} -> 282.57 | U9: {=_xlfn.XLOOKUP(1,(LSM!$A$2:$A$370=T$4)*(LSM!$T$2:$T$370=T$5)*(LSM!$B$2:$B$370=$E9),LSM!$D$2:$D$370,"")} -> A-C | V9: {=_xlfn.XLOOKUP(1,(LSM!$A$2:$A$370=V$4)*(LSM!$T$2:$T$370=V$5)*(LSM!$B$2:$B$370=$E9),LSM!$C$2:$C$370,"")} -> 251.73 | W9: {=_xlfn.XLOOKUP(1,(LSM!$A$2:$A$370=V$4)*(LSM!$T$2:$T$370=V$5)*(LSM!$B$2:$B$370=$E9),LSM!$D$2:$D$370,"")} -> A | X9: {=_xlfn.XLOOKUP(1,(LSM!$A$2:$A$370=X$4)*(LSM!$T$2:$T$370=X$5)*(LSM!$B$2:$B$370=$E9),LSM!$C$2:$C$370,"")} | Y9: {=_xlfn.XLOOKUP(1,(LSM!$A$2:$A$370=X$4)*(LSM!$T$2:$T$370=X$5)*(LSM!$B$2:$B$370=$E9),LSM!$D$2:$D$370,"")} | AA9: =IF(H9>H$15,1,0) -> 1 | AB9: =IF(J9>J$15,1,0) -> 0 | AC9: =IF(L9>L$15,1,0) -> 1 | AD9: =IF(N9>N$15,1,0) -> 1 | AE9: =IF(P9>P$15,1,0) -> 1 | AF9: =IF(R9>R$15,1,0) -> 0 | AG9: =IF(T9>T$15,1,0) -> 1 | AH9: =IF(V9>V$15,1,0) -> 1 | AJ9: =SUM(AA9:AI9)/COUNT(AA9:AI9) -> 0.75
A10: =VLOOKUP(E10,VL_2020,2,FALSE) -> Dekalb DKC 115-55 | B10: =VLOOKUP(E10,VL_2020,3,FALSE) -> RR | C10: =VLOOKUP(E10,VL_2020,4,FALSE) -> TRE | D10: =AJ10 -> 0.5 | E10: C26002 | F10: {=_xlfn.XLOOKUP(1,(LSM!$A$2:$A$370=F$4)*(LSM!$T$2:$T$370=F$5)*(LSM!$B$2:$B$370=$E10),LSM!$C$2:$C$370,"")} -> 241.83 | G10: {=_xlfn.XLOOKUP(1,(LSM!$A$2:$A$370=F$4)*(LSM!$T$2:$T$370=F$5)*(LSM!$B$2:$B$370=$E10),LSM!$D$2:$D$370,"")} -> AB | H10: {=_xlfn.XLOOKUP(1,(LSM!$A$2:$A$370=H$4)*(LSM!$T$2:$T$370=H$5)*(LSM!$B$2:$B$370=$E10),LSM!$C$2:$C$370,"")} -> 259.47 | I10: {=_xlfn.XLOOKUP(1,(LSM!$A$2:$A$370=H$4)*(LSM!$T$2:$T$370=H$5)*(LSM!$B$2:$B$370=$E10),LSM!$D$2:$D$370,"")} -> A | J10: {=_xlfn.XLOOKUP(1,(LSM!$A$2:$A$370=J$4)*(LSM!$T$2:$T$370=J$5)*(LSM!$B$2:$B$370=$E10),LSM!$C$2:$C$370,"")} -> 272.54 | K10: {=_xlfn.XLOOKUP(1,(LSM!$A$2:$A$370=J$4)*(LSM!$T$2:$T$370=J$5)*(LSM!$B$2:$B$370=$E10),LSM!$D$2:$D$370,"")} -> A | L10: {=_xlfn.XLOOKUP(1,(LSM!$A$2:$A$370=L$4)*(LSM!$T$2:$T$370=L$5)*(LSM!$B$2:$B$370=$E10),LSM!$C$2:$C$370,"")} -> 256.43 | M10: {=_xlfn.XLOOKUP(1,(LSM!$A$2:$A$370=L$4)*(LSM!$T$2:$T$370=L$5)*(LSM!$B$2:$B$370=$E10),LSM!$D$2:$D$370,"")} -> A | N10: {=_xlfn.XLOOKUP(1,(LSM!$A$2:$A$370=N$4)*(LSM!$T$2:$T$370=N$5)*(LSM!$B$2:$B$370=$E10),LSM!$C$2:$C$370,"")} -> 162.64 | O10: {=_xlfn.XLOOKUP(1,(LSM!$A$2:$A$370=N$4)*(LSM!$T$2:$T$370=N$5)*(LSM!$B$2:$B$370=$E10),LSM!$D$2:$D$370,"")} -> A | P10: {=_xlfn.XLOOKUP(1,(LSM!$A$2:$A$370=P$4)*(LSM!$T$2:$T$370=P$5)*(LSM!$B$2:$B$370=$E10),LSM!$C$2:$C$370,"")} -> 184.61 | Q10: {=_xlfn.XLOOKUP(1,(LSM!$A$2:$A$370=P$4)*(LSM!$T$2:$T$370=P$5)*(LSM!$B$2:$B$370=$E10),LSM!$D$2:$D$370,"")} -> A | R10: {=_xlfn.XLOOKUP(1,(LSM!$A$2:$A$370=R$4)*(LSM!$T$2:$T$370=R$5)*(LSM!$B$2:$B$370=$E10),LSM!$C$2:$C$370,"")} -> 272.47 | S10: {=_xlfn.XLOOKUP(1,(LSM!$A$2:$A$370=R$4)*(LSM!$T$2:$T$370=R$5)*(LSM!$B$2:$B$370=$E10),LSM!$D$2:$D$370,"")} -> A | T10: {=_xlfn.XLOOKUP(1,(LSM!$A$2:$A$370=T$4)*(LSM!$T$2:$T$370=T$5)*(LSM!$B$2:$B$370=$E10),LSM!$C$2:$C$370,"")} -> 286.26 | U10: {=_xlfn.XLOOKUP(1,(LSM!$A$2:$A$370=T$4)*(LSM!$T$2:$T$370=T$5)*(LSM!$B$2:$B$370=$E10),LSM!$D$2:$D$370,"")} -> AB | V10: {=_xlfn.XLOOKUP(1,(LSM!$A$2:$A$370=V$4)*(LSM!$T$2:$T$370=V$5)*(LSM!$B$2:$B$370=$E10),LSM!$C$2:$C$370,"")} -> 240.22 | W10: {=_xlfn.XLOOKUP(1,(LSM!$A$2:$A$370=V$4)*(LSM!$T$2:$T$370=V$5)*(LSM!$B$2:$B$370=$E10),LSM!$D$2:$D$370,"")} -> A | X10: {=_xlfn.XLOOKUP(1,(LSM!$A$2:$A$370=X$4)*(LSM!$T$2:$T$370=X$5)*(LSM!$B$2:$B$370=$E10),LSM!$C$2:$C$370,"")} | Y10: {=_xlfn.XLOOKUP(1,(LSM!$A$2:$A$370=X$4)*(LSM!$T$2:$T$370=X$5)*(LSM!$B$2:$B$370=$E10),LSM!$D$2:$D$370,"")} | AA10: =IF(H10>H$15,1,0) -> 0 | AB10: =IF(J10>J$15,1,0) -> 1 | AC10: =IF(L10>L$15,1,0) -> 0 | AD10: =IF(N10>N$15,1,0) -> 0 | AE10: =IF(P10>P$15,1,0) -> 0 | AF10: =IF(R10>R$15,1,0) -> 1 | AG10: =IF(T10>T$15,1,0) -> 1 | AH10: =IF(V10>V$15,1,0) -> 1 | AJ10: =SUM(AA10:AI10)/COUNT(AA10:AI10) -> 0.5
A11: =VLOOKUP(E11,VL_2020,2,FALSE) -> Dyna-Gro D54TC77 | B11: =VLOOKUP(E11,VL_2020,3,FALSE) -> RR | C11: =VLOOKUP(E11,VL_2020,4,FALSE) -> 0 | D11: =AJ11 -> 0.375 | E11: C26005 | F11: {=_xlfn.XLOOKUP(1,(LSM!$A$2:$A$370=F$4)*(LSM!$T$2:$T$370=F$5)*(LSM!$B$2:$B$370=$E11),LSM!$C$2:$C$370,"")} -> 237.37 | G11: {=_xlfn.XLOOKUP(1,(LSM!$A$2:$A$370=F$4)*(LSM!$T$2:$T$370=F$5)*(LSM!$B$2:$B$370=$E11),LSM!$D$2:$D$370,"")} -> BC | H11: {=_xlfn.XLOOKUP(1,(LSM!$A$2:$A$370=H$4)*(LSM!$T$2:$T$370=H$5)*(LSM!$B$2:$B$370=$E11),LSM!$C$2:$C$370,"")} -> 286.24 | I11: {=_xlfn.XLOOKUP(1,(LSM!$A$2:$A$370=H$4)*(LSM!$T$2:$T$370=H$5)*(LSM!$B$2:$B$370=$E11),LSM!$D$2:$D$370,"")} -> A | J11: {=_xlfn.XLOOKUP(1,(LSM!$A$2:$A$370=J$4)*(LSM!$T$2:$T$370=J$5)*(LSM!$B$2:$B$370=$E11),LSM!$C$2:$C$370,"")} -> 223.68 | K11: {=_xlfn.XLOOKUP(1,(LSM!$A$2:$A$370=J$4)*(LSM!$T$2:$T$370=J$5)*(LSM!$B$2:$B$370=$E11),LSM!$D$2:$D$370,"")} -> A | L11: {=_xlfn.XLOOKUP(1,(LSM!$A$2:$A$370=L$4)*(LSM!$T$2:$T$370=L$5)*(LSM!$B$2:$B$370=$E11),LSM!$C$2:$C$370,"")} -> 254.91 | M11: {=_xlfn.XLOOKUP(1,(LSM!$A$2:$A$370=L$4)*(LSM!$T$2:$T$370=L$5)*(LSM!$B$2:$B$370=$E11),LSM!$D$2:$D$370,"")} -> A | N11: {=_xlfn.XLOOKUP(1,(LSM!$A$2:$A$370=N$4)*(LSM!$T$2:$T$370=N$5)*(LSM!$B$2:$B$370=$E11),LSM!$C$2:$C$370,"")} -> 181.44 | O11: {=_xlfn.XLOOKUP(1,(LSM!$A$2:$A$370=N$4)*(LSM!$T$2:$T$370=N$5)*(LSM!$B$2:$B$370=$E11),LSM!$D$2:$D$370,"")} -> A | P11: {=_xlfn.XLOOKUP(1,(LSM!$A$2:$A$370=P$4)*(LSM!$T$2:$T$370=P$5)*(LSM!$B$2:$B$370=$E11),LSM!$C$2:$C$370,"")} -> 184.72 | Q11: {=_xlfn.XLOOKUP(1,(LSM!$A$2:$A$370=P$4)*(LSM!$T$2:$T$370=P$5)*(LSM!$B$2:$B$370=$E11),LSM!$D$2:$D$370,"")} -> A | R11: {=_xlfn.XLOOKUP(1,(LSM!$A$2:$A$370=R$4)*(LSM!$T$2:$T$370=R$5)*(LSM!$B$2:$B$370=$E11),LSM!$C$2:$C$370,"")} -> 272.96 | S11: {=_xlfn.XLOOKUP(1,(LSM!$A$2:$A$370=R$4)*(LSM!$T$2:$T$370=R$5)*(LSM!$B$2:$B$370=$E11),LSM!$D$2:$D$370,"")} -> A | T11: {=_xlfn.XLOOKUP(1,(LSM!$A$2:$A$370=T$4)*(LSM!$T$2:$T$370=T$5)*(LSM!$B$2:$B$370=$E11),LSM!$C$2:$C$370,"")} -> 269.99 | U11: {=_xlfn.XLOOKUP(1,(LSM!$A$2:$A$370=T$4)*(LSM!$T$2:$T$370=T$5)*(LSM!$B$2:$B$370=$E11),LSM!$D$2:$D$370,"")} -> B-D | V11: {=_xlfn.XLOOKUP(1,(LSM!$A$2:$A$370=V$4)*(LSM!$T$2:$T$370=V$5)*(LSM!$B$2:$B$370=$E11),LSM!$C$2:$C$370,"")} -> 225.05 | W11: {=_xlfn.XLOOKUP(1,(LSM!$A$2:$A$370=V$4)*(LSM!$T$2:$T$370=V$5)*(LSM!$B$2:$B$370=$E11),LSM!$D$2:$D$370,"")} -> A | X11: {=_xlfn.XLOOKUP(1,(LSM!$A$2:$A$370=X$4)*(LSM!$T$2:$T$370=X$5)*(LSM!$B$2:$B$370=$E11),LSM!$C$2:$C$370,"")} | Y11: {=_xlfn.XLOOKUP(1,(LSM!$A$2:$A$370=X$4)*(LSM!$T$2:$T$370=X$5)*(LSM!$B$2:$B$370=$E11),LSM!$D$2:$D$370,"")} | AA11: =IF(H11>H$15,1,0) -> 1 | AB11: =IF(J11>J$15,1,0) -> 0 | AC11: =IF(L11>L$15,1,0) -> 0 | AD11: =IF(N11>N$15,1,0) -> 1 | AE11: =IF(P11>P$15,1,0) -> 0 | AF11: =IF(R11>R$15,1,0) -> 1 | AG11: =IF(T11>T$15,1,0) -> 0 | AH11: =IF(V11>V$15,1,0) -> 0 | AJ11: =SUM(AA11:AI11)/COUNT(AA11:AI11) -> 0.375
A12: =VLOOKUP(E12,VL_2020,2,FALSE) -> Gateway 4914TRE | B12: =VLOOKUP(E12,VL_2020,3,FALSE) -> RR | C12: =VLOOKUP(E12,VL_2020,4,FALSE) -> TRE | D12: =AJ12 -> 0.375 | E12: C26013 | F12: {=_xlfn.XLOOKUP(1,(LSM!$A$2:$A$370=F$4)*(LSM!$T$2:$T$370=F$5)*(LSM!$B$2:$B$370=$E12),LSM!$C$2:$C$370,"")} -> 235.57 | G12: {=_xlfn.XLOOKUP(1,(LSM!$A$2:$A$370=F$4)*(LSM!$T$2:$T$370=F$5)*(LSM!$B$2:$B$370=$E12),LSM!$D$2:$D$370,"")} -> BC | H12: {=_xlfn.XLOOKUP(1,(LSM!$A$2:$A$370=H$4)*(LSM!$T$2:$T$370=H$5)*(LSM!$B$2:$B$370=$E12),LSM!$C$2:$C$370,"")} -> 276 | I12: {=_xlfn.XLOOKUP(1,(LSM!$A$2:$A$370=H$4)*(LSM!$T$2:$T$370=H$5)*(LSM!$B$2:$B$370=$E12),LSM!$D$2:$D$370,"")} -> A | J12: {=_xlfn.XLOOKUP(1,(LSM!$A$2:$A$370=J$4)*(LSM!$T$2:$T$370=J$5)*(LSM!$B$2:$B$370=$E12),LSM!$C$2:$C$370,"")} -> 237.96 | K12: {=_xlfn.XLOOKUP(1,(LSM!$A$2:$A$370=J$4)*(LSM!$T$2:$T$370=J$5)*(LSM!$B$2:$B$370=$E12),LSM!$D$2:$D$370,"")} -> A | L12: {=_xlfn.XLOOKUP(1,(LSM!$A$2:$A$370=L$4)*(LSM!$T$2:$T$370=L$5)*(LSM!$B$2:$B$370=$E12),LSM!$C$2:$C$370,"")} -> 257.03 | M12: {=_xlfn.XLOOKUP(1,(LSM!$A$2:$A$370=L$4)*(LSM!$T$2:$T$370=L$5)*(LSM!$B$2:$B$370=$E12),LSM!$D$2:$D$370,"")} -> A | N12: {=_xlfn.XLOOKUP(1,(LSM!$A$2:$A$370=N$4)*(LSM!$T$2:$T$370=N$5)*(LSM!$B$2:$B$370=$E12),LSM!$C$2:$C$370,"")} -> 179.89 | O12: {=_xlfn.XLOOKUP(1,(LSM!$A$2:$A$370=N$4)*(LSM!$T$2:$T$370=N$5)*(LSM!$B$2:$B$370=$E12),LSM!$D$2:$D$370,"")} -> A | P12: {=_xlfn.XLOOKUP(1,(LSM!$A$2:$A$370=P$4)*(LSM!$T$2:$T$370=P$5)*(LSM!$B$2:$B$370=$E12),LSM!$C$2:$C$370,"")} -> 193.47 | Q12: {=_xlfn.XLOOKUP(1,(LSM!$A$2:$A$370=P$4)*(LSM!$T$2:$T$370=P$5)*(LSM!$B$2:$B$370=$E12),LSM!$D$2:$D$370,"")} -> A | R12: {=_xlfn.XLOOKUP(1,(LSM!$A$2:$A$370=R$4)*(LSM!$T$2:$T$370=R$5)*(LSM!$B$2:$B$370=$E12),LSM!$C$2:$C$370,"")} -> 262.86 | S12: {=_xlfn.XLOOKUP(1,(LSM!$A$2:$A$370=R$4)*(LSM!$T$2:$T$370=R$5)*(LSM!$B$2:$B$370=$E12),LSM!$D$2:$D$370,"")} -> A | T12: {=_xlfn.XLOOKUP(1,(LSM!$A$2:$A$370=T$4)*(LSM!$T$2:$T$370=T$5)*(LSM!$B$2:$B$370=$E12),LSM!$C$2:$C$370,"")} -> 256.86 | U12: {=_xlfn.XLOOKUP(1,(LSM!$A$2:$A$370=T$4)*(LSM!$T$2:$T$370=T$5)*(LSM!$B$2:$B$370=$E12),LSM!$D$2:$D$370,"")} -> D | V12: {=_xlfn.XLOOKUP(1,(LSM!$A$2:$A$370=V$4)*(LSM!$T$2:$T$370=V$5)*(LSM!$B$2:$B$370=$E12),LSM!$C$2:$C$370,"")} -> 220.51 | W12: {=_xlfn.XLOOKUP(1,(LSM!$A$2:$A$370=V$4)*(LSM!$T$2:$T$370=V$5)*(LSM!$B$2:$B$370=$E12),LSM!$D$2:$D$370,"")} -> A | X12: {=_xlfn.XLOOKUP(1,(LSM!$A$2:$A$370=X$4)*(LSM!$T$2:$T$370=X$5)*(LSM!$B$2:$B$370=$E12),LSM!$C$2:$C$370,"")} | Y12: {=_xlfn.XLOOKUP(1,(LSM!$A$2:$A$370=X$4)*(LSM!$T$2:$T$370=X$5)*(LSM!$B$2:$B$370=$E12),LSM!$D$2:$D$370,"")} | AA12: =IF(H12>H$15,1,0) -> 1 | AB12: =IF(J12>J$15,1,0) -> 0 | AC12: =IF(L12>L$15,1,0) -> 0 | AD12: =IF(N12>N$15,1,0) -> 1 | AE12: =IF(P12>P$15,1,0) -> 1 | AF12: =IF(R12>R$15,1,0) -> 0 | AG12: =IF(T12>T$15,1,0) -> 0 | AH12: =IF(V12>V$15,1,0) -> 0 | AJ12: =SUM(AA12:AI12)/COUNT(AA12:AI12) -> 0.375
A13: =VLOOKUP(E13,VL_2020,2,FALSE) -> Revere 116-P44 | B13: =VLOOKUP(E13,VL_2020,3,FALSE) -> RR | C13: =VLOOKUP(E13,VL_2020,4,FALSE) -> VT2P | D13: =AJ13 -> 0 | E13: C26023 | F13: {=_xlfn.XLOOKUP(1,(LSM!$A$2:$A$370=F$4)*(LSM!$T$2:$T$370=F$5)*(LSM!$B$2:$B$370=$E13),LSM!$C$2:$C$370,"")} -> 227.43 | G13: {=_xlfn.XLOOKUP(1,(LSM!$A$2:$A$370=F$4)*(LSM!$T$2:$T$370=F$5)*(LSM!$B$2:$B$370=$E13),LSM!$D$2:$D$370,"")} -> C | H13: {=_xlfn.XLOOKUP(1,(LSM!$A$2:$A$370=H$4)*(LSM!$T$2:$T$370=H$5)*(LSM!$B$2:$B$370=$E13),LSM!$C$2:$C$370,"")} -> 255.1 | I13: {=_xlfn.XLOOKUP(1,(LSM!$A$2:$A$370=H$4)*(LSM!$T$2:$T$370=H$5)*(LSM!$B$2:$B$370=$E13),LSM!$D$2:$D$370,"")} -> A | J13: {=_xlfn.XLOOKUP(1,(LSM!$A$2:$A$370=J$4)*(LSM!$T$2:$T$370=J$5)*(LSM!$B$2:$B$370=$E13),LSM!$C$2:$C$370,"")} -> 233.85 | K13: {=_xlfn.XLOOKUP(1,(LSM!$A$2:$A$370=J$4)*(LSM!$T$2:$T$370=J$5)*(LSM!$B$2:$B$370=$E13),LSM!$D$2:$D$370,"")} -> A | L13: {=_xlfn.XLOOKUP(1,(LSM!$A$2:$A$370=L$4)*(LSM!$T$2:$T$370=L$5)*(LSM!$B$2:$B$370=$E13),LSM!$C$2:$C$370,"")} -> 247.49 | M13: {=_xlfn.XLOOKUP(1,(LSM!$A$2:$A$370=L$4)*(LSM!$T$2:$T$370=L$5)*(LSM!$B$2:$B$370=$E13),LSM!$D$2:$D$370,"")} -> A | N13: {=_xlfn.XLOOKUP(1,(LSM!$A$2:$A$370=N$4)*(LSM!$T$2:$T$370=N$5)*(LSM!$B$2:$B$370=$E13),LSM!$C$2:$C$370,"")} -> 169.95 | O13: {=_xlfn.XLOOKUP(1,(LSM!$A$2:$A$370=N$4)*(LSM!$T$2:$T$370=N$5)*(LSM!$B$2:$B$370=$E13),LSM!$D$2:$D$370,"")} -> A | P13: {=_xlfn.XLOOKUP(1,(LSM!$A$2:$A$370=P$4)*(LSM!$T$2:$T$370=P$5)*(LSM!$B$2:$B$370=$E13),LSM!$C$2:$C$370,"")} -> 172.6 | Q13: {=_xlfn.XLOOKUP(1,(LSM!$A$2:$A$370=P$4)*(LSM!$T$2:$T$370=P$5)*(LSM!$B$2:$B$370=$E13),LSM!$D$2:$D$370,"")} -> A | R13: {=_xlfn.XLOOKUP(1,(LSM!$A$2:$A$370=R$4)*(LSM!$T$2:$T$370=R$5)*(LSM!$B$2:$B$370=$E13),LSM!$C$2:$C$370,"")} -> 261.48 | S13: {=_xlfn.XLOOKUP(1,(LSM!$A$2:$A$370=R$4)*(LSM!$T$2:$T$370=R$5)*(LSM!$B$2:$B$370=$E13),LSM!$D$2:$D$370,"")} -> A | T13: {=_xlfn.XLOOKUP(1,(LSM!$A$2:$A$370=T$4)*(LSM!$T$2:$T$370=T$5)*(LSM!$B$2:$B$370=$E13),LSM!$C$2:$C$370,"")} -> 266.38 | U13: {=_xlfn.XLOOKUP(1,(LSM!$A$2:$A$370=T$4)*(LSM!$T$2:$T$370=T$5)*(LSM!$B$2:$B$370=$E13),LSM!$D$2:$D$370,"")} -> CD | V13: {=_xlfn.XLOOKUP(1,(LSM!$A$2:$A$370=V$4)*(LSM!$T$2:$T$370=V$5)*(LSM!$B$2:$B$370=$E13),LSM!$C$2:$C$370,"")} -> 212.57 | W13: {=_xlfn.XLOOKUP(1,(LSM!$A$2:$A$370=V$4)*(LSM!$T$2:$T$370=V$5)*(LSM!$B$2:$B$370=$E13),LSM!$D$2:$D$370,"")} -> A | X13: {=_xlfn.XLOOKUP(1,(LSM!$A$2:$A$370=X$4)*(LSM!$T$2:$T$370=X$5)*(LSM!$B$2:$B$370=$E13),LSM!$C$2:$C$370,"")} | Y13: {=_xlfn.XLOOKUP(1,(LSM!$A$2:$A$370=X$4)*(LSM!$T$2:$T$370=X$5)*(LSM!$B$2:$B$370=$E13),LSM!$D$2:$D$370,"")} | AA13: =IF(H13>H$15,1,0) -> 0 | AB13: =IF(J13>J$15,1,0) -> 0 | AC13: =IF(L13>L$15,1,0) -> 0 | AD13: =IF(N13>N$15,1,0) -> 0 | AE13: =IF(P13>P$15,1,0) -> 0 | AF13: =IF(R13>R$15,1,0) -> 0 | AG13: =IF(T13>T$15,1,0) -> 0 | AH13: =IF(V13>V$15,1,0) -> 0 | AJ13: =SUM(AA13:AI13)/COUNT(AA13:AI13) -> 0
A14: =VLOOKUP(E14,VL_2020,2,FALSE) -> Dekalb DKC 114-99 | B14: =VLOOKUP(E14,VL_2020,3,FALSE) -> RR | C14: =VLOOKUP(E14,VL_2020,4,FALSE) -> VT4P | D14: =AJ14 -> 0.25 | E14: C25002 | F14: {=_xlfn.XLOOKUP(1,(LSM!$A$2:$A$370=F$4)*(LSM!$T$2:$T$370=F$5)*(LSM!$B$2:$B$370=$E14),LSM!$C$2:$C$370,"")} -> 226.1 | G14: {=_xlfn.XLOOKUP(1,(LSM!$A$2:$A$370=F$4)*(LSM!$T$2:$T$370=F$5)*(LSM!$B$2:$B$370=$E14),LSM!$D$2:$D$370,"")} -> C | H14: {=_xlfn.XLOOKUP(1,(LSM!$A$2:$A$370=H$4)*(LSM!$T$2:$T$370=H$5)*(LSM!$B$2:$B$370=$E14),LSM!$C$2:$C$370,"")} -> 248.73 | I14: {=_xlfn.XLOOKUP(1,(LSM!$A$2:$A$370=H$4)*(LSM!$T$2:$T$370=H$5)*(LSM!$B$2:$B$370=$E14),LSM!$D$2:$D$370,"")} -> A | J14: {=_xlfn.XLOOKUP(1,(LSM!$A$2:$A$370=J$4)*(LSM!$T$2:$T$370=J$5)*(LSM!$B$2:$B$370=$E14),LSM!$C$2:$C$370,"")} -> 251.5 | K14: {=_xlfn.XLOOKUP(1,(LSM!$A$2:$A$370=J$4)*(LSM!$T$2:$T$370=J$5)*(LSM!$B$2:$B$370=$E14),LSM!$D$2:$D$370,"")} -> A | L14: {=_xlfn.XLOOKUP(1,(LSM!$A$2:$A$370=L$4)*(LSM!$T$2:$T$370=L$5)*(LSM!$B$2:$B$370=$E14),LSM!$C$2:$C$370,"")} -> 261.77 | M14: {=_xlfn.XLOOKUP(1,(LSM!$A$2:$A$370=L$4)*(LSM!$T$2:$T$370=L$5)*(LSM!$B$2:$B$370=$E14),LSM!$D$2:$D$370,"")} -> A | N14: {=_xlfn.XLOOKUP(1,(LSM!$A$2:$A$370=N$4)*(LSM!$T$2:$T$370=N$5)*(LSM!$B$2:$B$370=$E14),LSM!$C$2:$C$370,"")} -> 178.93 | O14: {=_xlfn.XLOOKUP(1,(LSM!$A$2:$A$370=N$4)*(LSM!$T$2:$T$370=N$5)*(LSM!$B$2:$B$370=$E14),LSM!$D$2:$D$370,"")} -> A | P14: {=_xlfn.XLOOKUP(1,(LSM!$A$2:$A$370=P$4)*(LSM!$T$2:$T$370=P$5)*(LSM!$B$2:$B$370=$E14),LSM!$C$2:$C$370,"")} -> 167.96 | Q14: {=_xlfn.XLOOKUP(1,(LSM!$A$2:$A$370=P$4)*(LSM!$T$2:$T$370=P$5)*(LSM!$B$2:$B$370=$E14),LSM!$D$2:$D$370,"")} -> A | R14: {=_xlfn.XLOOKUP(1,(LSM!$A$2:$A$370=R$4)*(LSM!$T$2:$T$370=R$5)*(LSM!$B$2:$B$370=$E14),LSM!$C$2:$C$370,"")} -> 244.41 | S14: {=_xlfn.XLOOKUP(1,(LSM!$A$2:$A$370=R$4)*(LSM!$T$2:$T$370=R$5)*(LSM!$B$2:$B$370=$E14),LSM!$D$2:$D$370,"")} -> A | T14: {=_xlfn.XLOOKUP(1,(LSM!$A$2:$A$370=T$4)*(LSM!$T$2:$T$370=T$5)*(LSM!$B$2:$B$370=$E14),LSM!$C$2:$C$370,"")} -> 253.74 | U14: {=_xlfn.XLOOKUP(1,(LSM!$A$2:$A$370=T$4)*(LSM!$T$2:$T$370=T$5)*(LSM!$B$2:$B$370=$E14),LSM!$D$2:$D$370,"")} -> D | V14: {=_xlfn.XLOOKUP(1,(LSM!$A$2:$A$370=V$4)*(LSM!$T$2:$T$370=V$5)*(LSM!$B$2:$B$370=$E14),LSM!$C$2:$C$370,"")} -> 208.12 | W14: {=_xlfn.XLOOKUP(1,(LSM!$A$2:$A$370=V$4)*(LSM!$T$2:$T$370=V$5)*(LSM!$B$2:$B$370=$E14),LSM!$D$2:$D$370,"")} -> A | X14: {=_xlfn.XLOOKUP(1,(LSM!$A$2:$A$370=X$4)*(LSM!$T$2:$T$370=X$5)*(LSM!$B$2:$B$370=$E14),LSM!$C$2:$C$370,"")} | Y14: {=_xlfn.XLOOKUP(1,(LSM!$A$2:$A$370=X$4)*(LSM!$T$2:$T$370=X$5)*(LSM!$B$2:$B$370=$E14),LSM!$D$2:$D$370,"")} | AA14: =IF(H14>H$15,1,0) -> 0 | AB14: =IF(J14>J$15,1,0) -> 0 | AC14: =IF(L14>L$15,1,0) -> 1 | AD14: =IF(N14>N$15,1,0) -> 1 | AE14: =IF(P14>P$15,1,0) -> 0 | AF14: =IF(R14>R$15,1,0) -> 0 | AG14: =IF(T14>T$15,1,0) -> 0 | AH14: =IF(V14>V$15,1,0) -> 0 | AJ14: =SUM(AA14:AI14)/COUNT(AA14:AI14) -> 0.25
A15: Average | F15: {=_xlfn.XLOOKUP(1,(ANOVA!$L$2:$L$160=F$4)*(ANOVA!$Q$2:$Q$401=F$5)*(ANOVA!$M$2:$M$401=F$3),ANOVA!$A$2:$A$401,"")} -> 239.77 | H15: {=_xlfn.XLOOKUP(1,(ANOVA!$L$2:$L$160=H$4)*(ANOVA!$Q$2:$Q$401=H$5)*(ANOVA!$M$2:$M$401=H$3),ANOVA!$A$2:$A$401,"")} -> 267.71 | J15: {=_xlfn.XLOOKUP(1,(ANOVA!$L$2:$L$160=J$4)*(ANOVA!$Q$2:$Q$401=J$5)*(ANOVA!$M$2:$M$401=J$3),ANOVA!$A$2:$A$401,"")} -> 258.75 | L15: {=_xlfn.XLOOKUP(1,(ANOVA!$L$2:$L$160=L$4)*(ANOVA!$Q$2:$Q$401=L$5)*(ANOVA!$M$2:$M$401=L$3),ANOVA!$A$2:$A$401,"")} -> 258.02 | N15: {=_xlfn.XLOOKUP(1,(ANOVA!$L$2:$L$160=N$4)*(ANOVA!$Q$2:$Q$401=N$5)*(ANOVA!$M$2:$M$401=N$3),ANOVA!$A$2:$A$401,"")} -> 176.84 | P15: {=_xlfn.XLOOKUP(1,(ANOVA!$L$2:$L$160=P$4)*(ANOVA!$Q$2:$Q$401=P$5)*(ANOVA!$M$2:$M$401=P$3),ANOVA!$A$2:$A$401,"")} -> 189.42 | R15: {=_xlfn.XLOOKUP(1,(ANOVA!$L$2:$L$160=R$4)*(ANOVA!$Q$2:$Q$401=R$5)*(ANOVA!$M$2:$M$401=R$3),ANOVA!$A$2:$A$401,"")} -> 264.14 | T15: {=_xlfn.XLOOKUP(1,(ANOVA!$L$2:$L$160=T$4)*(ANOVA!$Q$2:$Q$401=T$5)*(ANOVA!$M$2:$M$401=T$3),ANOVA!$A$2:$A$401,"")} -> 275.01 | V15: {=_xlfn.XLOOKUP(1,(ANOVA!$L$2:$L$160=V$4)*(ANOVA!$Q$2:$Q$401=V$5)*(ANOVA!$M$2:$M$401=V$3),ANOVA!$A$2:$A$401,"")} -> 229.59 | X15: {=_xlfn.XLOOKUP(1,(ANOVA!$L$2:$L$160=X$4)*(ANOVA!$Q$2:$Q$401=X$5)*(ANOVA!$M$2:$M$401=X$3),ANOVA!$A$2:$A$401,"")}
A16: Standard Error | F16: {=_xlfn.XLOOKUP(1,(ANOVA!$L$2:$L$160=F$4)*(ANOVA!$Q$2:$Q$401=F$5)*(ANOVA!$M$2:$M$401=F$3),ANOVA!$B$2:$B$401,"")} -> 14.0721 | H16: {=_xlfn.XLOOKUP(1,(ANOVA!$L$2:$L$160=H$4)*(ANOVA!$Q$2:$Q$401=H$5)*(ANOVA!$M$2:$M$401=H$3),ANOVA!$B$2:$B$401,"")} -> 9.8928 | J16: {=_xlfn.XLOOKUP(1,(ANOVA!$L$2:$L$160=J$4)*(ANOVA!$Q$2:$Q$401=J$5)*(ANOVA!$M$2:$M$401=J$3),ANOVA!$B$2:$B$401,"")} -> 22.1313 | L16: {=_xlfn.XLOOKUP(1,(ANOVA!$L$2:$L$160=L$4)*(ANOVA!$Q$2:$Q$401=L$5)*(ANOVA!$M$2:$M$401=L$3),ANOVA!$B$2:$B$401,"")} -> 19.3409 | N16: {=_xlfn.XLOOKUP(1,(ANOVA!$L$2:$L$160=N$4)*(ANOVA!$Q$2:$Q$401=N$5)*(ANOVA!$M$2:$M$401=N$3),ANOVA!$B$2:$B$401,"")} -> 15.1618 | P16: {=_xlfn.XLOOKUP(1,(ANOVA!$L$2:$L$160=P$4)*(ANOVA!$Q$2:$Q$401=P$5)*(ANOVA!$M$2:$M$401=P$3),ANOVA!$B$2:$B$401,"")} -> 15.4446 | R16: {=_xlfn.XLOOKUP(1,(ANOVA!$L$2:$L$160=R$4)*(ANOVA!$Q$2:$Q$401=R$5)*(ANOVA!$M$2:$M$401=R$3),ANOVA!$B$2:$B$401,"")} -> 11.7151 | T16: {=_xlfn.XLOOKUP(1,(ANOVA!$L$2:$L$160=T$4)*(ANOVA!$Q$2:$Q$401=T$5)*(ANOVA!$M$2:$M$401=T$3),ANOVA!$B$2:$B$401,"")} -> 6.1365 | V16: {=_xlfn.XLOOKUP(1,(ANOVA!$L$2:$L$160=V$4)*(ANOVA!$Q$2:$Q$401=V$5)*(ANOVA!$M$2:$M$401=V$3),ANOVA!$B$2:$B$401,"")} -> 13.2144 | X16: {=_xlfn.XLOOKUP(1,(ANOVA!$L$2:$L$160=X$4)*(ANOVA!$Q$2:$Q$401=X$5)*(ANOVA!$M$2:$M$401=X$3),ANOVA!$B$2:$B$401,"")}
A17: L.S.D..05 | F17: {=_xlfn.XLOOKUP(1,(ANOVA!$L$2:$L$160=F$4)*(ANOVA!$Q$2:$Q$401=F$5)*(ANOVA!$M$2:$M$401=F$3),ANOVA!$C$2:$C$401,"")} -> 13.3 | H17: {=_xlfn.XLOOKUP(1,(ANOVA!$L$2:$L$160=H$4)*(ANOVA!$Q$2:$Q$401=H$5)*(ANOVA!$M$2:$M$401=H$3),ANOVA!$C$2:$C$401,"")} -> N.S. | J17: {=_xlfn.XLOOKUP(1,(ANOVA!$L$2:$L$160=J$4)*(ANOVA!$Q$2:$Q$401=J$5)*(ANOVA!$M$2:$M$401=J$3),ANOVA!$C$2:$C$401,"")} -> N.S. | L17: {=_xlfn.XLOOKUP(1,(ANOVA!$L$2:$L$160=L$4)*(ANOVA!$Q$2:$Q$401=L$5)*(ANOVA!$M$2:$M$401=L$3),ANOVA!$C$2:$C$401,"")} -> N.S. | N17: {=_xlfn.XLOOKUP(1,(ANOVA!$L$2:$L$160=N$4)*(ANOVA!$Q$2:$Q$401=N$5)*(ANOVA!$M$2:$M$401=N$3),ANOVA!$C$2:$C$401,"")} -> N.S. | P17: {=_xlfn.XLOOKUP(1,(ANOVA!$L$2:$L$160=P$4)*(ANOVA!$Q$2:$Q$401=P$5)*(ANOVA!$M$2:$M$401=P$3),ANOVA!$C$2:$C$401,"")} -> N.S. | R17: {=_xlfn.XLOOKUP(1,(ANOVA!$L$2:$L$160=R$4)*(ANOVA!$Q$2:$Q$401=R$5)*(ANOVA!$M$2:$M$401=R$3),ANOVA!$C$2:$C$401,"")} -> N.S. | T17: {=_xlfn.XLOOKUP(1,(ANOVA!$L$2:$L$160=T$4)*(ANOVA!$Q$2:$Q$401=T$5)*(ANOVA!$M$2:$M$401=T$3),ANOVA!$C$2:$C$401,"")} -> 18.4 | V17: {=_xlfn.XLOOKUP(1,(ANOVA!$L$2:$L$160=V$4)*(ANOVA!$Q$2:$Q$401=V$5)*(ANOVA!$M$2:$M$401=V$3),ANOVA!$C$2:$C$401,"")} -> N.S. | X17: {=_xlfn.XLOOKUP(1,(ANOVA!$L$2:$L$160=X$4)*(ANOVA!$Q$2:$Q$401=X$5)*(ANOVA!$M$2:$M$401=X$3),ANOVA!$C$2:$C$401,"")}
A18: C.V. | F18: {=_xlfn.XLOOKUP(1,(ANOVA!$L$2:$L$160=F$4)*(ANOVA!$Q$2:$Q$401=F$5)*(ANOVA!$M$2:$M$401=F$3),ANOVA!$D$2:$D$401,"")} -> 9.5912608 | H18: {=_xlfn.XLOOKUP(1,(ANOVA!$L$2:$L$160=H$4)*(ANOVA!$Q$2:$Q$401=H$5)*(ANOVA!$M$2:$M$401=H$3),ANOVA!$D$2:$D$401,"")} -> 6.4004896 | J18: {=_xlfn.XLOOKUP(1,(ANOVA!$L$2:$L$160=J$4)*(ANOVA!$Q$2:$Q$401=J$5)*(ANOVA!$M$2:$M$401=J$3),ANOVA!$D$2:$D$401,"")} -> 13.16876 | L18: {=_xlfn.XLOOKUP(1,(ANOVA!$L$2:$L$160=L$4)*(ANOVA!$Q$2:$Q$401=L$5)*(ANOVA!$M$2:$M$401=L$3),ANOVA!$D$2:$D$401,"")} -> 9.2523073 | N18: {=_xlfn.XLOOKUP(1,(ANOVA!$L$2:$L$160=N$4)*(ANOVA!$Q$2:$Q$401=N$5)*(ANOVA!$M$2:$M$401=N$3),ANOVA!$D$2:$D$401,"")} -> 14.318311 | P18: {=_xlfn.XLOOKUP(1,(ANOVA!$L$2:$L$160=P$4)*(ANOVA!$Q$2:$Q$401=P$5)*(ANOVA!$M$2:$M$401=P$3),ANOVA!$D$2:$D$401,"")} -> 14.122372 | R18: {=_xlfn.XLOOKUP(1,(ANOVA!$L$2:$L$160=R$4)*(ANOVA!$Q$2:$Q$401=R$5)*(ANOVA!$M$2:$M$401=R$3),ANOVA!$D$2:$D$401,"")} -> 4.9332945 | T18: {=_xlfn.XLOOKUP(1,(ANOVA!$L$2:$L$160=T$4)*(ANOVA!$Q$2:$Q$401=T$5)*(ANOVA!$M$2:$M$401=T$3),ANOVA!$D$2:$D$401,"")} -> 3.8648719 | V18: {=_xlfn.XLOOKUP(1,(ANOVA!$L$2:$L$160=V$4)*(ANOVA!$Q$2:$Q$401=V$5)*(ANOVA!$M$2:$M$401=V$3),ANOVA!$D$2:$D$401,"")} -> 9.9689764 | X18: {=_xlfn.XLOOKUP(1,(ANOVA!$L$2:$L$160=X$4)*(ANOVA!$Q$2:$Q$401=X$5)*(ANOVA!$M$2:$M$401=X$3),ANOVA!$D$2:$D$401,"")}
F19: 8 | H19: 7 | J19: 7 | L19: 7 | N19: 7 | R19: 7 | T19: 7 | V19: 7 | X19: 7
F29: =#REF! -> #REF! | G29: ='Early Corn Avg'!#REF! -> #REF! | H29: =#REF! -> #REF! | I29: =#REF! -> #REF! | J29: =#REF! -> #REF! | K29: =#REF! -> #REF! | L29: =#REF! -> #REF! | M29: =#REF! -> #REF! | N29: =#REF! -> #REF! | O29: =#REF! -> #REF! | ... Y29: =#REF! -> #REF!

Sheet Full Corn Avg
A1: Table 12. Mean yield and agronomic traits of 11 full-season (>116 DAP) corn hybrids evaluated in small plot replicated trials at eight AgResearch and Education Center locations in Tennessee during 2026.
A2: Hybrid† | B2: Herbicide Pkg‡ | C2: Insect Pkg.‡ | E2: Avg. Yield§ (bu/ac) | G2: Moisture at Harvest (%) | I2: Test Weight (lbs/bu) | K2: Plant Height (in.) | M2: Ear Height (in.) | O2: Lodging¶ (%) | P2: Protein‖ (%) | R2: Oil‖ (%) | T2: Starch‖ (%)
E3: YLD_1 | G3: MST_1 | I3: TW_1 | K3: PHGT_1 | M3: EHGT_1 | O3: Lodg_1 | P3: Prot_1 | R3: Oil_1 | T3: Star_1
E4: A | G4: A | I4: A | K4: A | M4: A | O4: A | P4: A | R4: A | T4: A
E5: Full | G5: Full | I5: Full | K5: Full | M5: Full | O5: Full | P5: Full | R5: Full | T5: Full
A6: =VLOOKUP(D6,VL_2020,2,FALSE) -> Revere 1839 | B6: =VLOOKUP(D6,VL_2020,3,FALSE) -> RR | C6: =VLOOKUP(D6,VL_2020,4,FALSE) -> TRE | D6: C26024 | E6: {=_xlfn.XLOOKUP(1,(LSM!$A$2:$A$370=E$4)*(LSM!$T$2:$T$370=E$5)*(LSM!$B$2:$B$370=$D6),LSM!$C$2:$C$370,"")} -> 251.36 | F6: {=_xlfn.XLOOKUP(1,(LSM!$A$2:$A$370=E$4)*(LSM!$T$2:$T$370=E$5)*(LSM!$B$2:$B$370=$D6),LSM!$D$2:$D$370,"")} -> A | G6: {=_xlfn.XLOOKUP(1,(LSM!$A$2:$A$370=G$4)*(LSM!$T$2:$T$370=G$5)*(LSM!$B$2:$B$370=$D6),LSM!$E$2:$E$370,"")} -> 15.8604 | H6: {=_xlfn.XLOOKUP(1,(LSM!$A$2:$A$370=G$4)*(LSM!$T$2:$T$370=G$5)*(LSM!$B$2:$B$370=$D6),LSM!$F$2:$F$370,"")} -> AB | I6: {=_xlfn.XLOOKUP(1,(LSM!$A$2:$A$370=I$4)*(LSM!$T$2:$T$370=I$5)*(LSM!$B$2:$B$370=$D6),LSM!$L$2:$L$370,"")} -> 58.2056 | J6: {=_xlfn.XLOOKUP(1,(LSM!$A$2:$A$370=I$4)*(LSM!$T$2:$T$370=I$5)*(LSM!$B$2:$B$370=$D6),LSM!$M$2:$M$370,"")} -> F | K6: {=_xlfn.XLOOKUP(1,(LSM!$A$2:$A$370=K$4)*(LSM!$T$2:$T$370=K$5)*(LSM!$B$2:$B$370=$D6),LSM!$G$2:$G$370,"")} -> 105.65 | L6: {=_xlfn.XLOOKUP(1,(LSM!$A$2:$A$370=K$4)*(LSM!$T$2:$T$370=K$5)*(LSM!$B$2:$B$370=$D6),LSM!$H$2:$H$370,"")} -> AB | M6: {=_xlfn.XLOOKUP(1,(LSM!$A$2:$A$370=M$4)*(LSM!$T$2:$T$370=M$5)*(LSM!$B$2:$B$370=$D6),LSM!$I$2:$I$370,"")} -> 49.2222 | N6: {=_xlfn.XLOOKUP(1,(LSM!$A$2:$A$370=M$4)*(LSM!$T$2:$T$370=M$5)*(LSM!$B$2:$B$370=$D6),LSM!$J$2:$J$370,"")} -> AB | O6: {=_xlfn.XLOOKUP(1,(LSM!$A$2:$A$370=O$4)*(LSM!$T$2:$T$370=O$5)*(LSM!$B$2:$B$370=$D6),LSM!$K$2:$K$370,"")} -> 0.085910653 | P6: {=_xlfn.XLOOKUP(1,(LSM!$A$2:$A$370=P$4)*(LSM!$T$2:$T$370=P$5)*(LSM!$B$2:$B$370=$D6),LSM!$N$2:$N$370,"")} -> 10.4065 | Q6: {=_xlfn.XLOOKUP(1,(LSM!$A$2:$A$370=P$4)*(LSM!$T$2:$T$370=P$5)*(LSM!$B$2:$B$370=$D6),LSM!$O$2:$O$370,"")} -> A | R6: {=_xlfn.XLOOKUP(1,(LSM!$A$2:$A$370=R$4)*(LSM!$T$2:$T$370=R$5)*(LSM!$B$2:$B$370=$D6),LSM!$P$2:$P$370,"")} -> 4.5427 | S6: {=_xlfn.XLOOKUP(1,(LSM!$A$2:$A$370=R$4)*(LSM!$T$2:$T$370=R$5)*(LSM!$B$2:$B$370=$D6),LSM!$Q$2:$Q$370,"")} -> A | T6: {=_xlfn.XLOOKUP(1,(LSM!$A$2:$A$370=T$4)*(LSM!$T$2:$T$370=T$5)*(LSM!$B$2:$B$370=$D6),LSM!$R$2:$R$370,"")} -> 85.6019 | U6: {=_xlfn.XLOOKUP(1,(LSM!$A$2:$A$370=T$4)*(LSM!$T$2:$T$370=T$5)*(LSM!$B$2:$B$370=$D6),LSM!$S$2:$S$370,"")} -> BC
A7: =VLOOKUP(D7,VL_2020,2,FALSE) -> Gateway 3919TRE | B7: =VLOOKUP(D7,VL_2020,3,FALSE) -> RR | C7: =VLOOKUP(D7,VL_2020,4,FALSE) -> TRE | D7: C26012 | E7: {=_xlfn.XLOOKUP(1,(LSM!$A$2:$A$370=E$4)*(LSM!$T$2:$T$370=E$5)*(LSM!$B$2:$B$370=$D7),LSM!$C$2:$C$370,"")} -> 246.64 | F7: {=_xlfn.XLOOKUP(1,(LSM!$A$2:$A$370=E$4)*(LSM!$T$2:$T$370=E$5)*(LSM!$B$2:$B$370=$D7),LSM!$D$2:$D$370,"")} -> AB | G7: {=_xlfn.XLOOKUP(1,(LSM!$A$2:$A$370=G$4)*(LSM!$T$2:$T$370=G$5)*(LSM!$B$2:$B$370=$D7),LSM!$E$2:$E$370,"")} -> 15.5962 | H7: {=_xlfn.XLOOKUP(1,(LSM!$A$2:$A$370=G$4)*(LSM!$T$2:$T$370=G$5)*(LSM!$B$2:$B$370=$D7),LSM!$F$2:$F$370,"")} -> B | I7: {=_xlfn.XLOOKUP(1,(LSM!$A$2:$A$370=I$4)*(LSM!$T$2:$T$370=I$5)*(LSM!$B$2:$B$370=$D7),LSM!$L$2:$L$370,"")} -> 58.0944 | J7: {=_xlfn.XLOOKUP(1,(LSM!$A$2:$A$370=I$4)*(LSM!$T$2:$T$370=I$5)*(LSM!$B$2:$B$370=$D7),LSM!$M$2:$M$370,"")} -> F | K7: {=_xlfn.XLOOKUP(1,(LSM!$A$2:$A$370=K$4)*(LSM!$T$2:$T$370=K$5)*(LSM!$B$2:$B$370=$D7),LSM!$G$2:$G$370,"")} -> 106.35 | L7: {=_xlfn.XLOOKUP(1,(LSM!$A$2:$A$370=K$4)*(LSM!$T$2:$T$370=K$5)*(LSM!$B$2:$B$370=$D7),LSM!$H$2:$H$370,"")} -> AB | M7: {=_xlfn.XLOOKUP(1,(LSM!$A$2:$A$370=M$4)*(LSM!$T$2:$T$370=M$5)*(LSM!$B$2:$B$370=$D7),LSM!$I$2:$I$370,"")} -> 48.6667 | N7: {=_xlfn.XLOOKUP(1,(LSM!$A$2:$A$370=M$4)*(LSM!$T$2:$T$370=M$5)*(LSM!$B$2:$B$370=$D7),LSM!$J$2:$J$370,"")} -> A-C | O7: {=_xlfn.XLOOKUP(1,(LSM!$A$2:$A$370=O$4)*(LSM!$T$2:$T$370=O$5)*(LSM!$B$2:$B$370=$D7),LSM!$K$2:$K$370,"")} -> 0.1561481 | P7: {=_xlfn.XLOOKUP(1,(LSM!$A$2:$A$370=P$4)*(LSM!$T$2:$T$370=P$5)*(LSM!$B$2:$B$370=$D7),LSM!$N$2:$N$370,"")} -> 10.7692 | Q7: {=_xlfn.XLOOKUP(1,(LSM!$A$2:$A$370=P$4)*(LSM!$T$2:$T$370=P$5)*(LSM!$B$2:$B$370=$D7),LSM!$O$2:$O$370,"")} -> A | R7: {=_xlfn.XLOOKUP(1,(LSM!$A$2:$A$370=R$4)*(LSM!$T$2:$T$370=R$5)*(LSM!$B$2:$B$370=$D7),LSM!$P$2:$P$370,"")} -> 4.4402 | S7: {=_xlfn.XLOOKUP(1,(LSM!$A$2:$A$370=R$4)*(LSM!$T$2:$T$370=R$5)*(LSM!$B$2:$B$370=$D7),LSM!$Q$2:$Q$370,"")} -> A | T7: {=_xlfn.XLOOKUP(1,(LSM!$A$2:$A$370=T$4)*(LSM!$T$2:$T$370=T$5)*(LSM!$B$2:$B$370=$D7),LSM!$R$2:$R$370,"")} -> 85.8188 | U7: {=_xlfn.XLOOKUP(1,(LSM!$A$2:$A$370=T$4)*(LSM!$T$2:$T$370=T$5)*(LSM!$B$2:$B$370=$D7),LSM!$S$2:$S$370,"")} -> A-C
A8: =VLOOKUP(D8,VL_2020,2,FALSE) -> Innvictis A1993T | B8: =VLOOKUP(D8,VL_2020,3,FALSE) -> RR | C8: =VLOOKUP(D8,VL_2020,4,FALSE) -> TRE | D8: C24012 | E8: {=_xlfn.XLOOKUP(1,(LSM!$A$2:$A$370=E$4)*(LSM!$T$2:$T$370=E$5)*(LSM!$B$2:$B$370=$D8),LSM!$C$2:$C$370,"")} -> 245.92 | F8: {=_xlfn.XLOOKUP(1,(LSM!$A$2:$A$370=E$4)*(LSM!$T$2:$T$370=E$5)*(LSM!$B$2:$B$370=$D8),LSM!$D$2:$D$370,"")} -> AB | G8: {=_xlfn.XLOOKUP(1,(LSM!$A$2:$A$370=G$4)*(LSM!$T$2:$T$370=G$5)*(LSM!$B$2:$B$370=$D8),LSM!$E$2:$E$370,"")} -> 15.7129 | H8: {=_xlfn.XLOOKUP(1,(LSM!$A$2:$A$370=G$4)*(LSM!$T$2:$T$370=G$5)*(LSM!$B$2:$B$370=$D8),LSM!$F$2:$F$370,"")} -> B | I8: {=_xlfn.XLOOKUP(1,(LSM!$A$2:$A$370=I$4)*(LSM!$T$2:$T$370=I$5)*(LSM!$B$2:$B$370=$D8),LSM!$L$2:$L$370,"")} -> 58.3778 | J8: {=_xlfn.XLOOKUP(1,(LSM!$A$2:$A$370=I$4)*(LSM!$T$2:$T$370=I$5)*(LSM!$B$2:$B$370=$D8),LSM!$M$2:$M$370,"")} -> EF | K8: {=_xlfn.XLOOKUP(1,(LSM!$A$2:$A$370=K$4)*(LSM!$T$2:$T$370=K$5)*(LSM!$B$2:$B$370=$D8),LSM!$G$2:$G$370,"")} -> 103.87 | L8: {=_xlfn.XLOOKUP(1,(LSM!$A$2:$A$370=K$4)*(LSM!$T$2:$T$370=K$5)*(LSM!$B$2:$B$370=$D8),LSM!$H$2:$H$370,"")} -> A-C | M8: {=_xlfn.XLOOKUP(1,(LSM!$A$2:$A$370=M$4)*(LSM!$T$2:$T$370=M$5)*(LSM!$B$2:$B$370=$D8),LSM!$I$2:$I$370,"")} -> 48.3333 | N8: {=_xlfn.XLOOKUP(1,(LSM!$A$2:$A$370=M$4)*(LSM!$T$2:$T$370=M$5)*(LSM!$B$2:$B$370=$D8),LSM!$J$2:$J$370,"")} -> A-C | O8: {=_xlfn.XLOOKUP(1,(LSM!$A$2:$A$370=O$4)*(LSM!$T$2:$T$370=O$5)*(LSM!$B$2:$B$370=$D8),LSM!$K$2:$K$370,"")} -> 0 | P8: {=_xlfn.XLOOKUP(1,(LSM!$A$2:$A$370=P$4)*(LSM!$T$2:$T$370=P$5)*(LSM!$B$2:$B$370=$D8),LSM!$N$2:$N$370,"")} -> 10.5326 | Q8: {=_xlfn.XLOOKUP(1,(LSM!$A$2:$A$370=P$4)*(LSM!$T$2:$T$370=P$5)*(LSM!$B$2:$B$370=$D8),LSM!$O$2:$O$370,"")} -> A | R8: {=_xlfn.XLOOKUP(1,(LSM!$A$2:$A$370=R$4)*(LSM!$T$2:$T$370=R$5)*(LSM!$B$2:$B$370=$D8),LSM!$P$2:$P$370,"")} -> 4.4678 | S8: {=_xlfn.XLOOKUP(1,(LSM!$A$2:$A$370=R$4)*(LSM!$T$2:$T$370=R$5)*(LSM!$B$2:$B$370=$D8),LSM!$Q$2:$Q$370,"")} -> A | T8: {=_xlfn.XLOOKUP(1,(LSM!$A$2:$A$370=T$4)*(LSM!$T$2:$T$370=T$5)*(LSM!$B$2:$B$370=$D8),LSM!$R$2:$R$370,"")} -> 85.1484 | U8: {=_xlfn.XLOOKUP(1,(LSM!$A$2:$A$370=T$4)*(LSM!$T$2:$T$370=T$5)*(LSM!$B$2:$B$370=$D8),LSM!$S$2:$S$370,"")} -> B-D
A9: =VLOOKUP(D9,VL_2020,2,FALSE) -> Dyna-Gro D60TC45RIB | B9: =VLOOKUP(D9,VL_2020,3,FALSE) -> RR | C9: =VLOOKUP(D9,VL_2020,4,FALSE) -> TRE | D9: C25024 | E9: {=_xlfn.XLOOKUP(1,(LSM!$A$2:$A$370=E$4)*(LSM!$T$2:$T$370=E$5)*(LSM!$B$2:$B$370=$D9),LSM!$C$2:$C$370,"")} -> 245.33 | F9: {=_xlfn.XLOOKUP(1,(LSM!$A$2:$A$370=E$4)*(LSM!$T$2:$T$370=E$5)*(LSM!$B$2:$B$370=$D9),LSM!$D$2:$D$370,"")} -> A-C | G9: {=_xlfn.XLOOKUP(1,(LSM!$A$2:$A$370=G$4)*(LSM!$T$2:$T$370=G$5)*(LSM!$B$2:$B$370=$D9),LSM!$E$2:$E$370,"")} -> 15.8058 | H9: {=_xlfn.XLOOKUP(1,(LSM!$A$2:$A$370=G$4)*(LSM!$T$2:$T$370=G$5)*(LSM!$B$2:$B$370=$D9),LSM!$F$2:$F$370,"")} -> B | I9: {=_xlfn.XLOOKUP(1,(LSM!$A$2:$A$370=I$4)*(LSM!$T$2:$T$370=I$5)*(LSM!$B$2:$B$370=$D9),LSM!$L$2:$L$370,"")} -> 58.5389 | J9: {=_xlfn.XLOOKUP(1,(LSM!$A$2:$A$370=I$4)*(LSM!$T$2:$T$370=I$5)*(LSM!$B$2:$B$370=$D9),LSM!$M$2:$M$370,"")} -> D-F | K9: {=_xlfn.XLOOKUP(1,(LSM!$A$2:$A$370=K$4)*(LSM!$T$2:$T$370=K$5)*(LSM!$B$2:$B$370=$D9),LSM!$G$2:$G$370,"")} -> 105.76 | L9: {=_xlfn.XLOOKUP(1,(LSM!$A$2:$A$370=K$4)*(LSM!$T$2:$T$370=K$5)*(LSM!$B$2:$B$370=$D9),LSM!$H$2:$H$370,"")} -> AB | M9: {=_xlfn.XLOOKUP(1,(LSM!$A$2:$A$370=M$4)*(LSM!$T$2:$T$370=M$5)*(LSM!$B$2:$B$370=$D9),LSM!$I$2:$I$370,"")} -> 49.2407 | N9: {=_xlfn.XLOOKUP(1,(LSM!$A$2:$A$370=M$4)*(LSM!$T$2:$T$370=M$5)*(LSM!$B$2:$B$370=$D9),LSM!$J$2:$J$370,"")} -> A | O9: {=_xlfn.XLOOKUP(1,(LSM!$A$2:$A$370=O$4)*(LSM!$T$2:$T$370=O$5)*(LSM!$B$2:$B$370=$D9),LSM!$K$2:$K$370,"")} -> 0 | P9: {=_xlfn.XLOOKUP(1,(LSM!$A$2:$A$370=P$4)*(LSM!$T$2:$T$370=P$5)*(LSM!$B$2:$B$370=$D9),LSM!$N$2:$N$370,"")} -> 10.8402 | Q9: {=_xlfn.XLOOKUP(1,(LSM!$A$2:$A$370=P$4)*(LSM!$T$2:$T$370=P$5)*(LSM!$B$2:$B$370=$D9),LSM!$O$2:$O$370,"")} -> A | R9: {=_xlfn.XLOOKUP(1,(LSM!$A$2:$A$370=R$4)*(LSM!$T$2:$T$370=R$5)*(LSM!$B$2:$B$370=$D9),LSM!$P$2:$P$370,"")} -> 4.4402 | S9: {=_xlfn.XLOOKUP(1,(LSM!$A$2:$A$370=R$4)*(LSM!$T$2:$T$370=R$5)*(LSM!$B$2:$B$370=$D9),LSM!$Q$2:$Q$370,"")} -> A | T9: {=_xlfn.XLOOKUP(1,(LSM!$A$2:$A$370=T$4)*(LSM!$T$2:$T$370=T$5)*(LSM!$B$2:$B$370=$D9),LSM!$R$2:$R$370,"")} -> 85.4126 | U9: {=_xlfn.XLOOKUP(1,(LSM!$A$2:$A$370=T$4)*(LSM!$T$2:$T$370=T$5)*(LSM!$B$2:$B$370=$D9),LSM!$S$2:$S$370,"")} -> B-D
A10: =VLOOKUP(D10,VL_2020,2,FALSE) -> Dekalb DKC68-35 | B10: =VLOOKUP(D10,VL_2020,3,FALSE) -> RR | C10: =VLOOKUP(D10,VL_2020,4,FALSE) -> GENVT2P | D10: C26003 | E10: {=_xlfn.XLOOKUP(1,(LSM!$A$2:$A$370=E$4)*(LSM!$T$2:$T$370=E$5)*(LSM!$B$2:$B$370=$D10),LSM!$C$2:$C$370,"")} -> 242.8 | F10: {=_xlfn.XLOOKUP(1,(LSM!$A$2:$A$370=E$4)*(LSM!$T$2:$T$370=E$5)*(LSM!$B$2:$B$370=$D10),LSM!$D$2:$D$370,"")} -> A-C | G10: {=_xlfn.XLOOKUP(1,(LSM!$A$2:$A$370=G$4)*(LSM!$T$2:$T$370=G$5)*(LSM!$B$2:$B$370=$D10),LSM!$E$2:$E$370,"")} -> 15.5696 | H10: {=_xlfn.XLOOKUP(1,(LSM!$A$2:$A$370=G$4)*(LSM!$T$2:$T$370=G$5)*(LSM!$B$2:$B$370=$D10),LSM!$F$2:$F$370,"")} -> B | I10: {=_xlfn.XLOOKUP(1,(LSM!$A$2:$A$370=I$4)*(LSM!$T$2:$T$370=I$5)*(LSM!$B$2:$B$370=$D10),LSM!$L$2:$L$370,"")} -> 60.4556 | J10: {=_xlfn.XLOOKUP(1,(LSM!$A$2:$A$370=I$4)*(LSM!$T$2:$T$370=I$5)*(LSM!$B$2:$B$370=$D10),LSM!$M$2:$M$370,"")} -> AB | K10: {=_xlfn.XLOOKUP(1,(LSM!$A$2:$A$370=K$4)*(LSM!$T$2:$T$370=K$5)*(LSM!$B$2:$B$370=$D10),LSM!$G$2:$G$370,"")} -> 101.91 | L10: {=_xlfn.XLOOKUP(1,(LSM!$A$2:$A$370=K$4)*(LSM!$T$2:$T$370=K$5)*(LSM!$B$2:$B$370=$D10),LSM!$H$2:$H$370,"")} -> CD | M10: {=_xlfn.XLOOKUP(1,(LSM!$A$2:$A$370=M$4)*(LSM!$T$2:$T$370=M$5)*(LSM!$B$2:$B$370=$D10),LSM!$I$2:$I$370,"")} -> 43.6296 | N10: {=_xlfn.XLOOKUP(1,(LSM!$A$2:$A$370=M$4)*(LSM!$T$2:$T$370=M$5)*(LSM!$B$2:$B$370=$D10),LSM!$J$2:$J$370,"")} -> D-F | O10: {=_xlfn.XLOOKUP(1,(LSM!$A$2:$A$370=O$4)*(LSM!$T$2:$T$370=O$5)*(LSM!$B$2:$B$370=$D10),LSM!$K$2:$K$370,"")} -> 0.4765964 | P10: {=_xlfn.XLOOKUP(1,(LSM!$A$2:$A$370=P$4)*(LSM!$T$2:$T$370=P$5)*(LSM!$B$2:$B$370=$D10),LSM!$N$2:$N$370,"")} -> 10.6825 | Q10: {=_xlfn.XLOOKUP(1,(LSM!$A$2:$A$370=P$4)*(LSM!$T$2:$T$370=P$5)*(LSM!$B$2:$B$370=$D10),LSM!$O$2:$O$370,"")} -> A | R10: {=_xlfn.XLOOKUP(1,(LSM!$A$2:$A$370=R$4)*(LSM!$T$2:$T$370=R$5)*(LSM!$B$2:$B$370=$D10),LSM!$P$2:$P$370,"")} -> 4.2154 | S10: {=_xlfn.XLOOKUP(1,(LSM!$A$2:$A$370=R$4)*(LSM!$T$2:$T$370=R$5)*(LSM!$B$2:$B$370=$D10),LSM!$Q$2:$Q$370,"")} -> A | T10: {=_xlfn.XLOOKUP(1,(LSM!$A$2:$A$370=T$4)*(LSM!$T$2:$T$370=T$5)*(LSM!$B$2:$B$370=$D10),LSM!$R$2:$R$370,"")} -> 85.945 | U10: {=_xlfn.XLOOKUP(1,(LSM!$A$2:$A$370=T$4)*(LSM!$T$2:$T$370=T$5)*(LSM!$B$2:$B$370=$D10),LSM!$S$2:$S$370,"")} -> AB
A11: =VLOOKUP(D11,VL_2020,2,FALSE) -> Integra 6915 VT2P | B11: =VLOOKUP(D11,VL_2020,3,FALSE) -> RR | C11: =VLOOKUP(D11,VL_2020,4,FALSE) -> VT2P | D11: C26017 | E11: {=_xlfn.XLOOKUP(1,(LSM!$A$2:$A$370=E$4)*(LSM!$T$2:$T$370=E$5)*(LSM!$B$2:$B$370=$D11),LSM!$C$2:$C$370,"")} -> 242.67 | F11: {=_xlfn.XLOOKUP(1,(LSM!$A$2:$A$370=E$4)*(LSM!$T$2:$T$370=E$5)*(LSM!$B$2:$B$370=$D11),LSM!$D$2:$D$370,"")} -> A-C | G11: {=_xlfn.XLOOKUP(1,(LSM!$A$2:$A$370=G$4)*(LSM!$T$2:$T$370=G$5)*(LSM!$B$2:$B$370=$D11),LSM!$E$2:$E$370,"")} -> 15.6942 | H11: {=_xlfn.XLOOKUP(1,(LSM!$A$2:$A$370=G$4)*(LSM!$T$2:$T$370=G$5)*(LSM!$B$2:$B$370=$D11),LSM!$F$2:$F$370,"")} -> B | I11: {=_xlfn.XLOOKUP(1,(LSM!$A$2:$A$370=I$4)*(LSM!$T$2:$T$370=I$5)*(LSM!$B$2:$B$370=$D11),LSM!$L$2:$L$370,"")} -> 58.1222 | J11: {=_xlfn.XLOOKUP(1,(LSM!$A$2:$A$370=I$4)*(LSM!$T$2:$T$370=I$5)*(LSM!$B$2:$B$370=$D11),LSM!$M$2:$M$370,"")} -> F | K11: {=_xlfn.XLOOKUP(1,(LSM!$A$2:$A$370=K$4)*(LSM!$T$2:$T$370=K$5)*(LSM!$B$2:$B$370=$D11),LSM!$G$2:$G$370,"")} -> 107.06 | L11: {=_xlfn.XLOOKUP(1,(LSM!$A$2:$A$370=K$4)*(LSM!$T$2:$T$370=K$5)*(LSM!$B$2:$B$370=$D11),LSM!$H$2:$H$370,"")} -> A | M11: {=_xlfn.XLOOKUP(1,(LSM!$A$2:$A$370=M$4)*(LSM!$T$2:$T$370=M$5)*(LSM!$B$2:$B$370=$D11),LSM!$I$2:$I$370,"")} -> 48.963 | N11: {=_xlfn.XLOOKUP(1,(LSM!$A$2:$A$370=M$4)*(LSM!$T$2:$T$370=M$5)*(LSM!$B$2:$B$370=$D11),LSM!$J$2:$J$370,"")} -> A-C | O11: {=_xlfn.XLOOKUP(1,(LSM!$A$2:$A$370=O$4)*(LSM!$T$2:$T$370=O$5)*(LSM!$B$2:$B$370=$D11),LSM!$K$2:$K$370,"")} -> 0.66161762 | P11: {=_xlfn.XLOOKUP(1,(LSM!$A$2:$A$370=P$4)*(LSM!$T$2:$T$370=P$5)*(LSM!$B$2:$B$370=$D11),LSM!$N$2:$N$370,"")} -> 11.5406 | Q11: {=_xlfn.XLOOKUP(1,(LSM!$A$2:$A$370=P$4)*(LSM!$T$2:$T$370=P$5)*(LSM!$B$2:$B$370=$D11),LSM!$O$2:$O$370,"")} -> A | R11: {=_xlfn.XLOOKUP(1,(LSM!$A$2:$A$370=R$4)*(LSM!$T$2:$T$370=R$5)*(LSM!$B$2:$B$370=$D11),LSM!$P$2:$P$370,"")} -> 4.3802 | S11: {=_xlfn.XLOOKUP(1,(LSM!$A$2:$A$370=R$4)*(LSM!$T$2:$T$370=R$5)*(LSM!$B$2:$B$370=$D11),LSM!$Q$2:$Q$370,"")} -> A | T11: {=_xlfn.XLOOKUP(1,(LSM!$A$2:$A$370=T$4)*(LSM!$T$2:$T$370=T$5)*(LSM!$B$2:$B$370=$D11),LSM!$R$2:$R$370,"")} -> 84.4721 | U11: {=_xlfn.XLOOKUP(1,(LSM!$A$2:$A$370=T$4)*(LSM!$T$2:$T$370=T$5)*(LSM!$B$2:$B$370=$D11),LSM!$S$2:$S$370,"")} -> D
A12: =VLOOKUP(D12,VL_2020,2,FALSE) -> Innvictis A1776VT2P | B12: =VLOOKUP(D12,VL_2020,3,FALSE) -> RR | C12: =VLOOKUP(D12,VL_2020,4,FALSE) -> VT2P | D12: C26016 | E12: {=_xlfn.XLOOKUP(1,(LSM!$A$2:$A$370=E$4)*(LSM!$T$2:$T$370=E$5)*(LSM!$B$2:$B$370=$D12),LSM!$C$2:$C$370,"")} -> 242.19 | F12: {=_xlfn.XLOOKUP(1,(LSM!$A$2:$A$370=E$4)*(LSM!$T$2:$T$370=E$5)*(LSM!$B$2:$B$370=$D12),LSM!$D$2:$D$370,"")} -> A-C | G12: {=_xlfn.XLOOKUP(1,(LSM!$A$2:$A$370=G$4)*(LSM!$T$2:$T$370=G$5)*(LSM!$B$2:$B$370=$D12),LSM!$E$2:$E$370,"")} -> 15.566 | H12: {=_xlfn.XLOOKUP(1,(LSM!$A$2:$A$370=G$4)*(LSM!$T$2:$T$370=G$5)*(LSM!$B$2:$B$370=$D12),LSM!$F$2:$F$370,"")} -> B | I12: {=_xlfn.XLOOKUP(1,(LSM!$A$2:$A$370=I$4)*(LSM!$T$2:$T$370=I$5)*(LSM!$B$2:$B$370=$D12),LSM!$L$2:$L$370,"")} -> 58.7873 | J12: {=_xlfn.XLOOKUP(1,(LSM!$A$2:$A$370=I$4)*(LSM!$T$2:$T$370=I$5)*(LSM!$B$2:$B$370=$D12),LSM!$M$2:$M$370,"")} -> D-F | K12: {=_xlfn.XLOOKUP(1,(LSM!$A$2:$A$370=K$4)*(LSM!$T$2:$T$370=K$5)*(LSM!$B$2:$B$370=$D12),LSM!$G$2:$G$370,"")} -> 104.88 | L12: {=_xlfn.XLOOKUP(1,(LSM!$A$2:$A$370=K$4)*(LSM!$T$2:$T$370=K$5)*(LSM!$B$2:$B$370=$D12),LSM!$H$2:$H$370,"")} -> A-C | M12: {=_xlfn.XLOOKUP(1,(LSM!$A$2:$A$370=M$4)*(LSM!$T$2:$T$370=M$5)*(LSM!$B$2:$B$370=$D12),LSM!$I$2:$I$370,"")} -> 46.3038 | N12: {=_xlfn.XLOOKUP(1,(LSM!$A$2:$A$370=M$4)*(LSM!$T$2:$T$370=M$5)*(LSM!$B$2:$B$370=$D12),LSM!$J$2:$J$370,"")} -> A-D | O12: {=_xlfn.XLOOKUP(1,(LSM!$A$2:$A$370=O$4)*(LSM!$T$2:$T$370=O$5)*(LSM!$B$2:$B$370=$D12),LSM!$K$2:$K$370,"")} -> 0.39229729 | P12: {=_xlfn.XLOOKUP(1,(LSM!$A$2:$A$370=P$4)*(LSM!$T$2:$T$370=P$5)*(LSM!$B$2:$B$370=$D12),LSM!$N$2:$N$370,"")} -> 10.3315 | Q12: {=_xlfn.XLOOKUP(1,(LSM!$A$2:$A$370=P$4)*(LSM!$T$2:$T$370=P$5)*(LSM!$B$2:$B$370=$D12),LSM!$O$2:$O$370,"")} -> A | R12: {=_xlfn.XLOOKUP(1,(LSM!$A$2:$A$370=R$4)*(LSM!$T$2:$T$370=R$5)*(LSM!$B$2:$B$370=$D12),LSM!$P$2:$P$370,"")} -> 4.1366 | S12: {=_xlfn.XLOOKUP(1,(LSM!$A$2:$A$370=R$4)*(LSM!$T$2:$T$370=R$5)*(LSM!$B$2:$B$370=$D12),LSM!$Q$2:$Q$370,"")} -> A | T12: {=_xlfn.XLOOKUP(1,(LSM!$A$2:$A$370=T$4)*(LSM!$T$2:$T$370=T$5)*(LSM!$B$2:$B$370=$D12),LSM!$R$2:$R$370,"")} -> 85.1878 | U12: {=_xlfn.XLOOKUP(1,(LSM!$A$2:$A$370=T$4)*(LSM!$T$2:$T$370=T$5)*(LSM!$B$2:$B$370=$D12),LSM!$S$2:$S$370,"")} -> B-D
A13: =VLOOKUP(D13,VL_2020,2,FALSE) -> Great Heart HT-7720TRE | B13: =VLOOKUP(D13,VL_2020,3,FALSE) -> TRE | C13: =VLOOKUP(D13,VL_2020,4,FALSE) -> TRE | D13: C26014 | E13: {=_xlfn.XLOOKUP(1,(LSM!$A$2:$A$370=E$4)*(LSM!$T$2:$T$370=E$5)*(LSM!$B$2:$B$370=$D13),LSM!$C$2:$C$370,"")} -> 237.41 | F13: {=_xlfn.XLOOKUP(1,(LSM!$A$2:$A$370=E$4)*(LSM!$T$2:$T$370=E$5)*(LSM!$B$2:$B$370=$D13),LSM!$D$2:$D$370,"")} -> A-D | G13: {=_xlfn.XLOOKUP(1,(LSM!$A$2:$A$370=G$4)*(LSM!$T$2:$T$370=G$5)*(LSM!$B$2:$B$370=$D13),LSM!$E$2:$E$370,"")} -> 14.6767 | H13: {=_xlfn.XLOOKUP(1,(LSM!$A$2:$A$370=G$4)*(LSM!$T$2:$T$370=G$5)*(LSM!$B$2:$B$370=$D13),LSM!$F$2:$F$370,"")} -> C | I13: {=_xlfn.XLOOKUP(1,(LSM!$A$2:$A$370=I$4)*(LSM!$T$2:$T$370=I$5)*(LSM!$B$2:$B$370=$D13),LSM!$L$2:$L$370,"")} -> 59.1889 | J13: {=_xlfn.XLOOKUP(1,(LSM!$A$2:$A$370=I$4)*(LSM!$T$2:$T$370=I$5)*(LSM!$B$2:$B$370=$D13),LSM!$M$2:$M$370,"")} -> C-E | K13: {=_xlfn.XLOOKUP(1,(LSM!$A$2:$A$370=K$4)*(LSM!$T$2:$T$370=K$5)*(LSM!$B$2:$B$370=$D13),LSM!$G$2:$G$370,"")} -> 101.31 | L13: {=_xlfn.XLOOKUP(1,(LSM!$A$2:$A$370=K$4)*(LSM!$T$2:$T$370=K$5)*(LSM!$B$2:$B$370=$D13),LSM!$H$2:$H$370,"")} -> CD | M13: {=_xlfn.XLOOKUP(1,(LSM!$A$2:$A$370=M$4)*(LSM!$T$2:$T$370=M$5)*(LSM!$B$2:$B$370=$D13),LSM!$I$2:$I$370,"")} -> 40.963 | N13: {=_xlfn.XLOOKUP(1,(LSM!$A$2:$A$370=M$4)*(LSM!$T$2:$T$370=M$5)*(LSM!$B$2:$B$370=$D13),LSM!$J$2:$J$370,"")} -> F | O13: {=_xlfn.XLOOKUP(1,(LSM!$A$2:$A$370=O$4)*(LSM!$T$2:$T$370=O$5)*(LSM!$B$2:$B$370=$D13),LSM!$K$2:$K$370,"")} -> 0.13157013 | P13: {=_xlfn.XLOOKUP(1,(LSM!$A$2:$A$370=P$4)*(LSM!$T$2:$T$370=P$5)*(LSM!$B$2:$B$370=$D13),LSM!$N$2:$N$370,"")} -> 10.8308 | Q13: {=_xlfn.XLOOKUP(1,(LSM!$A$2:$A$370=P$4)*(LSM!$T$2:$T$370=P$5)*(LSM!$B$2:$B$370=$D13),LSM!$O$2:$O$370,"")} -> A | R13: {=_xlfn.XLOOKUP(1,(LSM!$A$2:$A$370=R$4)*(LSM!$T$2:$T$370=R$5)*(LSM!$B$2:$B$370=$D13),LSM!$P$2:$P$370,"")} -> 4.2737 | S13: {=_xlfn.XLOOKUP(1,(LSM!$A$2:$A$370=R$4)*(LSM!$T$2:$T$370=R$5)*(LSM!$B$2:$B$370=$D13),LSM!$Q$2:$Q$370,"")} -> A | T13: {=_xlfn.XLOOKUP(1,(LSM!$A$2:$A$370=T$4)*(LSM!$T$2:$T$370=T$5)*(LSM!$B$2:$B$370=$D13),LSM!$R$2:$R$370,"")} -> 85.8681 | U13: {=_xlfn.XLOOKUP(1,(LSM!$A$2:$A$370=T$4)*(LSM!$T$2:$T$370=T$5)*(LSM!$B$2:$B$370=$D13),LSM!$S$2:$S$370,"")} -> A-C
A14: =VLOOKUP(D14,VL_2020,2,FALSE) -> Innvictis A1792T | B14: =VLOOKUP(D14,VL_2020,3,FALSE) -> RR | C14: =VLOOKUP(D14,VL_2020,4,FALSE) -> TRE | D14: C24011 | E14: {=_xlfn.XLOOKUP(1,(LSM!$A$2:$A$370=E$4)*(LSM!$T$2:$T$370=E$5)*(LSM!$B$2:$B$370=$D14),LSM!$C$2:$C$370,"")} -> 231.4 | F14: {=_xlfn.XLOOKUP(1,(LSM!$A$2:$A$370=E$4)*(LSM!$T$2:$T$370=E$5)*(LSM!$B$2:$B$370=$D14),LSM!$D$2:$D$370,"")} -> B-D | G14: {=_xlfn.XLOOKUP(1,(LSM!$A$2:$A$370=G$4)*(LSM!$T$2:$T$370=G$5)*(LSM!$B$2:$B$370=$D14),LSM!$E$2:$E$370,"")} -> 15.7825 | H14: {=_xlfn.XLOOKUP(1,(LSM!$A$2:$A$370=G$4)*(LSM!$T$2:$T$370=G$5)*(LSM!$B$2:$B$370=$D14),LSM!$F$2:$F$370,"")} -> B | I14: {=_xlfn.XLOOKUP(1,(LSM!$A$2:$A$370=I$4)*(LSM!$T$2:$T$370=I$5)*(LSM!$B$2:$B$370=$D14),LSM!$L$2:$L$370,"")} -> 61.0667 | J14: {=_xlfn.XLOOKUP(1,(LSM!$A$2:$A$370=I$4)*(LSM!$T$2:$T$370=I$5)*(LSM!$B$2:$B$370=$D14),LSM!$M$2:$M$370,"")} -> A | K14: {=_xlfn.XLOOKUP(1,(LSM!$A$2:$A$370=K$4)*(LSM!$T$2:$T$370=K$5)*(LSM!$B$2:$B$370=$D14),LSM!$G$2:$G$370,"")} -> 101.93 | L14: {=_xlfn.XLOOKUP(1,(LSM!$A$2:$A$370=K$4)*(LSM!$T$2:$T$370=K$5)*(LSM!$B$2:$B$370=$D14),LSM!$H$2:$H$370,"")} -> CD | M14: {=_xlfn.XLOOKUP(1,(LSM!$A$2:$A$370=M$4)*(LSM!$T$2:$T$370=M$5)*(LSM!$B$2:$B$370=$D14),LSM!$I$2:$I$370,"")} -> 45.537 | N14: {=_xlfn.XLOOKUP(1,(LSM!$A$2:$A$370=M$4)*(LSM!$T$2:$T$370=M$5)*(LSM!$B$2:$B$370=$D14),LSM!$J$2:$J$370,"")} -> B-E | O14: {=_xlfn.XLOOKUP(1,(LSM!$A$2:$A$370=O$4)*(LSM!$T$2:$T$370=O$5)*(LSM!$B$2:$B$370=$D14),LSM!$K$2:$K$370,"")} -> 0.29017924 | P14: {=_xlfn.XLOOKUP(1,(LSM!$A$2:$A$370=P$4)*(LSM!$T$2:$T$370=P$5)*(LSM!$B$2:$B$370=$D14),LSM!$N$2:$N$370,"")} -> 11.3962 | Q14: {=_xlfn.XLOOKUP(1,(LSM!$A$2:$A$370=P$4)*(LSM!$T$2:$T$370=P$5)*(LSM!$B$2:$B$370=$D14),LSM!$O$2:$O$370,"")} -> A | R14: {=_xlfn.XLOOKUP(1,(LSM!$A$2:$A$370=R$4)*(LSM!$T$2:$T$370=R$5)*(LSM!$B$2:$B$370=$D14),LSM!$P$2:$P$370,"")} -> 4.5309 | S14: {=_xlfn.XLOOKUP(1,(LSM!$A$2:$A$370=R$4)*(LSM!$T$2:$T$370=R$5)*(LSM!$B$2:$B$370=$D14),LSM!$Q$2:$Q$370,"")} -> A | T14: {=_xlfn.XLOOKUP(1,(LSM!$A$2:$A$370=T$4)*(LSM!$T$2:$T$370=T$5)*(LSM!$B$2:$B$370=$D14),LSM!$R$2:$R$370,"")} -> 85.7557 | U14: {=_xlfn.XLOOKUP(1,(LSM!$A$2:$A$370=T$4)*(LSM!$T$2:$T$370=T$5)*(LSM!$B$2:$B$370=$D14),LSM!$S$2:$S$370,"")} -> BC
A15: =VLOOKUP(D15,VL_2020,2,FALSE) -> Pioneer P18216PWE | B15: =VLOOKUP(D15,VL_2020,3,FALSE) -> RR, LL, ENL, FOP | C15: =VLOOKUP(D15,VL_2020,4,FALSE) -> VT2P, HX1 | D15: C25022 | E15: {=_xlfn.XLOOKUP(1,(LSM!$A$2:$A$370=E$4)*(LSM!$T$2:$T$370=E$5)*(LSM!$B$2:$B$370=$D15),LSM!$C$2:$C$370,"")} -> 230.06 | F15: {=_xlfn.XLOOKUP(1,(LSM!$A$2:$A$370=E$4)*(LSM!$T$2:$T$370=E$5)*(LSM!$B$2:$B$370=$D15),LSM!$D$2:$D$370,"")} -> CD | G15: {=_xlfn.XLOOKUP(1,(LSM!$A$2:$A$370=G$4)*(LSM!$T$2:$T$370=G$5)*(LSM!$B$2:$B$370=$D15),LSM!$E$2:$E$370,"")} -> 15.05 | H15: {=_xlfn.XLOOKUP(1,(LSM!$A$2:$A$370=G$4)*(LSM!$T$2:$T$370=G$5)*(LSM!$B$2:$B$370=$D15),LSM!$F$2:$F$370,"")} -> BC | I15: {=_xlfn.XLOOKUP(1,(LSM!$A$2:$A$370=I$4)*(LSM!$T$2:$T$370=I$5)*(LSM!$B$2:$B$370=$D15),LSM!$L$2:$L$370,"")} -> 59.8389 | J15: {=_xlfn.XLOOKUP(1,(LSM!$A$2:$A$370=I$4)*(LSM!$T$2:$T$370=I$5)*(LSM!$B$2:$B$370=$D15),LSM!$M$2:$M$370,"")} -> BC | K15: {=_xlfn.XLOOKUP(1,(LSM!$A$2:$A$370=K$4)*(LSM!$T$2:$T$370=K$5)*(LSM!$B$2:$B$370=$D15),LSM!$G$2:$G$370,"")} -> 103.41 | L15: {=_xlfn.XLOOKUP(1,(LSM!$A$2:$A$370=K$4)*(LSM!$T$2:$T$370=K$5)*(LSM!$B$2:$B$370=$D15),LSM!$H$2:$H$370,"")} -> BC | M15: {=_xlfn.XLOOKUP(1,(LSM!$A$2:$A$370=M$4)*(LSM!$T$2:$T$370=M$5)*(LSM!$B$2:$B$370=$D15),LSM!$I$2:$I$370,"")} -> 45.3333 | N15: {=_xlfn.XLOOKUP(1,(LSM!$A$2:$A$370=M$4)*(LSM!$T$2:$T$370=M$5)*(LSM!$B$2:$B$370=$D15),LSM!$J$2:$J$370,"")} -> C-E | O15: {=_xlfn.XLOOKUP(1,(LSM!$A$2:$A$370=O$4)*(LSM!$T$2:$T$370=O$5)*(LSM!$B$2:$B$370=$D15),LSM!$K$2:$K$370,"")} -> 0.27289289 | P15: {=_xlfn.XLOOKUP(1,(LSM!$A$2:$A$370=P$4)*(LSM!$T$2:$T$370=P$5)*(LSM!$B$2:$B$370=$D15),LSM!$N$2:$N$370,"")} -> 11.1517 | Q15: {=_xlfn.XLOOKUP(1,(LSM!$A$2:$A$370=P$4)*(LSM!$T$2:$T$370=P$5)*(LSM!$B$2:$B$370=$D15),LSM!$O$2:$O$370,"")} -> A | R15: {=_xlfn.XLOOKUP(1,(LSM!$A$2:$A$370=R$4)*(LSM!$T$2:$T$370=R$5)*(LSM!$B$2:$B$370=$D15),LSM!$P$2:$P$370,"")} -> 4.1839 | S15: {=_xlfn.XLOOKUP(1,(LSM!$A$2:$A$370=R$4)*(LSM!$T$2:$T$370=R$5)*(LSM!$B$2:$B$370=$D15),LSM!$Q$2:$Q$370,"")} -> A | T15: {=_xlfn.XLOOKUP(1,(LSM!$A$2:$A$370=T$4)*(LSM!$T$2:$T$370=T$5)*(LSM!$B$2:$B$370=$D15),LSM!$R$2:$R$370,"")} -> 86.635 | U15: {=_xlfn.XLOOKUP(1,(LSM!$A$2:$A$370=T$4)*(LSM!$T$2:$T$370=T$5)*(LSM!$B$2:$B$370=$D15),LSM!$S$2:$S$370,"")} -> A
A16: =VLOOKUP(D16,VL_2020,2,FALSE) -> Dekalb DKC 119-30 | B16: =VLOOKUP(D16,VL_2020,3,FALSE) -> RR | C16: =VLOOKUP(D16,VL_2020,4,FALSE) -> VT4P | D16: C25003 | E16: {=_xlfn.XLOOKUP(1,(LSM!$A$2:$A$370=E$4)*(LSM!$T$2:$T$370=E$5)*(LSM!$B$2:$B$370=$D16),LSM!$C$2:$C$370,"")} -> 225.34 | F16: {=_xlfn.XLOOKUP(1,(LSM!$A$2:$A$370=E$4)*(LSM!$T$2:$T$370=E$5)*(LSM!$B$2:$B$370=$D16),LSM!$D$2:$D$370,"")} -> D | G16: {=_xlfn.XLOOKUP(1,(LSM!$A$2:$A$370=G$4)*(LSM!$T$2:$T$370=G$5)*(LSM!$B$2:$B$370=$D16),LSM!$E$2:$E$370,"")} -> 16.6221 | H16: {=_xlfn.XLOOKUP(1,(LSM!$A$2:$A$370=G$4)*(LSM!$T$2:$T$370=G$5)*(LSM!$B$2:$B$370=$D16),LSM!$F$2:$F$370,"")} -> A | I16: {=_xlfn.XLOOKUP(1,(LSM!$A$2:$A$370=I$4)*(LSM!$T$2:$T$370=I$5)*(LSM!$B$2:$B$370=$D16),LSM!$L$2:$L$370,"")} -> 59.3389 | J16: {=_xlfn.XLOOKUP(1,(LSM!$A$2:$A$370=I$4)*(LSM!$T$2:$T$370=I$5)*(LSM!$B$2:$B$370=$D16),LSM!$M$2:$M$370,"")} -> CD | K16: {=_xlfn.XLOOKUP(1,(LSM!$A$2:$A$370=K$4)*(LSM!$T$2:$T$370=K$5)*(LSM!$B$2:$B$370=$D16),LSM!$G$2:$G$370,"")} -> 99.5 | L16: {=_xlfn.XLOOKUP(1,(LSM!$A$2:$A$370=K$4)*(LSM!$T$2:$T$370=K$5)*(LSM!$B$2:$B$370=$D16),LSM!$H$2:$H$370,"")} -> D | M16: {=_xlfn.XLOOKUP(1,(LSM!$A$2:$A$370=M$4)*(LSM!$T$2:$T$370=M$5)*(LSM!$B$2:$B$370=$D16),LSM!$I$2:$I$370,"")} -> 42.1111 | N16: {=_xlfn.XLOOKUP(1,(LSM!$A$2:$A$370=M$4)*(LSM!$T$2:$T$370=M$5)*(LSM!$B$2:$B$370=$D16),LSM!$J$2:$J$370,"")} -> EF | O16: {=_xlfn.XLOOKUP(1,(LSM!$A$2:$A$370=O$4)*(LSM!$T$2:$T$370=O$5)*(LSM!$B$2:$B$370=$D16),LSM!$K$2:$K$370,"")} -> 0.53209847 | P16: {=_xlfn.XLOOKUP(1,(LSM!$A$2:$A$370=P$4)*(LSM!$T$2:$T$370=P$5)*(LSM!$B$2:$B$370=$D16),LSM!$N$2:$N$370,"")} -> 10.8836 | Q16: {=_xlfn.XLOOKUP(1,(LSM!$A$2:$A$370=P$4)*(LSM!$T$2:$T$370=P$5)*(LSM!$B$2:$B$370=$D16),LSM!$O$2:$O$370,"")} -> A | R16: {=_xlfn.XLOOKUP(1,(LSM!$A$2:$A$370=R$4)*(LSM!$T$2:$T$370=R$5)*(LSM!$B$2:$B$370=$D16),LSM!$P$2:$P$370,"")} -> 4.2588 | S16: {=_xlfn.XLOOKUP(1,(LSM!$A$2:$A$370=R$4)*(LSM!$T$2:$T$370=R$5)*(LSM!$B$2:$B$370=$D16),LSM!$Q$2:$Q$370,"")} -> A | T16: {=_xlfn.XLOOKUP(1,(LSM!$A$2:$A$370=T$4)*(LSM!$T$2:$T$370=T$5)*(LSM!$B$2:$B$370=$D16),LSM!$R$2:$R$370,"")} -> 84.9907 | U16: {=_xlfn.XLOOKUP(1,(LSM!$A$2:$A$370=T$4)*(LSM!$T$2:$T$370=T$5)*(LSM!$B$2:$B$370=$D16),LSM!$S$2:$S$370,"")} -> CD
A17: Trial Average | E17: {=_xlfn.XLOOKUP(1,(ANOVA!$L$2:$L$160=E$4)*(ANOVA!$Q$2:$Q$401=E$5)*(ANOVA!$M$2:$M$401=E$3),ANOVA!$A$2:$A$401,"")} -> 240.1 | G17: {=_xlfn.XLOOKUP(1,(ANOVA!$L$2:$L$160=G$4)*(ANOVA!$Q$2:$Q$401=G$5)*(ANOVA!$M$2:$M$401=G$3),ANOVA!$A$2:$A$401,"")} -> 15.6306 | I17: {=_xlfn.XLOOKUP(1,(ANOVA!$L$2:$L$160=I$4)*(ANOVA!$Q$2:$Q$401=I$5)*(ANOVA!$M$2:$M$401=I$3),ANOVA!$A$2:$A$401,"")} -> 59.0923 | K17: {=_xlfn.XLOOKUP(1,(ANOVA!$L$2:$L$160=K$4)*(ANOVA!$Q$2:$Q$401=K$5)*(ANOVA!$M$2:$M$401=K$3),ANOVA!$A$2:$A$401,"")} -> 103.78 | M17: {=_xlfn.XLOOKUP(1,(ANOVA!$L$2:$L$160=M$4)*(ANOVA!$Q$2:$Q$401=M$5)*(ANOVA!$M$2:$M$401=M$3),ANOVA!$A$2:$A$401,"")} -> 46.2094 | O17: {=_xlfn.XLOOKUP(1,(ANOVA!$L$2:$L$160=O$4)*(ANOVA!$Q$2:$Q$401=O$5)*(ANOVA!$M$2:$M$401=O$3),ANOVA!$A$2:$A$401,"")} -> 0.2727 | P17: {=_xlfn.XLOOKUP(1,(ANOVA!$L$2:$L$160=P$4)*(ANOVA!$Q$2:$Q$401=P$5)*(ANOVA!$M$2:$M$401=P$3),ANOVA!$A$2:$A$401,"")} | R17: {=_xlfn.XLOOKUP(1,(ANOVA!$L$2:$L$160=R$4)*(ANOVA!$Q$2:$Q$401=R$5)*(ANOVA!$M$2:$M$401=R$3),ANOVA!$A$2:$A$401,"")} | T17: {=_xlfn.XLOOKUP(1,(ANOVA!$L$2:$L$160=T$4)*(ANOVA!$Q$2:$Q$401=T$5)*(ANOVA!$M$2:$M$401=T$3),ANOVA!$A$2:$A$401,"")}
A18: Trial Standard Error | E18: {=_xlfn.XLOOKUP(1,(ANOVA!$L$2:$L$160=E$4)*(ANOVA!$Q$2:$Q$401=E$5)*(ANOVA!$M$2:$M$401=E$3),ANOVA!$B$2:$B$401,"")} -> 12.658 | G18: {=_xlfn.XLOOKUP(1,(ANOVA!$L$2:$L$160=G$4)*(ANOVA!$Q$2:$Q$401=G$5)*(ANOVA!$M$2:$M$401=G$3),ANOVA!$B$2:$B$401,"")} -> 0.9643 | I18: {=_xlfn.XLOOKUP(1,(ANOVA!$L$2:$L$160=I$4)*(ANOVA!$Q$2:$Q$401=I$5)*(ANOVA!$M$2:$M$401=I$3),ANOVA!$B$2:$B$401,"")} -> 0.4654 | K18: {=_xlfn.XLOOKUP(1,(ANOVA!$L$2:$L$160=K$4)*(ANOVA!$Q$2:$Q$401=K$5)*(ANOVA!$M$2:$M$401=K$3),ANOVA!$B$2:$B$401,"")} -> 2.7514 | M18: {=_xlfn.XLOOKUP(1,(ANOVA!$L$2:$L$160=M$4)*(ANOVA!$Q$2:$Q$401=M$5)*(ANOVA!$M$2:$M$401=M$3),ANOVA!$B$2:$B$401,"")} -> 1.6771 | O18: {=_xlfn.XLOOKUP(1,(ANOVA!$L$2:$L$160=O$4)*(ANOVA!$Q$2:$Q$401=O$5)*(ANOVA!$M$2:$M$401=O$3),ANOVA!$B$2:$B$401,"")} -> 0.1446 | P18: {=_xlfn.XLOOKUP(1,(ANOVA!$L$2:$L$160=P$4)*(ANOVA!$Q$2:$Q$401=P$5)*(ANOVA!$M$2:$M$401=P$3),ANOVA!$B$2:$B$401,"")} | R18: {=_xlfn.XLOOKUP(1,(ANOVA!$L$2:$L$160=R$4)*(ANOVA!$Q$2:$Q$401=R$5)*(ANOVA!$M$2:$M$401=R$3),ANOVA!$B$2:$B$401,"")} | T18: {=_xlfn.XLOOKUP(1,(ANOVA!$L$2:$L$160=T$4)*(ANOVA!$Q$2:$Q$401=T$5)*(ANOVA!$M$2:$M$401=T$3),ANOVA!$B$2:$B$401,"")}
A19: Trial L.S.D..05 | E19: {=_xlfn.XLOOKUP(1,(ANOVA!$L$2:$L$160=E$4)*(ANOVA!$Q$2:$Q$401=E$5)*(ANOVA!$M$2:$M$401=E$3),ANOVA!$C$2:$C$401,"")} -> 15.6 | G19: {=_xlfn.XLOOKUP(1,(ANOVA!$L$2:$L$160=G$4)*(ANOVA!$Q$2:$Q$401=G$5)*(ANOVA!$M$2:$M$401=G$3),ANOVA!$C$2:$C$401,"")} -> 0.81 | I19: {=_xlfn.XLOOKUP(1,(ANOVA!$L$2:$L$160=I$4)*(ANOVA!$Q$2:$Q$401=I$5)*(ANOVA!$M$2:$M$401=I$3),ANOVA!$C$2:$C$401,"")} -> 0.96 | K19: {=_xlfn.XLOOKUP(1,(ANOVA!$L$2:$L$160=K$4)*(ANOVA!$Q$2:$Q$401=K$5)*(ANOVA!$M$2:$M$401=K$3),ANOVA!$C$2:$C$401,"")} -> 3.62 | M19: {=_xlfn.XLOOKUP(1,(ANOVA!$L$2:$L$160=M$4)*(ANOVA!$Q$2:$Q$401=M$5)*(ANOVA!$M$2:$M$401=M$3),ANOVA!$C$2:$C$401,"")} -> 3.7 | O19: {=_xlfn.XLOOKUP(1,(ANOVA!$L$2:$L$160=O$4)*(ANOVA!$Q$2:$Q$401=O$5)*(ANOVA!$M$2:$M$401=O$3),ANOVA!$C$2:$C$401,"")} -> 0 | P19: {=_xlfn.XLOOKUP(1,(ANOVA!$L$2:$L$160=P$4)*(ANOVA!$Q$2:$Q$401=P$5)*(ANOVA!$M$2:$M$401=P$3),ANOVA!$C$2:$C$401,"")} | R19: {=_xlfn.XLOOKUP(1,(ANOVA!$L$2:$L$160=R$4)*(ANOVA!$Q$2:$Q$401=R$5)*(ANOVA!$M$2:$M$401=R$3),ANOVA!$C$2:$C$401,"")} | T19: {=_xlfn.XLOOKUP(1,(ANOVA!$L$2:$L$160=T$4)*(ANOVA!$Q$2:$Q$401=T$5)*(ANOVA!$M$2:$M$401=T$3),ANOVA!$C$2:$C$401,"")}
A20: Trial C.V. | E20: {=_xlfn.XLOOKUP(1,(ANOVA!$L$2:$L$160=E$4)*(ANOVA!$Q$2:$Q$401=E$5)*(ANOVA!$M$2:$M$401=E$3),ANOVA!$D$2:$D$401,"")} -> 9.629121 | G20: {=_xlfn.XLOOKUP(1,(ANOVA!$L$2:$L$160=G$4)*(ANOVA!$Q$2:$Q$401=G$5)*(ANOVA!$M$2:$M$401=G$3),ANOVA!$D$2:$D$401,"")} -> 4.8075348 | I20: {=_xlfn.XLOOKUP(1,(ANOVA!$L$2:$L$160=I$4)*(ANOVA!$Q$2:$Q$401=I$5)*(ANOVA!$M$2:$M$401=I$3),ANOVA!$D$2:$D$401,"")} -> 1.3057847 | K20: {=_xlfn.XLOOKUP(1,(ANOVA!$L$2:$L$160=K$4)*(ANOVA!$Q$2:$Q$401=K$5)*(ANOVA!$M$2:$M$401=K$3),ANOVA!$D$2:$D$401,"")} -> 5.3038544 | M20: {=_xlfn.XLOOKUP(1,(ANOVA!$L$2:$L$160=M$4)*(ANOVA!$Q$2:$Q$401=M$5)*(ANOVA!$M$2:$M$401=M$3),ANOVA!$D$2:$D$401,"")} -> 9.976934 | O20: {=_xlfn.XLOOKUP(1,(ANOVA!$L$2:$L$160=O$4)*(ANOVA!$Q$2:$Q$401=O$5)*(ANOVA!$M$2:$M$401=O$3),ANOVA!$D$2:$D$401,"")} -> 0 | P20: {=_xlfn.XLOOKUP(1,(ANOVA!$L$2:$L$160=P$4)*(ANOVA!$Q$2:$Q$401=P$5)*(ANOVA!$M$2:$M$401=P$3),ANOVA!$D$2:$D$401,"")} | R20: {=_xlfn.XLOOKUP(1,(ANOVA!$L$2:$L$160=R$4)*(ANOVA!$Q$2:$Q$401=R$5)*(ANOVA!$M$2:$M$401=R$3),ANOVA!$D$2:$D$401,"")} | T20: {=_xlfn.XLOOKUP(1,(ANOVA!$L$2:$L$160=T$4)*(ANOVA!$Q$2:$Q$401=T$5)*(ANOVA!$M$2:$M$401=T$3),ANOVA!$D$2:$D$401,"")}
A21: Number of locs. | E21: 8 | G21: 8 | I21: 7 | K21: 6 | M21: 6 | O21: 6 | P21: 1 | R21: 1 | T21: 1

Sheet Full Corn Yld By Loc
A1: Table 13. Mean yields across and by location of 11 full-season (>116 DAP) corn hybrids evaluated in replicated small plot trials at eight AgResearch and Education Center locations in Tennessee during 2026.
A2: Hybrid† | B2: Herbicide Pkg‡ | C2: Insect Pkg.‡ | D2: Above Loc Avg. | F2: Avg. Yield§ (bu/acre) | H2: Knoxville Irr. (bu/acre) | J2: Greeneville Non-Irr. (bu/acre) | L2: Springfield Irr. (bu/acre) | N2: Springfield Non-Irr. (bu/acre) | P2: Spring Hill Non-Irr. (bu/acre) | R2: Milan Irr. (bu/acre) | T2: Milan Non-Irr. (bu/acre) | V2: Jackson Irr. (bu/acre) | X2: Memphis Irr. (bu/acre) | AA2: etrec | AB2: netrec | AC2: hrec ir | AD2: hrec nir | AE2: mtrec | AF2: recm ir | AG2: recm nir | AH2: wtrec | AI2: agcntr
F3: YLD_1 | H3: YLD_1 | J3: YLD_1 | L3: YLD_1 | N3: YLD_1 | P3: YLD_1 | R3: YLD_1 | T3: YLD_1 | V3: YLD_1 | X3: YLD_1
F4: A | H4: ET | J4: N | L4: HI | N4: HN | P4: MT | R4: MI | T4: MN | V4: WT | X4: AG
A5: Hybrid | B5: Herbicide Pkg† | C5: Insect Pkg.† | F5: Full | H5: Full | J5: Full | L5: Full | N5: Full | P5: Full | R5: Full | T5: Full | V5: Full | X5: Full
A6: =VLOOKUP(E6,VL_2020,2,FALSE) -> Revere 1839 | B6: =VLOOKUP(E6,VL_2020,3,FALSE) -> RR | C6: =VLOOKUP(E6,VL_2020,4,FALSE) -> TRE | D6: =AJ6 -> 0.75 | E6: C26024 | F6: {=_xlfn.XLOOKUP(1,(LSM!$A$2:$A$370=F$4)*(LSM!$T$2:$T$370=F$5)*(LSM!$B$2:$B$370=$E6),LSM!$C$2:$C$370,"")} -> 251.36 | G6: {=_xlfn.XLOOKUP(1,(LSM!$A$2:$A$370=F$4)*(LSM!$T$2:$T$370=F$5)*(LSM!$B$2:$B$370=$E6),LSM!$D$2:$D$370,"")} -> A | H6: {=_xlfn.XLOOKUP(1,(LSM!$A$2:$A$370=H$4)*(LSM!$T$2:$T$370=H$5)*(LSM!$B$2:$B$370=$E6),LSM!$C$2:$C$370,"")} -> 295.82 | I6: {=_xlfn.XLOOKUP(1,(LSM!$A$2:$A$370=H$4)*(LSM!$T$2:$T$370=H$5)*(LSM!$B$2:$B$370=$E6),LSM!$D$2:$D$370,"")} -> A | J6: {=_xlfn.XLOOKUP(1,(LSM!$A$2:$A$370=J$4)*(LSM!$T$2:$T$370=J$5)*(LSM!$B$2:$B$370=$E6),LSM!$C$2:$C$370,"")} -> 312.25 | K6: {=_xlfn.XLOOKUP(1,(LSM!$A$2:$A$370=J$4)*(LSM!$T$2:$T$370=J$5)*(LSM!$B$2:$B$370=$E6),LSM!$D$2:$D$370,"")} -> A | L6: {=_xlfn.XLOOKUP(1,(LSM!$A$2:$A$370=L$4)*(LSM!$T$2:$T$370=L$5)*(LSM!$B$2:$B$370=$E6),LSM!$C$2:$C$370,"")} -> 221.57 | M6: {=_xlfn.XLOOKUP(1,(LSM!$A$2:$A$370=L$4)*(LSM!$T$2:$T$370=L$5)*(LSM!$B$2:$B$370=$E6),LSM!$D$2:$D$370,"")} -> A | N6: {=_xlfn.XLOOKUP(1,(LSM!$A$2:$A$370=N$4)*(LSM!$T$2:$T$370=N$5)*(LSM!$B$2:$B$370=$E6),LSM!$C$2:$C$370,"")} -> 214.24 | O6: {=_xlfn.XLOOKUP(1,(LSM!$A$2:$A$370=N$4)*(LSM!$T$2:$T$370=N$5)*(LSM!$B$2:$B$370=$E6),LSM!$D$2:$D$370,"")} -> A | P6: {=_xlfn.XLOOKUP(1,(LSM!$A$2:$A$370=P$4)*(LSM!$T$2:$T$370=P$5)*(LSM!$B$2:$B$370=$E6),LSM!$C$2:$C$370,"")} -> 199.63 | Q6: {=_xlfn.XLOOKUP(1,(LSM!$A$2:$A$370=P$4)*(LSM!$T$2:$T$370=P$5)*(LSM!$B$2:$B$370=$E6),LSM!$D$2:$D$370,"")} -> A | R6: {=_xlfn.XLOOKUP(1,(LSM!$A$2:$A$370=R$4)*(LSM!$T$2:$T$370=R$5)*(LSM!$B$2:$B$370=$E6),LSM!$C$2:$C$370,"")} -> 260.84 | S6: {=_xlfn.XLOOKUP(1,(LSM!$A$2:$A$370=R$4)*(LSM!$T$2:$T$370=R$5)*(LSM!$B$2:$B$370=$E6),LSM!$D$2:$D$370,"")} -> A | T6: {=_xlfn.XLOOKUP(1,(LSM!$A$2:$A$370=T$4)*(LSM!$T$2:$T$370=T$5)*(LSM!$B$2:$B$370=$E6),LSM!$C$2:$C$370,"")} -> 264.73 | U6: {=_xlfn.XLOOKUP(1,(LSM!$A$2:$A$370=T$4)*(LSM!$T$2:$T$370=T$5)*(LSM!$B$2:$B$370=$E6),LSM!$D$2:$D$370,"")} -> B-D | V6: {=_xlfn.XLOOKUP(1,(LSM!$A$2:$A$370=V$4)*(LSM!$T$2:$T$370=V$5)*(LSM!$B$2:$B$370=$E6),LSM!$C$2:$C$370,"")} -> 241.78 | W6: {=_xlfn.XLOOKUP(1,(LSM!$A$2:$A$370=V$4)*(LSM!$T$2:$T$370=V$5)*(LSM!$B$2:$B$370=$E6),LSM!$D$2:$D$370,"")} -> A | X6: {=_xlfn.XLOOKUP(1,(LSM!$A$2:$A$370=X$4)*(LSM!$T$2:$T$370=X$5)*(LSM!$B$2:$B$370=$E6),LSM!$C$2:$C$370,"")} | Y6: {=_xlfn.XLOOKUP(1,(LSM!$A$2:$A$370=X$4)*(LSM!$T$2:$T$370=X$5)*(LSM!$B$2:$B$370=$E6),LSM!$D$2:$D$370,"")} | AA6: =IF(H6>H$17,1,0) -> 1 | AB6: =IF(J6>J$17,1,0) -> 1 | AC6: =IF(L6>L$17,1,0) -> 0 | AD6: =IF(N6>N$17,1,0) -> 1 | AE6: =IF(P6>P$17,1,0) -> 1 | AF6: =IF(R6>R$17,1,0) -> 1 | AG6: =IF(T6>T$17,1,0) -> 0 | AH6: =IF(V6>V$17,1,0) -> 1 | AJ6: =SUM(AA6:AI6)/COUNT(AA6:AI6) -> 0.75
A7: =VLOOKUP(E7,VL_2020,2,FALSE) -> Gateway 3919TRE | B7: =VLOOKUP(E7,VL_2020,3,FALSE) -> RR | C7: =VLOOKUP(E7,VL_2020,4,FALSE) -> TRE | D7: =AJ7 -> 0.75 | E7: C26012 | F7: {=_xlfn.XLOOKUP(1,(LSM!$A$2:$A$370=F$4)*(LSM!$T$2:$T$370=F$5)*(LSM!$B$2:$B$370=$E7),LSM!$C$2:$C$370,"")} -> 246.64 | G7: {=_xlfn.XLOOKUP(1,(LSM!$A$2:$A$370=F$4)*(LSM!$T$2:$T$370=F$5)*(LSM!$B$2:$B$370=$E7),LSM!$D$2:$D$370,"")} -> AB | H7: {=_xlfn.XLOOKUP(1,(LSM!$A$2:$A$370=H$4)*(LSM!$T$2:$T$370=H$5)*(LSM!$B$2:$B$370=$E7),LSM!$C$2:$C$370,"")} -> 266.87 | I7: {=_xlfn.XLOOKUP(1,(LSM!$A$2:$A$370=H$4)*(LSM!$T$2:$T$370=H$5)*(LSM!$B$2:$B$370=$E7),LSM!$D$2:$D$370,"")} -> A | J7: {=_xlfn.XLOOKUP(1,(LSM!$A$2:$A$370=J$4)*(LSM!$T$2:$T$370=J$5)*(LSM!$B$2:$B$370=$E7),LSM!$C$2:$C$370,"")} -> 294.62 | K7: {=_xlfn.XLOOKUP(1,(LSM!$A$2:$A$370=J$4)*(LSM!$T$2:$T$370=J$5)*(LSM!$B$2:$B$370=$E7),LSM!$D$2:$D$370,"")} -> AB | L7: {=_xlfn.XLOOKUP(1,(LSM!$A$2:$A$370=L$4)*(LSM!$T$2:$T$370=L$5)*(LSM!$B$2:$B$370=$E7),LSM!$C$2:$C$370,"")} -> 247.96 | M7: {=_xlfn.XLOOKUP(1,(LSM!$A$2:$A$370=L$4)*(LSM!$T$2:$T$370=L$5)*(LSM!$B$2:$B$370=$E7),LSM!$D$2:$D$370,"")} -> A | N7: {=_xlfn.XLOOKUP(1,(LSM!$A$2:$A$370=N$4)*(LSM!$T$2:$T$370=N$5)*(LSM!$B$2:$B$370=$E7),LSM!$C$2:$C$370,"")} -> 217.49 | O7: {=_xlfn.XLOOKUP(1,(LSM!$A$2:$A$370=N$4)*(LSM!$T$2:$T$370=N$5)*(LSM!$B$2:$B$370=$E7),LSM!$D$2:$D$370,"")} -> A | P7: {=_xlfn.XLOOKUP(1,(LSM!$A$2:$A$370=P$4)*(LSM!$T$2:$T$370=P$5)*(LSM!$B$2:$B$370=$E7),LSM!$C$2:$C$370,"")} -> 172.71 | Q7: {=_xlfn.XLOOKUP(1,(LSM!$A$2:$A$370=P$4)*(LSM!$T$2:$T$370=P$5)*(LSM!$B$2:$B$370=$E7),LSM!$D$2:$D$370,"")} -> A | R7: {=_xlfn.XLOOKUP(1,(LSM!$A$2:$A$370=R$4)*(LSM!$T$2:$T$370=R$5)*(LSM!$B$2:$B$370=$E7),LSM!$C$2:$C$370,"")} -> 250.82 | S7: {=_xlfn.XLOOKUP(1,(LSM!$A$2:$A$370=R$4)*(LSM!$T$2:$T$370=R$5)*(LSM!$B$2:$B$370=$E7),LSM!$D$2:$D$370,"")} -> A | T7: {=_xlfn.XLOOKUP(1,(LSM!$A$2:$A$370=T$4)*(LSM!$T$2:$T$370=T$5)*(LSM!$B$2:$B$370=$E7),LSM!$C$2:$C$370,"")} -> 271.88 | U7: {=_xlfn.XLOOKUP(1,(LSM!$A$2:$A$370=T$4)*(LSM!$T$2:$T$370=T$5)*(LSM!$B$2:$B$370=$E7),LSM!$D$2:$D$370,"")} -> BC | V7: {=_xlfn.XLOOKUP(1,(LSM!$A$2:$A$370=V$4)*(LSM!$T$2:$T$370=V$5)*(LSM!$B$2:$B$370=$E7),LSM!$C$2:$C$370,"")} -> 249.64 | W7: {=_xlfn.XLOOKUP(1,(LSM!$A$2:$A$370=V$4)*(LSM!$T$2:$T$370=V$5)*(LSM!$B$2:$B$370=$E7),LSM!$D$2:$D$370,"")} -> A | X7: {=_xlfn.XLOOKUP(1,(LSM!$A$2:$A$370=X$4)*(LSM!$T$2:$T$370=X$5)*(LSM!$B$2:$B$370=$E7),LSM!$C$2:$C$370,"")} | Y7: {=_xlfn.XLOOKUP(1,(LSM!$A$2:$A$370=X$4)*(LSM!$T$2:$T$370=X$5)*(LSM!$B$2:$B$370=$E7),LSM!$D$2:$D$370,"")} | AA7: =IF(H7>H$17,1,0) -> 1 | AB7: =IF(J7>J$17,1,0) -> 1 | AC7: =IF(L7>L$17,1,0) -> 1 | AD7: =IF(N7>N$17,1,0) -> 1 | AE7: =IF(P7>P$17,1,0) -> 0 | AF7: =IF(R7>R$17,1,0) -> 0 | AG7: =IF(T7>T$17,1,0) -> 1 | AH7: =IF(V7>V$17,1,0) -> 1 | AJ7: =SUM(AA7:AI7)/COUNT(AA7:AI7) -> 0.75
A8: =VLOOKUP(E8,VL_2020,2,FALSE) -> Innvictis A1993T | B8: =VLOOKUP(E8,VL_2020,3,FALSE) -> RR | C8: =VLOOKUP(E8,VL_2020,4,FALSE) -> TRE | D8: =AJ8 -> 0.5 | E8: C24012 | F8: {=_xlfn.XLOOKUP(1,(LSM!$A$2:$A$370=F$4)*(LSM!$T$2:$T$370=F$5)*(LSM!$B$2:$B$370=$E8),LSM!$C$2:$C$370,"")} -> 245.92 | G8: {=_xlfn.XLOOKUP(1,(LSM!$A$2:$A$370=F$4)*(LSM!$T$2:$T$370=F$5)*(LSM!$B$2:$B$370=$E8),LSM!$D$2:$D$370,"")} -> AB | H8: {=_xlfn.XLOOKUP(1,(LSM!$A$2:$A$370=H$4)*(LSM!$T$2:$T$370=H$5)*(LSM!$B$2:$B$370=$E8),LSM!$C$2:$C$370,"")} -> 273.69 | I8: {=_xlfn.XLOOKUP(1,(LSM!$A$2:$A$370=H$4)*(LSM!$T$2:$T$370=H$5)*(LSM!$B$2:$B$370=$E8),LSM!$D$2:$D$370,"")} -> A | J8: {=_xlfn.XLOOKUP(1,(LSM!$A$2:$A$370=J$4)*(LSM!$T$2:$T$370=J$5)*(LSM!$B$2:$B$370=$E8),LSM!$C$2:$C$370,"")} -> 313.37 | K8: {=_xlfn.XLOOKUP(1,(LSM!$A$2:$A$370=J$4)*(LSM!$T$2:$T$370=J$5)*(LSM!$B$2:$B$370=$E8),LSM!$D$2:$D$370,"")} -> A | L8: {=_xlfn.XLOOKUP(1,(LSM!$A$2:$A$370=L$4)*(LSM!$T$2:$T$370=L$5)*(LSM!$B$2:$B$370=$E8),LSM!$C$2:$C$370,"")} -> 227.15 | M8: {=_xlfn.XLOOKUP(1,(LSM!$A$2:$A$370=L$4)*(LSM!$T$2:$T$370=L$5)*(LSM!$B$2:$B$370=$E8),LSM!$D$2:$D$370,"")} -> A | N8: {=_xlfn.XLOOKUP(1,(LSM!$A$2:$A$370=N$4)*(LSM!$T$2:$T$370=N$5)*(LSM!$B$2:$B$370=$E8),LSM!$C$2:$C$370,"")} -> 200.42 | O8: {=_xlfn.XLOOKUP(1,(LSM!$A$2:$A$370=N$4)*(LSM!$T$2:$T$370=N$5)*(LSM!$B$2:$B$370=$E8),LSM!$D$2:$D$370,"")} -> A | P8: {=_xlfn.XLOOKUP(1,(LSM!$A$2:$A$370=P$4)*(LSM!$T$2:$T$370=P$5)*(LSM!$B$2:$B$370=$E8),LSM!$C$2:$C$370,"")} -> 211.57 | Q8: {=_xlfn.XLOOKUP(1,(LSM!$A$2:$A$370=P$4)*(LSM!$T$2:$T$370=P$5)*(LSM!$B$2:$B$370=$E8),LSM!$D$2:$D$370,"")} -> A | R8: {=_xlfn.XLOOKUP(1,(LSM!$A$2:$A$370=R$4)*(LSM!$T$2:$T$370=R$5)*(LSM!$B$2:$B$370=$E8),LSM!$C$2:$C$370,"")} -> 273.05 | S8: {=_xlfn.XLOOKUP(1,(LSM!$A$2:$A$370=R$4)*(LSM!$T$2:$T$370=R$5)*(LSM!$B$2:$B$370=$E8),LSM!$D$2:$D$370,"")} -> A | T8: {=_xlfn.XLOOKUP(1,(LSM!$A$2:$A$370=T$4)*(LSM!$T$2:$T$370=T$5)*(LSM!$B$2:$B$370=$E8),LSM!$C$2:$C$370,"")} -> 268.76 | U8: {=_xlfn.XLOOKUP(1,(LSM!$A$2:$A$370=T$4)*(LSM!$T$2:$T$370=T$5)*(LSM!$B$2:$B$370=$E8),LSM!$D$2:$D$370,"")} -> B-D | V8: {=_xlfn.XLOOKUP(1,(LSM!$A$2:$A$370=V$4)*(LSM!$T$2:$T$370=V$5)*(LSM!$B$2:$B$370=$E8),LSM!$C$2:$C$370,"")} -> 202.51 | W8: {=_xlfn.XLOOKUP(1,(LSM!$A$2:$A$370=V$4)*(LSM!$T$2:$T$370=V$5)*(LSM!$B$2:$B$370=$E8),LSM!$D$2:$D$370,"")} -> A | X8: {=_xlfn.XLOOKUP(1,(LSM!$A$2:$A$370=X$4)*(LSM!$T$2:$T$370=X$5)*(LSM!$B$2:$B$370=$E8),LSM!$C$2:$C$370,"")} | Y8: {=_xlfn.XLOOKUP(1,(LSM!$A$2:$A$370=X$4)*(LSM!$T$2:$T$370=X$5)*(LSM!$B$2:$B$370=$E8),LSM!$D$2:$D$370,"")} | AA8: =IF(H8>H$17,1,0) -> 1 | AB8: =IF(J8>J$17,1,0) -> 1 | AC8: =IF(L8>L$17,1,0) -> 0 | AD8: =IF(N8>N$17,1,0) -> 0 | AE8: =IF(P8>P$17,1,0) -> 1 | AF8: =IF(R8>R$17,1,0) -> 1 | AG8: =IF(T8>T$17,1,0) -> 0 | AH8: =IF(V8>V$17,1,0) -> 0 | AJ8: =SUM(AA8:AI8)/COUNT(AA8:AI8) -> 0.5
A9: =VLOOKUP(E9,VL_2020,2,FALSE) -> Dyna-Gro D60TC45RIB | B9: =VLOOKUP(E9,VL_2020,3,FALSE) -> RR | C9: =VLOOKUP(E9,VL_2020,4,FALSE) -> TRE | D9: =AJ9 -> 0.5 | E9: C25024 | F9: {=_xlfn.XLOOKUP(1,(LSM!$A$2:$A$370=F$4)*(LSM!$T$2:$T$370=F$5)*(LSM!$B$2:$B$370=$E9),LSM!$C$2:$C$370,"")} -> 245.33 | G9: {=_xlfn.XLOOKUP(1,(LSM!$A$2:$A$370=F$4)*(LSM!$T$2:$T$370=F$5)*(LSM!$B$2:$B$370=$E9),LSM!$D$2:$D$370,"")} -> A-C | H9: {=_xlfn.XLOOKUP(1,(LSM!$A$2:$A$370=H$4)*(LSM!$T$2:$T$370=H$5)*(LSM!$B$2:$B$370=$E9),LSM!$C$2:$C$370,"")} -> 249.23 | I9: {=_xlfn.XLOOKUP(1,(LSM!$A$2:$A$370=H$4)*(LSM!$T$2:$T$370=H$5)*(LSM!$B$2:$B$370=$E9),LSM!$D$2:$D$370,"")} -> A | J9: {=_xlfn.XLOOKUP(1,(LSM!$A$2:$A$370=J$4)*(LSM!$T$2:$T$370=J$5)*(LSM!$B$2:$B$370=$E9),LSM!$C$2:$C$370,"")} -> 317.37 | K9: {=_xlfn.XLOOKUP(1,(LSM!$A$2:$A$370=J$4)*(LSM!$T$2:$T$370=J$5)*(LSM!$B$2:$B$370=$E9),LSM!$D$2:$D$370,"")} -> A | L9: {=_xlfn.XLOOKUP(1,(LSM!$A$2:$A$370=L$4)*(LSM!$T$2:$T$370=L$5)*(LSM!$B$2:$B$370=$E9),LSM!$C$2:$C$370,"")} -> 224.72 | M9: {=_xlfn.XLOOKUP(1,(LSM!$A$2:$A$370=L$4)*(LSM!$T$2:$T$370=L$5)*(LSM!$B$2:$B$370=$E9),LSM!$D$2:$D$370,"")} -> A | N9: {=_xlfn.XLOOKUP(1,(LSM!$A$2:$A$370=N$4)*(LSM!$T$2:$T$370=N$5)*(LSM!$B$2:$B$370=$E9),LSM!$C$2:$C$370,"")} -> 196.43 | O9: {=_xlfn.XLOOKUP(1,(LSM!$A$2:$A$370=N$4)*(LSM!$T$2:$T$370=N$5)*(LSM!$B$2:$B$370=$E9),LSM!$D$2:$D$370,"")} -> A | P9: {=_xlfn.XLOOKUP(1,(LSM!$A$2:$A$370=P$4)*(LSM!$T$2:$T$370=P$5)*(LSM!$B$2:$B$370=$E9),LSM!$C$2:$C$370,"")} -> 205.16 | Q9: {=_xlfn.XLOOKUP(1,(LSM!$A$2:$A$370=P$4)*(LSM!$T$2:$T$370=P$5)*(LSM!$B$2:$B$370=$E9),LSM!$D$2:$D$370,"")} -> A | R9: {=_xlfn.XLOOKUP(1,(LSM!$A$2:$A$370=R$4)*(LSM!$T$2:$T$370=R$5)*(LSM!$B$2:$B$370=$E9),LSM!$C$2:$C$370,"")} -> 275.75 | S9: {=_xlfn.XLOOKUP(1,(LSM!$A$2:$A$370=R$4)*(LSM!$T$2:$T$370=R$5)*(LSM!$B$2:$B$370=$E9),LSM!$D$2:$D$370,"")} -> A | T9: {=_xlfn.XLOOKUP(1,(LSM!$A$2:$A$370=T$4)*(LSM!$T$2:$T$370=T$5)*(LSM!$B$2:$B$370=$E9),LSM!$C$2:$C$370,"")} -> 262.43 | U9: {=_xlfn.XLOOKUP(1,(LSM!$A$2:$A$370=T$4)*(LSM!$T$2:$T$370=T$5)*(LSM!$B$2:$B$370=$E9),LSM!$D$2:$D$370,"")} -> CD | V9: {=_xlfn.XLOOKUP(1,(LSM!$A$2:$A$370=V$4)*(LSM!$T$2:$T$370=V$5)*(LSM!$B$2:$B$370=$E9),LSM!$C$2:$C$370,"")} -> 238.48 | W9: {=_xlfn.XLOOKUP(1,(LSM!$A$2:$A$370=V$4)*(LSM!$T$2:$T$370=V$5)*(LSM!$B$2:$B$370=$E9),LSM!$D$2:$D$370,"")} -> A | X9: {=_xlfn.XLOOKUP(1,(LSM!$A$2:$A$370=X$4)*(LSM!$T$2:$T$370=X$5)*(LSM!$B$2:$B$370=$E9),LSM!$C$2:$C$370,"")} | Y9: {=_xlfn.XLOOKUP(1,(LSM!$A$2:$A$370=X$4)*(LSM!$T$2:$T$370=X$5)*(LSM!$B$2:$B$370=$E9),LSM!$D$2:$D$370,"")} | AA9: =IF(H9>H$17,1,0) -> 0 | AB9: =IF(J9>J$17,1,0) -> 1 | AC9: =IF(L9>L$17,1,0) -> 0 | AD9: =IF(N9>N$17,1,0) -> 0 | AE9: =IF(P9>P$17,1,0) -> 1 | AF9: =IF(R9>R$17,1,0) -> 1 | AG9: =IF(T9>T$17,1,0) -> 0 | AH9: =IF(V9>V$17,1,0) -> 1 | AJ9: =SUM(AA9:AI9)/COUNT(AA9:AI9) -> 0.5
A10: =VLOOKUP(E10,VL_2020,2,FALSE) -> Dekalb DKC68-35 | B10: =VLOOKUP(E10,VL_2020,3,FALSE) -> RR | C10: =VLOOKUP(E10,VL_2020,4,FALSE) -> GENVT2P | D10: =AJ10 -> 0.75 | E10: C26003 | F10: {=_xlfn.XLOOKUP(1,(LSM!$A$2:$A$370=F$4)*(LSM!$T$2:$T$370=F$5)*(LSM!$B$2:$B$370=$E10),LSM!$C$2:$C$370,"")} -> 242.8 | G10: {=_xlfn.XLOOKUP(1,(LSM!$A$2:$A$370=F$4)*(LSM!$T$2:$T$370=F$5)*(LSM!$B$2:$B$370=$E10),LSM!$D$2:$D$370,"")} -> A-C | H10: {=_xlfn.XLOOKUP(1,(LSM!$A$2:$A$370=H$4)*(LSM!$T$2:$T$370=H$5)*(LSM!$B$2:$B$370=$E10),LSM!$C$2:$C$370,"")} -> 268.23 | I10: {=_xlfn.XLOOKUP(1,(LSM!$A$2:$A$370=H$4)*(LSM!$T$2:$T$370=H$5)*(LSM!$B$2:$B$370=$E10),LSM!$D$2:$D$370,"")} -> A | J10: {=_xlfn.XLOOKUP(1,(LSM!$A$2:$A$370=J$4)*(LSM!$T$2:$T$370=J$5)*(LSM!$B$2:$B$370=$E10),LSM!$C$2:$C$370,"")} -> 280.52 | K10: {=_xlfn.XLOOKUP(1,(LSM!$A$2:$A$370=J$4)*(LSM!$T$2:$T$370=J$5)*(LSM!$B$2:$B$370=$E10),LSM!$D$2:$D$370,"")} -> A-C | L10: {=_xlfn.XLOOKUP(1,(LSM!$A$2:$A$370=L$4)*(LSM!$T$2:$T$370=L$5)*(LSM!$B$2:$B$370=$E10),LSM!$C$2:$C$370,"")} -> 220.06 | M10: {=_xlfn.XLOOKUP(1,(LSM!$A$2:$A$370=L$4)*(LSM!$T$2:$T$370=L$5)*(LSM!$B$2:$B$370=$E10),LSM!$D$2:$D$370,"")} -> A | N10: {=_xlfn.XLOOKUP(1,(LSM!$A$2:$A$370=N$4)*(LSM!$T$2:$T$370=N$5)*(LSM!$B$2:$B$370=$E10),LSM!$C$2:$C$370,"")} -> 216.62 | O10: {=_xlfn.XLOOKUP(1,(LSM!$A$2:$A$370=N$4)*(LSM!$T$2:$T$370=N$5)*(LSM!$B$2:$B$370=$E10),LSM!$D$2:$D$370,"")} -> A | P10: {=_xlfn.XLOOKUP(1,(LSM!$A$2:$A$370=P$4)*(LSM!$T$2:$T$370=P$5)*(LSM!$B$2:$B$370=$E10),LSM!$C$2:$C$370,"")} -> 177.71 | Q10: {=_xlfn.XLOOKUP(1,(LSM!$A$2:$A$370=P$4)*(LSM!$T$2:$T$370=P$5)*(LSM!$B$2:$B$370=$E10),LSM!$D$2:$D$370,"")} -> A | R10: {=_xlfn.XLOOKUP(1,(LSM!$A$2:$A$370=R$4)*(LSM!$T$2:$T$370=R$5)*(LSM!$B$2:$B$370=$E10),LSM!$C$2:$C$370,"")} -> 266.89 | S10: {=_xlfn.XLOOKUP(1,(LSM!$A$2:$A$370=R$4)*(LSM!$T$2:$T$370=R$5)*(LSM!$B$2:$B$370=$E10),LSM!$D$2:$D$370,"")} -> A | T10: {=_xlfn.XLOOKUP(1,(LSM!$A$2:$A$370=T$4)*(LSM!$T$2:$T$370=T$5)*(LSM!$B$2:$B$370=$E10),LSM!$C$2:$C$370,"")} -> 276.14 | U10: {=_xlfn.XLOOKUP(1,(LSM!$A$2:$A$370=T$4)*(LSM!$T$2:$T$370=T$5)*(LSM!$B$2:$B$370=$E10),LSM!$D$2:$D$370,"")} -> A-C | V10: {=_xlfn.XLOOKUP(1,(LSM!$A$2:$A$370=V$4)*(LSM!$T$2:$T$370=V$5)*(LSM!$B$2:$B$370=$E10),LSM!$C$2:$C$370,"")} -> 236.19 | W10: {=_xlfn.XLOOKUP(1,(LSM!$A$2:$A$370=V$4)*(LSM!$T$2:$T$370=V$5)*(LSM!$B$2:$B$370=$E10),LSM!$D$2:$D$370,"")} -> A | X10: {=_xlfn.XLOOKUP(1,(LSM!$A$2:$A$370=X$4)*(LSM!$T$2:$T$370=X$5)*(LSM!$B$2:$B$370=$E10),LSM!$C$2:$C$370,"")} | Y10: {=_xlfn.XLOOKUP(1,(LSM!$A$2:$A$370=X$4)*(LSM!$T$2:$T$370=X$5)*(LSM!$B$2:$B$370=$E10),LSM!$D$2:$D$370,"")} | AA10: =IF(H10>H$17,1,0) -> 1 | AB10: =IF(J10>J$17,1,0) -> 1 | AC10: =IF(L10>L$17,1,0) -> 0 | AD10: =IF(N10>N$17,1,0) -> 1 | AE10: =IF(P10>P$17,1,0) -> 0 | AF10: =IF(R10>R$17,1,0) -> 1 | AG10: =IF(T10>T$17,1,0) -> 1 | AH10: =IF(V10>V$17,1,0) -> 1 | AJ10: =SUM(AA10:AI10)/COUNT(AA10:AI10) -> 0.75
A11: =VLOOKUP(E11,VL_2020,2,FALSE) -> Integra 6915 VT2P | B11: =VLOOKUP(E11,VL_2020,3,FALSE) -> RR | C11: =VLOOKUP(E11,VL_2020,4,FALSE) -> VT2P | D11: =AJ11 -> 0.625 | E11: C26017 | F11: {=_xlfn.XLOOKUP(1,(LSM!$A$2:$A$370=F$4)*(LSM!$T$2:$T$370=F$5)*(LSM!$B$2:$B$370=$E11),LSM!$C$2:$C$370,"")} -> 242.67 | G11: {=_xlfn.XLOOKUP(1,(LSM!$A$2:$A$370=F$4)*(LSM!$T$2:$T$370=F$5)*(LSM!$B$2:$B$370=$E11),LSM!$D$2:$D$370,"")} -> A-C | H11: {=_xlfn.XLOOKUP(1,(LSM!$A$2:$A$370=H$4)*(LSM!$T$2:$T$370=H$5)*(LSM!$B$2:$B$370=$E11),LSM!$C$2:$C$370,"")} -> 253.43 | I11: {=_xlfn.XLOOKUP(1,(LSM!$A$2:$A$370=H$4)*(LSM!$T$2:$T$370=H$5)*(LSM!$B$2:$B$370=$E11),LSM!$D$2:$D$370,"")} -> A | J11: {=_xlfn.XLOOKUP(1,(LSM!$A$2:$A$370=J$4)*(LSM!$T$2:$T$370=J$5)*(LSM!$B$2:$B$370=$E11),LSM!$C$2:$C$370,"")} -> 312.52 | K11: {=_xlfn.XLOOKUP(1,(LSM!$A$2:$A$370=J$4)*(LSM!$T$2:$T$370=J$5)*(LSM!$B$2:$B$370=$E11),LSM!$D$2:$D$370,"")} -> A | L11: {=_xlfn.XLOOKUP(1,(LSM!$A$2:$A$370=L$4)*(LSM!$T$2:$T$370=L$5)*(LSM!$B$2:$B$370=$E11),LSM!$C$2:$C$370,"")} -> 240.96 | M11: {=_xlfn.XLOOKUP(1,(LSM!$A$2:$A$370=L$4)*(LSM!$T$2:$T$370=L$5)*(LSM!$B$2:$B$370=$E11),LSM!$D$2:$D$370,"")} -> A | N11: {=_xlfn.XLOOKUP(1,(LSM!$A$2:$A$370=N$4)*(LSM!$T$2:$T$370=N$5)*(LSM!$B$2:$B$370=$E11),LSM!$C$2:$C$370,"")} -> 208.04 | O11: {=_xlfn.XLOOKUP(1,(LSM!$A$2:$A$370=N$4)*(LSM!$T$2:$T$370=N$5)*(LSM!$B$2:$B$370=$E11),LSM!$D$2:$D$370,"")} -> A | P11: {=_xlfn.XLOOKUP(1,(LSM!$A$2:$A$370=P$4)*(LSM!$T$2:$T$370=P$5)*(LSM!$B$2:$B$370=$E11),LSM!$C$2:$C$370,"")} -> 191.81 | Q11: {=_xlfn.XLOOKUP(1,(LSM!$A$2:$A$370=P$4)*(LSM!$T$2:$T$370=P$5)*(LSM!$B$2:$B$370=$E11),LSM!$D$2:$D$370,"")} -> A | R11: {=_xlfn.XLOOKUP(1,(LSM!$A$2:$A$370=R$4)*(LSM!$T$2:$T$370=R$5)*(LSM!$B$2:$B$370=$E11),LSM!$C$2:$C$370,"")} -> 253.13 | S11: {=_xlfn.XLOOKUP(1,(LSM!$A$2:$A$370=R$4)*(LSM!$T$2:$T$370=R$5)*(LSM!$B$2:$B$370=$E11),LSM!$D$2:$D$370,"")} -> A | T11: {=_xlfn.XLOOKUP(1,(LSM!$A$2:$A$370=T$4)*(LSM!$T$2:$T$370=T$5)*(LSM!$B$2:$B$370=$E11),LSM!$C$2:$C$370,"")} -> 281.07 | U11: {=_xlfn.XLOOKUP(1,(LSM!$A$2:$A$370=T$4)*(LSM!$T$2:$T$370=T$5)*(LSM!$B$2:$B$370=$E11),LSM!$D$2:$D$370,"")} -> AB | V11: {=_xlfn.XLOOKUP(1,(LSM!$A$2:$A$370=V$4)*(LSM!$T$2:$T$370=V$5)*(LSM!$B$2:$B$370=$E11),LSM!$C$2:$C$370,"")} -> 200.43 | W11: {=_xlfn.XLOOKUP(1,(LSM!$A$2:$A$370=V$4)*(LSM!$T$2:$T$370=V$5)*(LSM!$B$2:$B$370=$E11),LSM!$D$2:$D$370,"")} -> A | X11: {=_xlfn.XLOOKUP(1,(LSM!$A$2:$A$370=X$4)*(LSM!$T$2:$T$370=X$5)*(LSM!$B$2:$B$370=$E11),LSM!$C$2:$C$370,"")} | Y11: {=_xlfn.XLOOKUP(1,(LSM!$A$2:$A$370=X$4)*(LSM!$T$2:$T$370=X$5)*(LSM!$B$2:$B$370=$E11),LSM!$D$2:$D$370,"")} | AA11: =IF(H11>H$17,1,0) -> 0 | AB11: =IF(J11>J$17,1,0) -> 1 | AC11: =IF(L11>L$17,1,0) -> 1 | AD11: =IF(N11>N$17,1,0) -> 1 | AE11: =IF(P11>P$17,1,0) -> 1 | AF11: =IF(R11>R$17,1,0) -> 0 | AG11: =IF(T11>T$17,1,0) -> 1 | AH11: =IF(V11>V$17,1,0) -> 0 | AJ11: =SUM(AA11:AI11)/COUNT(AA11:AI11) -> 0.625
A12: =VLOOKUP(E12,VL_2020,2,FALSE) -> Innvictis A1776VT2P | B12: =VLOOKUP(E12,VL_2020,3,FALSE) -> RR | C12: =VLOOKUP(E12,VL_2020,4,FALSE) -> VT2P | D12: =AJ12 -> 0.75 | E12: C26016 | F12: {=_xlfn.XLOOKUP(1,(LSM!$A$2:$A$370=F$4)*(LSM!$T$2:$T$370=F$5)*(LSM!$B$2:$B$370=$E12),LSM!$C$2:$C$370,"")} -> 242.19 | G12: {=_xlfn.XLOOKUP(1,(LSM!$A$2:$A$370=F$4)*(LSM!$T$2:$T$370=F$5)*(LSM!$B$2:$B$370=$E12),LSM!$D$2:$D$370,"")} -> A-C | H12: {=_xlfn.XLOOKUP(1,(LSM!$A$2:$A$370=H$4)*(LSM!$T$2:$T$370=H$5)*(LSM!$B$2:$B$370=$E12),LSM!$C$2:$C$370,"")} -> 276.12 | I12: {=_xlfn.XLOOKUP(1,(LSM!$A$2:$A$370=H$4)*(LSM!$T$2:$T$370=H$5)*(LSM!$B$2:$B$370=$E12),LSM!$D$2:$D$370,"")} -> A | J12: {=_xlfn.XLOOKUP(1,(LSM!$A$2:$A$370=J$4)*(LSM!$T$2:$T$370=J$5)*(LSM!$B$2:$B$370=$E12),LSM!$C$2:$C$370,"")} -> 248.66 | K12: {=_xlfn.XLOOKUP(1,(LSM!$A$2:$A$370=J$4)*(LSM!$T$2:$T$370=J$5)*(LSM!$B$2:$B$370=$E12),LSM!$D$2:$D$370,"")} -> B-D | L12: {=_xlfn.XLOOKUP(1,(LSM!$A$2:$A$370=L$4)*(LSM!$T$2:$T$370=L$5)*(LSM!$B$2:$B$370=$E12),LSM!$C$2:$C$370,"")} -> 230.17 | M12: {=_xlfn.XLOOKUP(1,(LSM!$A$2:$A$370=L$4)*(LSM!$T$2:$T$370=L$5)*(LSM!$B$2:$B$370=$E12),LSM!$D$2:$D$370,"")} -> A | N12: {=_xlfn.XLOOKUP(1,(LSM!$A$2:$A$370=N$4)*(LSM!$T$2:$T$370=N$5)*(LSM!$B$2:$B$370=$E12),LSM!$C$2:$C$370,"")} -> 212.51 | O12: {=_xlfn.XLOOKUP(1,(LSM!$A$2:$A$370=N$4)*(LSM!$T$2:$T$370=N$5)*(LSM!$B$2:$B$370=$E12),LSM!$D$2:$D$370,"")} -> A | P12: {=_xlfn.XLOOKUP(1,(LSM!$A$2:$A$370=P$4)*(LSM!$T$2:$T$370=P$5)*(LSM!$B$2:$B$370=$E12),LSM!$C$2:$C$370,"")} -> 189.52 | Q12: {=_xlfn.XLOOKUP(1,(LSM!$A$2:$A$370=P$4)*(LSM!$T$2:$T$370=P$5)*(LSM!$B$2:$B$370=$E12),LSM!$D$2:$D$370,"")} -> A | R12: {=_xlfn.XLOOKUP(1,(LSM!$A$2:$A$370=R$4)*(LSM!$T$2:$T$370=R$5)*(LSM!$B$2:$B$370=$E12),LSM!$C$2:$C$370,"")} -> 265.21 | S12: {=_xlfn.XLOOKUP(1,(LSM!$A$2:$A$370=R$4)*(LSM!$T$2:$T$370=R$5)*(LSM!$B$2:$B$370=$E12),LSM!$D$2:$D$370,"")} -> A | T12: {=_xlfn.XLOOKUP(1,(LSM!$A$2:$A$370=T$4)*(LSM!$T$2:$T$370=T$5)*(LSM!$B$2:$B$370=$E12),LSM!$C$2:$C$370,"")} -> 293.06 | U12: {=_xlfn.XLOOKUP(1,(LSM!$A$2:$A$370=T$4)*(LSM!$T$2:$T$370=T$5)*(LSM!$B$2:$B$370=$E12),LSM!$D$2:$D$370,"")} -> A | V12: {=_xlfn.XLOOKUP(1,(LSM!$A$2:$A$370=V$4)*(LSM!$T$2:$T$370=V$5)*(LSM!$B$2:$B$370=$E12),LSM!$C$2:$C$370,"")} -> 233.05 | W12: {=_xlfn.XLOOKUP(1,(LSM!$A$2:$A$370=V$4)*(LSM!$T$2:$T$370=V$5)*(LSM!$B$2:$B$370=$E12),LSM!$D$2:$D$370,"")} -> A | X12: {=_xlfn.XLOOKUP(1,(LSM!$A$2:$A$370=X$4)*(LSM!$T$2:$T$370=X$5)*(LSM!$B$2:$B$370=$E12),LSM!$C$2:$C$370,"")} | Y12: {=_xlfn.XLOOKUP(1,(LSM!$A$2:$A$370=X$4)*(LSM!$T$2:$T$370=X$5)*(LSM!$B$2:$B$370=$E12),LSM!$D$2:$D$370,"")} | AA12: =IF(H12>H$17,1,0) -> 1 | AB12: =IF(J12>J$17,1,0) -> 0 | AC12: =IF(L12>L$17,1,0) -> 1 | AD12: =IF(N12>N$17,1,0) -> 1 | AE12: =IF(P12>P$17,1,0) -> 0 | AF12: =IF(R12>R$17,1,0) -> 1 | AG12: =IF(T12>T$17,1,0) -> 1 | AH12: =IF(V12>V$17,1,0) -> 1 | AJ12: =SUM(AA12:AI12)/COUNT(AA12:AI12) -> 0.75
A13: =VLOOKUP(E13,VL_2020,2,FALSE) -> Great Heart HT-7720TRE | B13: =VLOOKUP(E13,VL_2020,3,FALSE) -> TRE | C13: =VLOOKUP(E13,VL_2020,4,FALSE) -> TRE | D13: =AJ13 -> 0.375 | E13: C26014 | F13: {=_xlfn.XLOOKUP(1,(LSM!$A$2:$A$370=F$4)*(LSM!$T$2:$T$370=F$5)*(LSM!$B$2:$B$370=$E13),LSM!$C$2:$C$370,"")} -> 237.41 | G13: {=_xlfn.XLOOKUP(1,(LSM!$A$2:$A$370=F$4)*(LSM!$T$2:$T$370=F$5)*(LSM!$B$2:$B$370=$E13),LSM!$D$2:$D$370,"")} -> A-D | H13: {=_xlfn.XLOOKUP(1,(LSM!$A$2:$A$370=H$4)*(LSM!$T$2:$T$370=H$5)*(LSM!$B$2:$B$370=$E13),LSM!$C$2:$C$370,"")} -> 274.01 | I13: {=_xlfn.XLOOKUP(1,(LSM!$A$2:$A$370=H$4)*(LSM!$T$2:$T$370=H$5)*(LSM!$B$2:$B$370=$E13),LSM!$D$2:$D$370,"")} -> A | J13: {=_xlfn.XLOOKUP(1,(LSM!$A$2:$A$370=J$4)*(LSM!$T$2:$T$370=J$5)*(LSM!$B$2:$B$370=$E13),LSM!$C$2:$C$370,"")} -> 264.62 | K13: {=_xlfn.XLOOKUP(1,(LSM!$A$2:$A$370=J$4)*(LSM!$T$2:$T$370=J$5)*(LSM!$B$2:$B$370=$E13),LSM!$D$2:$D$370,"")} -> B-D | L13: {=_xlfn.XLOOKUP(1,(LSM!$A$2:$A$370=L$4)*(LSM!$T$2:$T$370=L$5)*(LSM!$B$2:$B$370=$E13),LSM!$C$2:$C$370,"")} -> 227.46 | M13: {=_xlfn.XLOOKUP(1,(LSM!$A$2:$A$370=L$4)*(LSM!$T$2:$T$370=L$5)*(LSM!$B$2:$B$370=$E13),LSM!$D$2:$D$370,"")} -> A | N13: {=_xlfn.XLOOKUP(1,(LSM!$A$2:$A$370=N$4)*(LSM!$T$2:$T$370=N$5)*(LSM!$B$2:$B$370=$E13),LSM!$C$2:$C$370,"")} -> 218.63 | O13: {=_xlfn.XLOOKUP(1,(LSM!$A$2:$A$370=N$4)*(LSM!$T$2:$T$370=N$5)*(LSM!$B$2:$B$370=$E13),LSM!$D$2:$D$370,"")} -> A | P13: {=_xlfn.XLOOKUP(1,(LSM!$A$2:$A$370=P$4)*(LSM!$T$2:$T$370=P$5)*(LSM!$B$2:$B$370=$E13),LSM!$C$2:$C$370,"")} -> 197.28 | Q13: {=_xlfn.XLOOKUP(1,(LSM!$A$2:$A$370=P$4)*(LSM!$T$2:$T$370=P$5)*(LSM!$B$2:$B$370=$E13),LSM!$D$2:$D$370,"")} -> A | R13: {=_xlfn.XLOOKUP(1,(LSM!$A$2:$A$370=R$4)*(LSM!$T$2:$T$370=R$5)*(LSM!$B$2:$B$370=$E13),LSM!$C$2:$C$370,"")} -> 254.55 | S13: {=_xlfn.XLOOKUP(1,(LSM!$A$2:$A$370=R$4)*(LSM!$T$2:$T$370=R$5)*(LSM!$B$2:$B$370=$E13),LSM!$D$2:$D$370,"")} -> A | T13: {=_xlfn.XLOOKUP(1,(LSM!$A$2:$A$370=T$4)*(LSM!$T$2:$T$370=T$5)*(LSM!$B$2:$B$370=$E13),LSM!$C$2:$C$370,"")} -> 265.77 | U13: {=_xlfn.XLOOKUP(1,(LSM!$A$2:$A$370=T$4)*(LSM!$T$2:$T$370=T$5)*(LSM!$B$2:$B$370=$E13),LSM!$D$2:$D$370,"")} -> B-D | V13: {=_xlfn.XLOOKUP(1,(LSM!$A$2:$A$370=V$4)*(LSM!$T$2:$T$370=V$5)*(LSM!$B$2:$B$370=$E13),LSM!$C$2:$C$370,"")} -> 197.02 | W13: {=_xlfn.XLOOKUP(1,(LSM!$A$2:$A$370=V$4)*(LSM!$T$2:$T$370=V$5)*(LSM!$B$2:$B$370=$E13),LSM!$D$2:$D$370,"")} -> A | X13: {=_xlfn.XLOOKUP(1,(LSM!$A$2:$A$370=X$4)*(LSM!$T$2:$T$370=X$5)*(LSM!$B$2:$B$370=$E13),LSM!$C$2:$C$370,"")} | Y13: {=_xlfn.XLOOKUP(1,(LSM!$A$2:$A$370=X$4)*(LSM!$T$2:$T$370=X$5)*(LSM!$B$2:$B$370=$E13),LSM!$D$2:$D$370,"")} | AA13: =IF(H13>H$17,1,0) -> 1 | AB13: =IF(J13>J$17,1,0) -> 0 | AC13: =IF(L13>L$17,1,0) -> 0 | AD13: =IF(N13>N$17,1,0) -> 1 | AE13: =IF(P13>P$17,1,0) -> 1 | AF13: =IF(R13>R$17,1,0) -> 0 | AG13: =IF(T13>T$17,1,0) -> 0 | AH13: =IF(V13>V$17,1,0) -> 0 | AJ13: =SUM(AA13:AI13)/COUNT(AA13:AI13) -> 0.375
A14: =VLOOKUP(E14,VL_2020,2,FALSE) -> Innvictis A1792T | B14: =VLOOKUP(E14,VL_2020,3,FALSE) -> RR | C14: =VLOOKUP(E14,VL_2020,4,FALSE) -> TRE | D14: =AJ14 -> 0 | E14: C24011 | F14: {=_xlfn.XLOOKUP(1,(LSM!$A$2:$A$370=F$4)*(LSM!$T$2:$T$370=F$5)*(LSM!$B$2:$B$370=$E14),LSM!$C$2:$C$370,"")} -> 231.4 | G14: {=_xlfn.XLOOKUP(1,(LSM!$A$2:$A$370=F$4)*(LSM!$T$2:$T$370=F$5)*(LSM!$B$2:$B$370=$E14),LSM!$D$2:$D$370,"")} -> B-D | H14: {=_xlfn.XLOOKUP(1,(LSM!$A$2:$A$370=H$4)*(LSM!$T$2:$T$370=H$5)*(LSM!$B$2:$B$370=$E14),LSM!$C$2:$C$370,"")} -> 259.51 | I14: {=_xlfn.XLOOKUP(1,(LSM!$A$2:$A$370=H$4)*(LSM!$T$2:$T$370=H$5)*(LSM!$B$2:$B$370=$E14),LSM!$D$2:$D$370,"")} -> A | J14: {=_xlfn.XLOOKUP(1,(LSM!$A$2:$A$370=J$4)*(LSM!$T$2:$T$370=J$5)*(LSM!$B$2:$B$370=$E14),LSM!$C$2:$C$370,"")} -> 260.73 | K14: {=_xlfn.XLOOKUP(1,(LSM!$A$2:$A$370=J$4)*(LSM!$T$2:$T$370=J$5)*(LSM!$B$2:$B$370=$E14),LSM!$D$2:$D$370,"")} -> B-D | L14: {=_xlfn.XLOOKUP(1,(LSM!$A$2:$A$370=L$4)*(LSM!$T$2:$T$370=L$5)*(LSM!$B$2:$B$370=$E14),LSM!$C$2:$C$370,"")} -> 220.15 | M14: {=_xlfn.XLOOKUP(1,(LSM!$A$2:$A$370=L$4)*(LSM!$T$2:$T$370=L$5)*(LSM!$B$2:$B$370=$E14),LSM!$D$2:$D$370,"")} -> A | N14: {=_xlfn.XLOOKUP(1,(LSM!$A$2:$A$370=N$4)*(LSM!$T$2:$T$370=N$5)*(LSM!$B$2:$B$370=$E14),LSM!$C$2:$C$370,"")} -> 194.48 | O14: {=_xlfn.XLOOKUP(1,(LSM!$A$2:$A$370=N$4)*(LSM!$T$2:$T$370=N$5)*(LSM!$B$2:$B$370=$E14),LSM!$D$2:$D$370,"")} -> A | P14: {=_xlfn.XLOOKUP(1,(LSM!$A$2:$A$370=P$4)*(LSM!$T$2:$T$370=P$5)*(LSM!$B$2:$B$370=$E14),LSM!$C$2:$C$370,"")} -> 185.1 | Q14: {=_xlfn.XLOOKUP(1,(LSM!$A$2:$A$370=P$4)*(LSM!$T$2:$T$370=P$5)*(LSM!$B$2:$B$370=$E14),LSM!$D$2:$D$370,"")} -> A | R14: {=_xlfn.XLOOKUP(1,(LSM!$A$2:$A$370=R$4)*(LSM!$T$2:$T$370=R$5)*(LSM!$B$2:$B$370=$E14),LSM!$C$2:$C$370,"")} -> 247.95 | S14: {=_xlfn.XLOOKUP(1,(LSM!$A$2:$A$370=R$4)*(LSM!$T$2:$T$370=R$5)*(LSM!$B$2:$B$370=$E14),LSM!$D$2:$D$370,"")} -> A | T14: {=_xlfn.XLOOKUP(1,(LSM!$A$2:$A$370=T$4)*(LSM!$T$2:$T$370=T$5)*(LSM!$B$2:$B$370=$E14),LSM!$C$2:$C$370,"")} -> 263.16 | U14: {=_xlfn.XLOOKUP(1,(LSM!$A$2:$A$370=T$4)*(LSM!$T$2:$T$370=T$5)*(LSM!$B$2:$B$370=$E14),LSM!$D$2:$D$370,"")} -> CD | V14: {=_xlfn.XLOOKUP(1,(LSM!$A$2:$A$370=V$4)*(LSM!$T$2:$T$370=V$5)*(LSM!$B$2:$B$370=$E14),LSM!$C$2:$C$370,"")} -> 220.12 | W14: {=_xlfn.XLOOKUP(1,(LSM!$A$2:$A$370=V$4)*(LSM!$T$2:$T$370=V$5)*(LSM!$B$2:$B$370=$E14),LSM!$D$2:$D$370,"")} -> A | X14: {=_xlfn.XLOOKUP(1,(LSM!$A$2:$A$370=X$4)*(LSM!$T$2:$T$370=X$5)*(LSM!$B$2:$B$370=$E14),LSM!$C$2:$C$370,"")} | Y14: {=_xlfn.XLOOKUP(1,(LSM!$A$2:$A$370=X$4)*(LSM!$T$2:$T$370=X$5)*(LSM!$B$2:$B$370=$E14),LSM!$D$2:$D$370,"")} | AA14: =IF(H14>H$17,1,0) -> 0 | AB14: =IF(J14>J$17,1,0) -> 0 | AC14: =IF(L14>L$17,1,0) -> 0 | AD14: =IF(N14>N$17,1,0) -> 0 | AE14: =IF(P14>P$17,1,0) -> 0 | AF14: =IF(R14>R$17,1,0) -> 0 | AG14: =IF(T14>T$17,1,0) -> 0 | AH14: =IF(V14>V$17,1,0) -> 0 | AJ14: =SUM(AA14:AI14)/COUNT(AA14:AI14) -> 0
A15: =VLOOKUP(E15,VL_2020,2,FALSE) -> Pioneer P18216PWE | B15: =VLOOKUP(E15,VL_2020,3,FALSE) -> RR, LL, ENL, FOP | C15: =VLOOKUP(E15,VL_2020,4,FALSE) -> VT2P, HX1 | D15: =AJ15 -> 0.25 | E15: C25022 | F15: {=_xlfn.XLOOKUP(1,(LSM!$A$2:$A$370=F$4)*(LSM!$T$2:$T$370=F$5)*(LSM!$B$2:$B$370=$E15),LSM!$C$2:$C$370,"")} -> 230.06 | G15: {=_xlfn.XLOOKUP(1,(LSM!$A$2:$A$370=F$4)*(LSM!$T$2:$T$370=F$5)*(LSM!$B$2:$B$370=$E15),LSM!$D$2:$D$370,"")} -> CD | H15: {=_xlfn.XLOOKUP(1,(LSM!$A$2:$A$370=H$4)*(LSM!$T$2:$T$370=H$5)*(LSM!$B$2:$B$370=$E15),LSM!$C$2:$C$370,"")} -> 251.09 | I15: {=_xlfn.XLOOKUP(1,(LSM!$A$2:$A$370=H$4)*(LSM!$T$2:$T$370=H$5)*(LSM!$B$2:$B$370=$E15),LSM!$D$2:$D$370,"")} -> A | J15: {=_xlfn.XLOOKUP(1,(LSM!$A$2:$A$370=J$4)*(LSM!$T$2:$T$370=J$5)*(LSM!$B$2:$B$370=$E15),LSM!$C$2:$C$370,"")} -> 239.54 | K15: {=_xlfn.XLOOKUP(1,(LSM!$A$2:$A$370=J$4)*(LSM!$T$2:$T$370=J$5)*(LSM!$B$2:$B$370=$E15),LSM!$D$2:$D$370,"")} -> CD | L15: {=_xlfn.XLOOKUP(1,(LSM!$A$2:$A$370=L$4)*(LSM!$T$2:$T$370=L$5)*(LSM!$B$2:$B$370=$E15),LSM!$C$2:$C$370,"")} -> 245.57 | M15: {=_xlfn.XLOOKUP(1,(LSM!$A$2:$A$370=L$4)*(LSM!$T$2:$T$370=L$5)*(LSM!$B$2:$B$370=$E15),LSM!$D$2:$D$370,"")} -> A | N15: {=_xlfn.XLOOKUP(1,(LSM!$A$2:$A$370=N$4)*(LSM!$T$2:$T$370=N$5)*(LSM!$B$2:$B$370=$E15),LSM!$C$2:$C$370,"")} -> 192.32 | O15: {=_xlfn.XLOOKUP(1,(LSM!$A$2:$A$370=N$4)*(LSM!$T$2:$T$370=N$5)*(LSM!$B$2:$B$370=$E15),LSM!$D$2:$D$370,"")} -> A | P15: {=_xlfn.XLOOKUP(1,(LSM!$A$2:$A$370=P$4)*(LSM!$T$2:$T$370=P$5)*(LSM!$B$2:$B$370=$E15),LSM!$C$2:$C$370,"")} -> 197.11 | Q15: {=_xlfn.XLOOKUP(1,(LSM!$A$2:$A$370=P$4)*(LSM!$T$2:$T$370=P$5)*(LSM!$B$2:$B$370=$E15),LSM!$D$2:$D$370,"")} -> A | R15: {=_xlfn.XLOOKUP(1,(LSM!$A$2:$A$370=R$4)*(LSM!$T$2:$T$370=R$5)*(LSM!$B$2:$B$370=$E15),LSM!$C$2:$C$370,"")} -> 232.66 | S15: {=_xlfn.XLOOKUP(1,(LSM!$A$2:$A$370=R$4)*(LSM!$T$2:$T$370=R$5)*(LSM!$B$2:$B$370=$E15),LSM!$D$2:$D$370,"")} -> A | T15: {=_xlfn.XLOOKUP(1,(LSM!$A$2:$A$370=T$4)*(LSM!$T$2:$T$370=T$5)*(LSM!$B$2:$B$370=$E15),LSM!$C$2:$C$370,"")} -> 265.83 | U15: {=_xlfn.XLOOKUP(1,(LSM!$A$2:$A$370=T$4)*(LSM!$T$2:$T$370=T$5)*(LSM!$B$2:$B$370=$E15),LSM!$D$2:$D$370,"")} -> B-D | V15: {=_xlfn.XLOOKUP(1,(LSM!$A$2:$A$370=V$4)*(LSM!$T$2:$T$370=V$5)*(LSM!$B$2:$B$370=$E15),LSM!$C$2:$C$370,"")} -> 216.34 | W15: {=_xlfn.XLOOKUP(1,(LSM!$A$2:$A$370=V$4)*(LSM!$T$2:$T$370=V$5)*(LSM!$B$2:$B$370=$E15),LSM!$D$2:$D$370,"")} -> A | X15: {=_xlfn.XLOOKUP(1,(LSM!$A$2:$A$370=X$4)*(LSM!$T$2:$T$370=X$5)*(LSM!$B$2:$B$370=$E15),LSM!$C$2:$C$370,"")} | Y15: {=_xlfn.XLOOKUP(1,(LSM!$A$2:$A$370=X$4)*(LSM!$T$2:$T$370=X$5)*(LSM!$B$2:$B$370=$E15),LSM!$D$2:$D$370,"")} | AA15: =IF(H15>H$17,1,0) -> 0 | AB15: =IF(J15>J$17,1,0) -> 0 | AC15: =IF(L15>L$17,1,0) -> 1 | AD15: =IF(N15>N$17,1,0) -> 0 | AE15: =IF(P15>P$17,1,0) -> 1 | AF15: =IF(R15>R$17,1,0) -> 0 | AG15: =IF(T15>T$17,1,0) -> 0 | AH15: =IF(V15>V$17,1,0) -> 0 | AJ15: =SUM(AA15:AI15)/COUNT(AA15:AI15) -> 0.25
